Workbook
Name Análisis_de_desempeño_Mi1: 'Indicador Mi1'!$C$19

Sheet Asignatura 1 G1
A2: SISTEMA DE ASEGURAMIENTO DE RESULTADOS DE APRENDIZAJE - SARA INDICADORES RESULTADO DE APRENDIZAJE DE ASIGNATURA
AB4: ANÁLISIS DE INDICADORES Mi1 Y Mi2
A7: Profesor: | B7: Nombre completo del profesor | G7: Cedula: | H7: No. de identificación | K7: Asignatura: | L7: Nombre de la asignatura (Q10) | Q7: Grupo: | R7: No. de grupo (Q10) | X7: Periodo: | Y7: 202X-A/B | AH7: Guía de selección de categorías
AH8: Seleccione la categoría que describe el comportamiento obtenido | AP8: Seleccione la categoría que describe el comportamiento obtenido | AX8: Seleccione la categoría que describe el comportamiento obtenido | AZ8: Categorización
A9: Estudiante | B9: Programa | C9: RAE1 | K9: RAE2 | S9: RAE 3 | AC9: Mi1 RAE1 | AH9: Categorización | AK9: Mi 1 RAE2 | AP9: Categorización | AS9: Mi1 RAE3 | AX9: Categorización | AZ9: C1a : Distribución favorable: Excelencia predominante
C10: AF 1 | F10: AF2 | H10: AF3 | I10: Mi1 | J10: Nivel Mi1 | K10: AF4 | N10: AF5 | P10: AF6 | Q10: Mi1 | R10: Nivel Mi1 | S10: AF6 | V10: AF7 | X10: AF8 | Y10: Mi1 | Z10: Nivel Mi1 | AC10: B | AD10: R | AE10: A | AF10: E | AH10: C1a : Distribución favorable: Excelencia predominante | AK10: B | AL10: R | AM10: A | AN10: E | AP10: C1a : Distribución favorable: Excelencia predominante | AS10: B | AT10: R | AU10: A | AV10: E | AX10: C1a : Distribución favorable: Excelencia predominante | AZ10: C1b : Distribución favorable: Logro aceptable predominante
C11: AE1 | D11: AE2 | E11: AE3 | F11: AE4 | G11: AE5 | H11: AE6 | K11: AE7 | L11: AE8 | M11: AE9 | N11: AE10 | O11: AE11 | P11: AE12 | S11: AE13 | T11: AE14 | U11: AE15 | V11: AE16 | W11: AE17 | X11: AE18 | AC11: =COUNTIF($J:$J,AC10) -> 30 | AD11: =COUNTIF($J:$J,AD10) -> 0 | AE11: =COUNTIF($J:$J,AE10) -> 0 | AF11: =COUNTIF($J:$J,AF10) -> 0 | AK11: =COUNTIF($R:$R,AK10) -> 30 | AL11: =COUNTIF($R:$R,AL10) -> 0 | AM11: =COUNTIF($R:$R,AM10) -> 0 | AN11: =COUNTIF($R:$R,AN10) -> 0 | AS11: =COUNTIF($Z:$Z,AS10) -> 30 | AT11: =COUNTIF($Z:$Z,AT10) -> 0 | AU11: =COUNTIF($Z:$Z,AU10) -> 0 | AV11: =COUNTIF($Z:$Z,AV10) -> 0 | AZ11: C1c : Distribución favorable: Tendencia ascendente al logro B-E
C12: 0 | D12: 0 | E12: 0 | F12: 0 | G12: 0 | H12: 0 | I12: =AVERAGE(C12:H12) -> 0 | J12: =IF(I12="","Falta Nota",IF(I12<1.95,"B",IF(I12<2.95,"R",IF(I12<3.95,"A",IF(I12<=5,"E","nota>5,0"))))) -> B | K12: 0 | L12: 0 | M12: 0 | N12: 0 | O12: 0 | P12: 0 | Q12: =AVERAGE(K12:P12) -> 0 | R12: =IF(Q12="","Falta Nota",IF(Q12<1.95,"B",IF(Q12<2.95,"R",IF(Q12<3.95,"A",IF(Q12<=5,"E","nota>5,0"))))) -> B | S12: 0 | T12: 0 | U12: 0 | V12: 0 | W12: 0 | X12: 0 | Y12: =AVERAGE(S12:X12) -> 0 | Z12: =IF(Y12="","Falta Nota",IF(Y12<1.95,"B",IF(Y12<2.95,"R",IF(Y12<3.95,"A",IF(Y12<=5,"E","nota>5,0"))))) -> B | AZ12: C2a: Distribución por fortalecer: Alerta crítica predominante B
C13: 0 | D13: 0 | E13: 0 | F13: 0 | G13: 0 | H13: 0 | I13: =AVERAGE(C13:H13) -> 0 | J13: =IF(I13="","Falta Nota",IF(I13<1.95,"B",IF(I13<2.95,"R",IF(I13<3.95,"A",IF(I13<=5,"E","nota>5,0"))))) -> B | K13: 0 | L13: 0 | M13: 0 | N13: 0 | O13: 0 | P13: 0 | Q13: =AVERAGE(K13:P13) -> 0 | R13: =IF(Q13="","Falta Nota",IF(Q13<1.95,"B",IF(Q13<2.95,"R",IF(Q13<3.95,"A",IF(Q13<=5,"E","nota>5,0"))))) -> B | S13: 0 | T13: 0 | U13: 0 | V13: 0 | W13: 0 | X13: 0 | Y13: =AVERAGE(S13:X13) -> 0 | Z13: =IF(Y13="","Falta Nota",IF(Y13<1.95,"B",IF(Y13<2.95,"R",IF(Y13<3.95,"A",IF(Y13<=5,"E","nota>5,0"))))) -> B | AZ13: C2b: Distribución por fortalecer: Alerta moderada predominante R
C14: 0 | D14: 0 | E14: 0 | F14: 0 | G14: 0 | H14: 0 | I14: =AVERAGE(C14:H14) -> 0 | J14: =IF(I14="","Falta Nota",IF(I14<1.95,"B",IF(I14<2.95,"R",IF(I14<3.95,"A",IF(I14<=5,"E","nota>5,0"))))) -> B | K14: 0 | L14: 0 | M14: 0 | N14: 0 | O14: 0 | P14: 0 | Q14: =AVERAGE(K14:P14) -> 0 | R14: =IF(Q14="","Falta Nota",IF(Q14<1.95,"B",IF(Q14<2.95,"R",IF(Q14<3.95,"A",IF(Q14<=5,"E","nota>5,0"))))) -> B | S14: 0 | T14: 0 | U14: 0 | V14: 0 | W14: 0 | X14: 0 | Y14: =AVERAGE(S14:X14) -> 0 | Z14: =IF(Y14="","Falta Nota",IF(Y14<1.95,"B",IF(Y14<2.95,"R",IF(Y14<3.95,"A",IF(Y14<=5,"E","nota>5,0"))))) -> B | AZ14: C2c: Distribución por fortalecer: Tendencia descendente E-B
C15: 0 | D15: 0 | E15: 0 | F15: 0 | G15: 0 | H15: 0 | I15: =AVERAGE(C15:H15) -> 0 | J15: =IF(I15="","Falta Nota",IF(I15<1.95,"B",IF(I15<2.95,"R",IF(I15<3.95,"A",IF(I15<=5,"E","nota>5,0"))))) -> B | K15: 0 | L15: 0 | M15: 0 | N15: 0 | O15: 0 | P15: 0 | Q15: =AVERAGE(K15:P15) -> 0 | R15: =IF(Q15="","Falta Nota",IF(Q15<1.95,"B",IF(Q15<2.95,"R",IF(Q15<3.95,"A",IF(Q15<=5,"E","nota>5,0"))))) -> B | S15: 0 | T15: 0 | U15: 0 | V15: 0 | W15: 0 | X15: 0 | Y15: =AVERAGE(S15:X15) -> 0 | Z15: =IF(Y15="","Falta Nota",IF(Y15<1.95,"B",IF(Y15<2.95,"R",IF(Y15<3.95,"A",IF(Y15<=5,"E","nota>5,0"))))) -> B | AZ15: C3a: Distribución neutral: Distribución dispersa (heterogénea)
C16: 0 | D16: 0 | E16: 0 | F16: 0 | G16: 0 | H16: 0 | I16: =AVERAGE(C16:H16) -> 0 | J16: =IF(I16="","Falta Nota",IF(I16<1.95,"B",IF(I16<2.95,"R",IF(I16<3.95,"A",IF(I16<=5,"E","nota>5,0"))))) -> B | K16: 0 | L16: 0 | M16: 0 | N16: 0 | O16: 0 | P16: 0 | Q16: =AVERAGE(K16:P16) -> 0 | R16: =IF(Q16="","Falta Nota",IF(Q16<1.95,"B",IF(Q16<2.95,"R",IF(Q16<3.95,"A",IF(Q16<=5,"E","nota>5,0"))))) -> B | S16: 0 | T16: 0 | U16: 0 | V16: 0 | W16: 0 | X16: 0 | Y16: =AVERAGE(S16:X16) -> 0 | Z16: =IF(Y16="","Falta Nota",IF(Y16<1.95,"B",IF(Y16<2.95,"R",IF(Y16<3.95,"A",IF(Y16<=5,"E","nota>5,0"))))) -> B | AZ16: C3b: Distribución neutral: Umbral de logro (R/A predominante)
C17: 0 | D17: 0 | E17: 0 | F17: 0 | G17: 0 | H17: 0 | I17: =AVERAGE(C17:H17) -> 0 | J17: =IF(I17="","Falta Nota",IF(I17<1.95,"B",IF(I17<2.95,"R",IF(I17<3.95,"A",IF(I17<=5,"E","nota>5,0"))))) -> B | K17: 0 | L17: 0 | M17: 0 | N17: 0 | O17: 0 | P17: 0 | Q17: =AVERAGE(K17:P17) -> 0 | R17: =IF(Q17="","Falta Nota",IF(Q17<1.95,"B",IF(Q17<2.95,"R",IF(Q17<3.95,"A",IF(Q17<=5,"E","nota>5,0"))))) -> B | S17: 0 | T17: 0 | U17: 0 | V17: 0 | W17: 0 | X17: 0 | Y17: =AVERAGE(S17:X17) -> 0 | Z17: =IF(Y17="","Falta Nota",IF(Y17<1.95,"B",IF(Y17<2.95,"R",IF(Y17<3.95,"A",IF(Y17<=5,"E","nota>5,0"))))) -> B | AZ17: C3c: Distribución neutral: Logro con regazo significativo
C18: 0 | D18: 0 | E18: 0 | F18: 0 | G18: 0 | H18: 0 | I18: =AVERAGE(C18:H18) -> 0 | J18: =IF(I18="","Falta Nota",IF(I18<1.95,"B",IF(I18<2.95,"R",IF(I18<3.95,"A",IF(I18<=5,"E","nota>5,0"))))) -> B | K18: 0 | L18: 0 | M18: 0 | N18: 0 | O18: 0 | P18: 0 | Q18: =AVERAGE(K18:P18) -> 0 | R18: =IF(Q18="","Falta Nota",IF(Q18<1.95,"B",IF(Q18<2.95,"R",IF(Q18<3.95,"A",IF(Q18<=5,"E","nota>5,0"))))) -> B | S18: 0 | T18: 0 | U18: 0 | V18: 0 | W18: 0 | X18: 0 | Y18: =AVERAGE(S18:X18) -> 0 | Z18: =IF(Y18="","Falta Nota",IF(Y18<1.95,"B",IF(Y18<2.95,"R",IF(Y18<3.95,"A",IF(Y18<=5,"E","nota>5,0"))))) -> B | AZ18: C4a: Distribución polarizada: Polarización extrema (BE)
C19: 0 | D19: 0 | E19: 0 | F19: 0 | G19: 0 | H19: 0 | I19: =AVERAGE(C19:H19) -> 0 | J19: =IF(I19="","Falta Nota",IF(I19<1.95,"B",IF(I19<2.95,"R",IF(I19<3.95,"A",IF(I19<=5,"E","nota>5,0"))))) -> B | K19: 0 | L19: 0 | M19: 0 | N19: 0 | O19: 0 | P19: 0 | Q19: =AVERAGE(K19:P19) -> 0 | R19: =IF(Q19="","Falta Nota",IF(Q19<1.95,"B",IF(Q19<2.95,"R",IF(Q19<3.95,"A",IF(Q19<=5,"E","nota>5,0"))))) -> B | S19: 0 | T19: 0 | U19: 0 | V19: 0 | W19: 0 | X19: 0 | Y19: =AVERAGE(S19:X19) -> 0 | Z19: =IF(Y19="","Falta Nota",IF(Y19<1.95,"B",IF(Y19<2.95,"R",IF(Y19<3.95,"A",IF(Y19<=5,"E","nota>5,0"))))) -> B | AZ19: C4b: Distribución polarizada: Polarización media (RE)
C20: 0 | D20: 0 | E20: 0 | F20: 0 | G20: 0 | H20: 0 | I20: =AVERAGE(C20:H20) -> 0 | J20: =IF(I20="","Falta Nota",IF(I20<1.95,"B",IF(I20<2.95,"R",IF(I20<3.95,"A",IF(I20<=5,"E","nota>5,0"))))) -> B | K20: 0 | L20: 0 | M20: 0 | N20: 0 | O20: 0 | P20: 0 | Q20: =AVERAGE(K20:P20) -> 0 | R20: =IF(Q20="","Falta Nota",IF(Q20<1.95,"B",IF(Q20<2.95,"R",IF(Q20<3.95,"A",IF(Q20<=5,"E","nota>5,0"))))) -> B | S20: 0 | T20: 0 | U20: 0 | V20: 0 | W20: 0 | X20: 0 | Y20: =AVERAGE(S20:X20) -> 0 | Z20: =IF(Y20="","Falta Nota",IF(Y20<1.95,"B",IF(Y20<2.95,"R",IF(Y20<3.95,"A",IF(Y20<=5,"E","nota>5,0"))))) -> B | AZ20: C4c: Distribución polarizada: Polarización media (BR)
C21: 0 | D21: 0 | E21: 0 | F21: 0 | G21: 0 | H21: 0 | I21: =AVERAGE(C21:H21) -> 0 | J21: =IF(I21="","Falta Nota",IF(I21<1.95,"B",IF(I21<2.95,"R",IF(I21<3.95,"A",IF(I21<=5,"E","nota>5,0"))))) -> B | K21: 0 | L21: 0 | M21: 0 | N21: 0 | O21: 0 | P21: 0 | Q21: =AVERAGE(K21:P21) -> 0 | R21: =IF(Q21="","Falta Nota",IF(Q21<1.95,"B",IF(Q21<2.95,"R",IF(Q21<3.95,"A",IF(Q21<=5,"E","nota>5,0"))))) -> B | S21: 0 | T21: 0 | U21: 0 | V21: 0 | W21: 0 | X21: 0 | Y21: =AVERAGE(S21:X21) -> 0 | Z21: =IF(Y21="","Falta Nota",IF(Y21<1.95,"B",IF(Y21<2.95,"R",IF(Y21<3.95,"A",IF(Y21<=5,"E","nota>5,0"))))) -> B
C22: 0 | D22: 0 | E22: 0 | F22: 0 | G22: 0 | H22: 0 | I22: =AVERAGE(C22:H22) -> 0 | J22: =IF(I22="","Falta Nota",IF(I22<1.95,"B",IF(I22<2.95,"R",IF(I22<3.95,"A",IF(I22<=5,"E","nota>5,0"))))) -> B | K22: 0 | L22: 0 | M22: 0 | N22: 0 | O22: 0 | P22: 0 | Q22: =AVERAGE(K22:P22) -> 0 | R22: =IF(Q22="","Falta Nota",IF(Q22<1.95,"B",IF(Q22<2.95,"R",IF(Q22<3.95,"A",IF(Q22<=5,"E","nota>5,0"))))) -> B | S22: 0 | T22: 0 | U22: 0 | V22: 0 | W22: 0 | X22: 0 | Y22: =AVERAGE(S22:X22) -> 0 | Z22: =IF(Y22="","Falta Nota",IF(Y22<1.95,"B",IF(Y22<2.95,"R",IF(Y22<3.95,"A",IF(Y22<=5,"E","nota>5,0"))))) -> B
C23: 0 | D23: 0 | E23: 0 | F23: 0 | G23: 0 | H23: 0 | I23: =AVERAGE(C23:H23) -> 0 | J23: =IF(I23="","Falta Nota",IF(I23<1.95,"B",IF(I23<2.95,"R",IF(I23<3.95,"A",IF(I23<=5,"E","nota>5,0"))))) -> B | K23: 0 | L23: 0 | M23: 0 | N23: 0 | O23: 0 | P23: 0 | Q23: =AVERAGE(K23:P23) -> 0 | R23: =IF(Q23="","Falta Nota",IF(Q23<1.95,"B",IF(Q23<2.95,"R",IF(Q23<3.95,"A",IF(Q23<=5,"E","nota>5,0"))))) -> B | S23: 0 | T23: 0 | U23: 0 | V23: 0 | W23: 0 | X23: 0 | Y23: =AVERAGE(S23:X23) -> 0 | Z23: =IF(Y23="","Falta Nota",IF(Y23<1.95,"B",IF(Y23<2.95,"R",IF(Y23<3.95,"A",IF(Y23<=5,"E","nota>5,0"))))) -> B
C24: 0 | D24: 0 | E24: 0 | F24: 0 | G24: 0 | H24: 0 | I24: =AVERAGE(C24:H24) -> 0 | J24: =IF(I24="","Falta Nota",IF(I24<1.95,"B",IF(I24<2.95,"R",IF(I24<3.95,"A",IF(I24<=5,"E","nota>5,0"))))) -> B | K24: 0 | L24: 0 | M24: 0 | N24: 0 | O24: 0 | P24: 0 | Q24: =AVERAGE(K24:P24) -> 0 | R24: =IF(Q24="","Falta Nota",IF(Q24<1.95,"B",IF(Q24<2.95,"R",IF(Q24<3.95,"A",IF(Q24<=5,"E","nota>5,0"))))) -> B | S24: 0 | T24: 0 | U24: 0 | V24: 0 | W24: 0 | X24: 0 | Y24: =AVERAGE(S24:X24) -> 0 | Z24: =IF(Y24="","Falta Nota",IF(Y24<1.95,"B",IF(Y24<2.95,"R",IF(Y24<3.95,"A",IF(Y24<=5,"E","nota>5,0"))))) -> B
C25: 0 | D25: 0 | E25: 0 | F25: 0 | G25: 0 | H25: 0 | I25: =AVERAGE(C25:H25) -> 0 | J25: =IF(I25="","Falta Nota",IF(I25<1.95,"B",IF(I25<2.95,"R",IF(I25<3.95,"A",IF(I25<=5,"E","nota>5,0"))))) -> B | K25: 0 | L25: 0 | M25: 0 | N25: 0 | O25: 0 | P25: 0 | Q25: =AVERAGE(K25:P25) -> 0 | R25: =IF(Q25="","Falta Nota",IF(Q25<1.95,"B",IF(Q25<2.95,"R",IF(Q25<3.95,"A",IF(Q25<=5,"E","nota>5,0"))))) -> B | S25: 0 | T25: 0 | U25: 0 | V25: 0 | W25: 0 | X25: 0 | Y25: =AVERAGE(S25:X25) -> 0 | Z25: =IF(Y25="","Falta Nota",IF(Y25<1.95,"B",IF(Y25<2.95,"R",IF(Y25<3.95,"A",IF(Y25<=5,"E","nota>5,0"))))) -> B
C26: 0 | D26: 0 | E26: 0 | F26: 0 | G26: 0 | H26: 0 | I26: =AVERAGE(C26:H26) -> 0 | J26: =IF(I26="","Falta Nota",IF(I26<1.95,"B",IF(I26<2.95,"R",IF(I26<3.95,"A",IF(I26<=5,"E","nota>5,0"))))) -> B | K26: 0 | L26: 0 | M26: 0 | N26: 0 | O26: 0 | P26: 0 | Q26: =AVERAGE(K26:P26) -> 0 | R26: =IF(Q26="","Falta Nota",IF(Q26<1.95,"B",IF(Q26<2.95,"R",IF(Q26<3.95,"A",IF(Q26<=5,"E","nota>5,0"))))) -> B | S26: 0 | T26: 0 | U26: 0 | V26: 0 | W26: 0 | X26: 0 | Y26: =AVERAGE(S26:X26) -> 0 | Z26: =IF(Y26="","Falta Nota",IF(Y26<1.95,"B",IF(Y26<2.95,"R",IF(Y26<3.95,"A",IF(Y26<=5,"E","nota>5,0"))))) -> B
C27: 0 | D27: 0 | E27: 0 | F27: 0 | G27: 0 | H27: 0 | I27: =AVERAGE(C27:H27) -> 0 | J27: =IF(I27="","Falta Nota",IF(I27<1.95,"B",IF(I27<2.95,"R",IF(I27<3.95,"A",IF(I27<=5,"E","nota>5,0"))))) -> B | K27: 0 | L27: 0 | M27: 0 | N27: 0 | O27: 0 | P27: 0 | Q27: =AVERAGE(K27:P27) -> 0 | R27: =IF(Q27="","Falta Nota",IF(Q27<1.95,"B",IF(Q27<2.95,"R",IF(Q27<3.95,"A",IF(Q27<=5,"E","nota>5,0"))))) -> B | S27: 0 | T27: 0 | U27: 0 | V27: 0 | W27: 0 | X27: 0 | Y27: =AVERAGE(S27:X27) -> 0 | Z27: =IF(Y27="","Falta Nota",IF(Y27<1.95,"B",IF(Y27<2.95,"R",IF(Y27<3.95,"A",IF(Y27<=5,"E","nota>5,0"))))) -> B
C28: 0 | D28: 0 | E28: 0 | F28: 0 | G28: 0 | H28: 0 | I28: =AVERAGE(C28:H28) -> 0 | J28: =IF(I28="","Falta Nota",IF(I28<1.95,"B",IF(I28<2.95,"R",IF(I28<3.95,"A",IF(I28<=5,"E","nota>5,0"))))) -> B | K28: 0 | L28: 0 | M28: 0 | N28: 0 | O28: 0 | P28: 0 | Q28: =AVERAGE(K28:P28) -> 0 | R28: =IF(Q28="","Falta Nota",IF(Q28<1.95,"B",IF(Q28<2.95,"R",IF(Q28<3.95,"A",IF(Q28<=5,"E","nota>5,0"))))) -> B | S28: 0 | T28: 0 | U28: 0 | V28: 0 | W28: 0 | X28: 0 | Y28: =AVERAGE(S28:X28) -> 0 | Z28: =IF(Y28="","Falta Nota",IF(Y28<1.95,"B",IF(Y28<2.95,"R",IF(Y28<3.95,"A",IF(Y28<=5,"E","nota>5,0"))))) -> B
C29: 0 | D29: 0 | E29: 0 | F29: 0 | G29: 0 | H29: 0 | I29: =AVERAGE(C29:H29) -> 0 | J29: =IF(I29="","Falta Nota",IF(I29<1.95,"B",IF(I29<2.95,"R",IF(I29<3.95,"A",IF(I29<=5,"E","nota>5,0"))))) -> B | K29: 0 | L29: 0 | M29: 0 | N29: 0 | O29: 0 | P29: 0 | Q29: =AVERAGE(K29:P29) -> 0 | R29: =IF(Q29="","Falta Nota",IF(Q29<1.95,"B",IF(Q29<2.95,"R",IF(Q29<3.95,"A",IF(Q29<=5,"E","nota>5,0"))))) -> B | S29: 0 | T29: 0 | U29: 0 | V29: 0 | W29: 0 | X29: 0 | Y29: =AVERAGE(S29:X29) -> 0 | Z29: =IF(Y29="","Falta Nota",IF(Y29<1.95,"B",IF(Y29<2.95,"R",IF(Y29<3.95,"A",IF(Y29<=5,"E","nota>5,0"))))) -> B | AH29: Seleccione la categoría que describe el comportamiento obtenido | AP29: Seleccione la categoría que describe el comportamiento obtenido | AX29: Seleccione la categoría que describe el comportamiento obtenido
C30: 0 | D30: 0 | E30: 0 | F30: 0 | G30: 0 | H30: 0 | I30: =AVERAGE(C30:H30) -> 0 | J30: =IF(I30="","Falta Nota",IF(I30<1.95,"B",IF(I30<2.95,"R",IF(I30<3.95,"A",IF(I30<=5,"E","nota>5,0"))))) -> B | K30: 0 | L30: 0 | M30: 0 | N30: 0 | O30: 0 | P30: 0 | Q30: =AVERAGE(K30:P30) -> 0 | R30: =IF(Q30="","Falta Nota",IF(Q30<1.95,"B",IF(Q30<2.95,"R",IF(Q30<3.95,"A",IF(Q30<=5,"E","nota>5,0"))))) -> B | S30: 0 | T30: 0 | U30: 0 | V30: 0 | W30: 0 | X30: 0 | Y30: =AVERAGE(S30:X30) -> 0 | Z30: =IF(Y30="","Falta Nota",IF(Y30<1.95,"B",IF(Y30<2.95,"R",IF(Y30<3.95,"A",IF(Y30<=5,"E","nota>5,0"))))) -> B | AC30: Mi2 RAE1 | AH30: Categorización | AK30: Mi2 RAE2 | AP30: Categorización | AS30: Mi2 RAE3 | AX30: Categorización
C31: 0 | D31: 0 | E31: 0 | F31: 0 | G31: 0 | H31: 0 | I31: =AVERAGE(C31:H31) -> 0 | J31: =IF(I31="","Falta Nota",IF(I31<1.95,"B",IF(I31<2.95,"R",IF(I31<3.95,"A",IF(I31<=5,"E","nota>5,0"))))) -> B | K31: 0 | L31: 0 | M31: 0 | N31: 0 | O31: 0 | P31: 0 | Q31: =AVERAGE(K31:P31) -> 0 | R31: =IF(Q31="","Falta Nota",IF(Q31<1.95,"B",IF(Q31<2.95,"R",IF(Q31<3.95,"A",IF(Q31<=5,"E","nota>5,0"))))) -> B | S31: 0 | T31: 0 | U31: 0 | V31: 0 | W31: 0 | X31: 0 | Y31: =AVERAGE(S31:X31) -> 0 | Z31: =IF(Y31="","Falta Nota",IF(Y31<1.95,"B",IF(Y31<2.95,"R",IF(Y31<3.95,"A",IF(Y31<=5,"E","nota>5,0"))))) -> B | AC31: B | AD31: R | AE31: A | AF31: E | AH31: C1a : Distribución favorable: Excelencia predominante | AK31: B | AL31: R | AM31: A | AN31: E | AP31: C1a : Distribución favorable: Excelencia predominante | AS31: B | AT31: R | AU31: A | AV31: E | AX31: C1a : Distribución favorable: Excelencia predominante
C32: 0 | D32: 0 | E32: 0 | F32: 0 | G32: 0 | H32: 0 | I32: =AVERAGE(C32:H32) -> 0 | J32: =IF(I32="","Falta Nota",IF(I32<1.95,"B",IF(I32<2.95,"R",IF(I32<3.95,"A",IF(I32<=5,"E","nota>5,0"))))) -> B | K32: 0 | L32: 0 | M32: 0 | N32: 0 | O32: 0 | P32: 0 | Q32: =AVERAGE(K32:P32) -> 0 | R32: =IF(Q32="","Falta Nota",IF(Q32<1.95,"B",IF(Q32<2.95,"R",IF(Q32<3.95,"A",IF(Q32<=5,"E","nota>5,0"))))) -> B | S32: 0 | T32: 0 | U32: 0 | V32: 0 | W32: 0 | X32: 0 | Y32: =AVERAGE(S32:X32) -> 0 | Z32: =IF(Y32="","Falta Nota",IF(Y32<1.95,"B",IF(Y32<2.95,"R",IF(Y32<3.95,"A",IF(Y32<=5,"E","nota>5,0"))))) -> B | AC32: =COUNTIF($C43:$H43,AC31) -> 6 | AD32: =COUNTIF($C43:$H43,AD31) -> 0 | AE32: =COUNTIF($C43:$H43,AE31) -> 0 | AF32: =COUNTIF($C43:$H43,AF31) -> 0 | AK32: =COUNTIF($K43:$P43,AK31) -> 6 | AL32: =COUNTIF($K43:$P43,AL31) -> 0 | AM32: =COUNTIF($K43:$P43,AM31) -> 0 | AN32: =COUNTIF($K43:$P43,AN31) -> 0 | AS32: =COUNTIF($S43:$X43,AS31) -> 6 | AT32: =COUNTIF($S43:$X43,AT31) -> 0 | AU32: =COUNTIF($S43:$X43,AU31) -> 0 | AV32: =COUNTIF($S43:$X43,AV31) -> 0
C33: 0 | D33: 0 | E33: 0 | F33: 0 | G33: 0 | H33: 0 | I33: =AVERAGE(C33:H33) -> 0 | J33: =IF(I33="","Falta Nota",IF(I33<1.95,"B",IF(I33<2.95,"R",IF(I33<3.95,"A",IF(I33<=5,"E","nota>5,0"))))) -> B | K33: 0 | L33: 0 | M33: 0 | N33: 0 | O33: 0 | P33: 0 | Q33: =AVERAGE(K33:P33) -> 0 | R33: =IF(Q33="","Falta Nota",IF(Q33<1.95,"B",IF(Q33<2.95,"R",IF(Q33<3.95,"A",IF(Q33<=5,"E","nota>5,0"))))) -> B | S33: 0 | T33: 0 | U33: 0 | V33: 0 | W33: 0 | X33: 0 | Y33: =AVERAGE(S33:X33) -> 0 | Z33: =IF(Y33="","Falta Nota",IF(Y33<1.95,"B",IF(Y33<2.95,"R",IF(Y33<3.95,"A",IF(Y33<=5,"E","nota>5,0"))))) -> B
C34: 0 | D34: 0 | E34: 0 | F34: 0 | G34: 0 | H34: 0 | I34: =AVERAGE(C34:H34) -> 0 | J34: =IF(I34="","Falta Nota",IF(I34<1.95,"B",IF(I34<2.95,"R",IF(I34<3.95,"A",IF(I34<=5,"E","nota>5,0"))))) -> B | K34: 0 | L34: 0 | M34: 0 | N34: 0 | O34: 0 | P34: 0 | Q34: =AVERAGE(K34:P34) -> 0 | R34: =IF(Q34="","Falta Nota",IF(Q34<1.95,"B",IF(Q34<2.95,"R",IF(Q34<3.95,"A",IF(Q34<=5,"E","nota>5,0"))))) -> B | S34: 0 | T34: 0 | U34: 0 | V34: 0 | W34: 0 | X34: 0 | Y34: =AVERAGE(S34:X34) -> 0 | Z34: =IF(Y34="","Falta Nota",IF(Y34<1.95,"B",IF(Y34<2.95,"R",IF(Y34<3.95,"A",IF(Y34<=5,"E","nota>5,0"))))) -> B
C35: 0 | D35: 0 | E35: 0 | F35: 0 | G35: 0 | H35: 0 | I35: =AVERAGE(C35:H35) -> 0 | J35: =IF(I35="","Falta Nota",IF(I35<1.95,"B",IF(I35<2.95,"R",IF(I35<3.95,"A",IF(I35<=5,"E","nota>5,0"))))) -> B | K35: 0 | L35: 0 | M35: 0 | N35: 0 | O35: 0 | P35: 0 | Q35: =AVERAGE(K35:P35) -> 0 | R35: =IF(Q35="","Falta Nota",IF(Q35<1.95,"B",IF(Q35<2.95,"R",IF(Q35<3.95,"A",IF(Q35<=5,"E","nota>5,0"))))) -> B | S35: 0 | T35: 0 | U35: 0 | V35: 0 | W35: 0 | X35: 0 | Y35: =AVERAGE(S35:X35) -> 0 | Z35: =IF(Y35="","Falta Nota",IF(Y35<1.95,"B",IF(Y35<2.95,"R",IF(Y35<3.95,"A",IF(Y35<=5,"E","nota>5,0"))))) -> B
C36: 0 | D36: 0 | E36: 0 | F36: 0 | G36: 0 | H36: 0 | I36: =AVERAGE(C36:H36) -> 0 | J36: =IF(I36="","Falta Nota",IF(I36<1.95,"B",IF(I36<2.95,"R",IF(I36<3.95,"A",IF(I36<=5,"E","nota>5,0"))))) -> B | K36: 0 | L36: 0 | M36: 0 | N36: 0 | O36: 0 | P36: 0 | Q36: =AVERAGE(K36:P36) -> 0 | R36: =IF(Q36="","Falta Nota",IF(Q36<1.95,"B",IF(Q36<2.95,"R",IF(Q36<3.95,"A",IF(Q36<=5,"E","nota>5,0"))))) -> B | S36: 0 | T36: 0 | U36: 0 | V36: 0 | W36: 0 | X36: 0 | Y36: =AVERAGE(S36:X36) -> 0 | Z36: =IF(Y36="","Falta Nota",IF(Y36<1.95,"B",IF(Y36<2.95,"R",IF(Y36<3.95,"A",IF(Y36<=5,"E","nota>5,0"))))) -> B
C37: 0 | D37: 0 | E37: 0 | F37: 0 | G37: 0 | H37: 0 | I37: =AVERAGE(C37:H37) -> 0 | J37: =IF(I37="","Falta Nota",IF(I37<1.95,"B",IF(I37<2.95,"R",IF(I37<3.95,"A",IF(I37<=5,"E","nota>5,0"))))) -> B | K37: 0 | L37: 0 | M37: 0 | N37: 0 | O37: 0 | P37: 0 | Q37: =AVERAGE(K37:P37) -> 0 | R37: =IF(Q37="","Falta Nota",IF(Q37<1.95,"B",IF(Q37<2.95,"R",IF(Q37<3.95,"A",IF(Q37<=5,"E","nota>5,0"))))) -> B | S37: 0 | T37: 0 | U37: 0 | V37: 0 | W37: 0 | X37: 0 | Y37: =AVERAGE(S37:X37) -> 0 | Z37: =IF(Y37="","Falta Nota",IF(Y37<1.95,"B",IF(Y37<2.95,"R",IF(Y37<3.95,"A",IF(Y37<=5,"E","nota>5,0"))))) -> B
C38: 0 | D38: 0 | E38: 0 | F38: 0 | G38: 0 | H38: 0 | I38: =AVERAGE(C38:H38) -> 0 | J38: =IF(I38="","Falta Nota",IF(I38<1.95,"B",IF(I38<2.95,"R",IF(I38<3.95,"A",IF(I38<=5,"E","nota>5,0"))))) -> B | K38: 0 | L38: 0 | M38: 0 | N38: 0 | O38: 0 | P38: 0 | Q38: =AVERAGE(K38:P38) -> 0 | R38: =IF(Q38="","Falta Nota",IF(Q38<1.95,"B",IF(Q38<2.95,"R",IF(Q38<3.95,"A",IF(Q38<=5,"E","nota>5,0"))))) -> B | S38: 0 | T38: 0 | U38: 0 | V38: 0 | W38: 0 | X38: 0 | Y38: =AVERAGE(S38:X38) -> 0 | Z38: =IF(Y38="","Falta Nota",IF(Y38<1.95,"B",IF(Y38<2.95,"R",IF(Y38<3.95,"A",IF(Y38<=5,"E","nota>5,0"))))) -> B
C39: 0 | D39: 0 | E39: 0 | F39: 0 | G39: 0 | H39: 0 | I39: =AVERAGE(C39:H39) -> 0 | J39: =IF(I39="","Falta Nota",IF(I39<1.95,"B",IF(I39<2.95,"R",IF(I39<3.95,"A",IF(I39<=5,"E","nota>5,0"))))) -> B | K39: 0 | L39: 0 | M39: 0 | N39: 0 | O39: 0 | P39: 0 | Q39: =AVERAGE(K39:P39) -> 0 | R39: =IF(Q39="","Falta Nota",IF(Q39<1.95,"B",IF(Q39<2.95,"R",IF(Q39<3.95,"A",IF(Q39<=5,"E","nota>5,0"))))) -> B | S39: 0 | T39: 0 | U39: 0 | V39: 0 | W39: 0 | X39: 0 | Y39: =AVERAGE(S39:X39) -> 0 | Z39: =IF(Y39="","Falta Nota",IF(Y39<1.95,"B",IF(Y39<2.95,"R",IF(Y39<3.95,"A",IF(Y39<=5,"E","nota>5,0"))))) -> B
C40: 0 | D40: 0 | E40: 0 | F40: 0 | G40: 0 | H40: 0 | I40: =AVERAGE(C40:H40) -> 0 | J40: =IF(I40="","Falta Nota",IF(I40<1.95,"B",IF(I40<2.95,"R",IF(I40<3.95,"A",IF(I40<=5,"E","nota>5,0"))))) -> B | K40: 0 | L40: 0 | M40: 0 | N40: 0 | O40: 0 | P40: 0 | Q40: =AVERAGE(K40:P40) -> 0 | R40: =IF(Q40="","Falta Nota",IF(Q40<1.95,"B",IF(Q40<2.95,"R",IF(Q40<3.95,"A",IF(Q40<=5,"E","nota>5,0"))))) -> B | S40: 0 | T40: 0 | U40: 0 | V40: 0 | W40: 0 | X40: 0 | Y40: =AVERAGE(S40:X40) -> 0 | Z40: =IF(Y40="","Falta Nota",IF(Y40<1.95,"B",IF(Y40<2.95,"R",IF(Y40<3.95,"A",IF(Y40<=5,"E","nota>5,0"))))) -> B
C41: 0 | D41: 0 | E41: 0 | F41: 0 | G41: 0 | H41: 0 | I41: =AVERAGE(C41:H41) -> 0 | J41: =IF(I41="","Falta Nota",IF(I41<1.95,"B",IF(I41<2.95,"R",IF(I41<3.95,"A",IF(I41<=5,"E","nota>5,0"))))) -> B | K41: 0 | L41: 0 | M41: 0 | N41: 0 | O41: 0 | P41: 0 | Q41: =AVERAGE(K41:P41) -> 0 | R41: =IF(Q41="","Falta Nota",IF(Q41<1.95,"B",IF(Q41<2.95,"R",IF(Q41<3.95,"A",IF(Q41<=5,"E","nota>5,0"))))) -> B | S41: 0 | T41: 0 | U41: 0 | V41: 0 | W41: 0 | X41: 0 | Y41: =AVERAGE(S41:X41) -> 0 | Z41: =IF(Y41="","Falta Nota",IF(Y41<1.95,"B",IF(Y41<2.95,"R",IF(Y41<3.95,"A",IF(Y41<=5,"E","nota>5,0"))))) -> B
A42: Mi2 | C42: =AVERAGE(C12:C41) -> 0 | D42: =AVERAGE(D12:D41) -> 0 | E42: =AVERAGE(E12:E41) -> 0 | F42: =AVERAGE(F12:F41) -> 0 | G42: =AVERAGE(G12:G41) -> 0 | H42: =AVERAGE(H12:H41) -> 0 | K42: =AVERAGE(K12:K41) -> 0 | L42: =AVERAGE(L12:L41) -> 0 | M42: =AVERAGE(M12:M41) -> 0 | N42: =AVERAGE(N12:N41) -> 0 | O42: =AVERAGE(O12:O41) -> 0 | P42: =AVERAGE(P12:P41) -> 0 | S42: =AVERAGE(S12:S41) -> 0 | T42: =AVERAGE(T12:T41) -> 0 | U42: =AVERAGE(U12:U41) -> 0 | V42: =AVERAGE(V12:V41) -> 0 | W42: =AVERAGE(W12:W41) -> 0 | X42: =AVERAGE(X12:X41) -> 0
A43: Nivel M2 | C43: =IF(C42="","Falta Nota",IF(C42<1.95,"B",IF(C42<2.95,"R",IF(C42<3.95,"A",IF(C42<=5,"E","nota>5,0"))))) -> B | D43: =IF(D42="","Falta Nota",IF(D42<1.95,"B",IF(D42<2.95,"R",IF(D42<3.95,"A",IF(D42<=5,"E","nota>5,0"))))) -> B | E43: =IF(E42="","Falta Nota",IF(E42<1.95,"B",IF(E42<2.95,"R",IF(E42<3.95,"A",IF(E42<=5,"E","nota>5,0"))))) -> B | F43: =IF(F42="","Falta Nota",IF(F42<1.95,"B",IF(F42<2.95,"R",IF(F42<3.95,"A",IF(F42<=5,"E","nota>5,0"))))) -> B | G43: =IF(G42="","Falta Nota",IF(G42<1.95,"B",IF(G42<2.95,"R",IF(G42<3.95,"A",IF(G42<=5,"E","nota>5,0"))))) -> B | H43: =IF(H42="","Falta Nota",IF(H42<1.95,"B",IF(H42<2.95,"R",IF(H42<3.95,"A",IF(H42<=5,"E","nota>5,0"))))) -> B | K43: =IF(K42="","Falta Nota",IF(K42<1.95,"B",IF(K42<2.95,"R",IF(K42<3.95,"A",IF(K42<=5,"E","nota>5,0"))))) -> B | L43: =IF(L42="","Falta Nota",IF(L42<1.95,"B",IF(L42<2.95,"R",IF(L42<3.95,"A",IF(L42<=5,"E","nota>5,0"))))) -> B | M43: =IF(M42="","Falta Nota",IF(M42<1.95,"B",IF(M42<2.95,"R",IF(M42<3.95,"A",IF(M42<=5,"E","nota>5,0"))))) -> B | N43: =IF(N42="","Falta Nota",IF(N42<1.95,"B",IF(N42<2.95,"R",IF(N42<3.95,"A",IF(N42<=5,"E","nota>5,0"))))) -> B | O43: =IF(O42="","Falta Nota",IF(O42<1.95,"B",IF(O42<2.95,"R",IF(O42<3.95,"A",IF(O42<=5,"E","nota>5,0"))))) -> B | P43: =IF(P42="","Falta Nota",IF(P42<1.95,"B",IF(P42<2.95,"R",IF(P42<3.95,"A",IF(P42<=5,"E","nota>5,0"))))) -> B | S43: =IF(S42="","Falta Nota",IF(S42<1.95,"B",IF(S42<2.95,"R",IF(S42<3.95,"A",IF(S42<=5,"E","nota>5,0"))))) -> B | T43: =IF(T42="","Falta Nota",IF(T42<1.95,"B",IF(T42<2.95,"R",IF(T42<3.95,"A",IF(T42<=5,"E","nota>5,0"))))) -> B | U43: =IF(U42="","Falta Nota",IF(U42<1.95,"B",IF(U42<2.95,"R",IF(U42<3.95,"A",IF(U42<=5,"E","nota>5,0"))))) -> B | V43: =IF(V42="","Falta Nota",IF(V42<1.95,"B",IF(V42<2.95,"R",IF(V42<3.95,"A",IF(V42<=5,"E","nota>5,0"))))) -> B | W43: =IF(W42="","Falta Nota",IF(W42<1.95,"B",IF(W42<2.95,"R",IF(W42<3.95,"A",IF(W42<=5,"E","nota>5,0"))))) -> B | X43: =IF(X42="","Falta Nota",IF(X42<1.95,"B",IF(X42<2.95,"R",IF(X42<3.95,"A",IF(X42<=5,"E","nota>5,0"))))) -> B

Sheet Asignatura 2 G2
B2: SISTEMA DE ASEGURAMIENTO DE RESULTADOS DE APRENDIZAJE - SARA INDICADORES RESULTADO DE APRENDIZAJE DE ASIGNATURA
AC4: ANÁLISIS DE INDICADORES Mi1 Y Mi2
B6: Profesor: | C6: ='Asignatura 1 G1'!B7 -> Nombre completo del profesor | H6: Cedula: | I6: ='Asignatura 1 G1'!H7 -> No. de identificación | L6: Asignatura: | M6: Nombre de la asignatura (Q10) | R6: Grupo: | S6: No. de grupo (Q10) | Y6: Periodo: | Z6: ='Asignatura 1 G1'!Y7 -> 202X-A/B | AI6: Guía de selección de categorías
AI7: Seleccione la categoría que describe el comportamiento obtenido | AR7: Seleccione la categoría que describe el comportamiento obtenido | BA7: Seleccione la categoría que describe el comportamiento obtenido | BC7: Categorización
B8: Estudiante | C8: Programa | D8: RAE1 | L8: RAE2 | T8: RAE 3 | AD8: Mi1 RAE1 | AI8: Categorización | AM8: Mi 1 RAE2 | AR8: Categorización | AV8: Mi1 RAE3 | BA8: Categorización | BC8: C1a : Distribución favorable: Excelencia predominante
D9: AF 1 | G9: AF2 | I9: AF3 | J9: Mi1 | K9: Nivel Mi1 | L9: AF4 | O9: AF5 | Q9: AF6 | R9: Mi1 | S9: Nivel Mi1 | T9: AF6 | W9: AF7 | Y9: AF8 | Z9: Mi1 | AA9: Nivel Mi1 | AD9: B | AE9: R | AF9: A | AG9: E | AI9: C1a : Distribución favorable: Excelencia predominante | AM9: B | AN9: R | AO9: A | AP9: E | AR9: C1a : Distribución favorable: Excelencia predominante | AV9: B | AW9: R | AX9: A | AY9: E | BA9: C1a : Distribución favorable: Excelencia predominante | BC9: C1b : Distribución favorable: Logro aceptable predominante
D10: AE1 | E10: AE2 | F10: AE3 | G10: AE4 | H10: AE5 | I10: AE6 | L10: AE7 | M10: AE8 | N10: AE9 | O10: AE10 | P10: AE11 | Q10: AE12 | T10: AE13 | U10: AE14 | V10: AE15 | W10: AE16 | X10: AE17 | Y10: AE18 | AD10: =COUNTIF($K:$K,AD9) -> 30 | AE10: =COUNTIF($K:$K,AE9) -> 0 | AF10: =COUNTIF($K:$K,AF9) -> 0 | AG10: =COUNTIF($K:$K,AG9) -> 0 | AM10: =COUNTIF($S:$S,AM9) -> 30 | AN10: =COUNTIF($S:$S,AN9) -> 0 | AO10: =COUNTIF($S:$S,AO9) -> 0 | AP10: =COUNTIF($S:$S,AP9) -> 0 | AV10: =COUNTIF($AA:$AA,AV9) -> 30 | AW10: =COUNTIF($AA:$AA,AW9) -> 0 | AX10: =COUNTIF($AA:$AA,AX9) -> 0 | AY10: =COUNTIF($AA:$AA,AY9) -> 0 | BC10: C1c : Distribución favorable: Tendencia ascendente al logro B-E
A11: 1 | D11: 0 | E11: 0 | F11: 0 | G11: 0 | H11: 0 | I11: 0 | J11: =AVERAGE(D11:I11) -> 0 | K11: =IF(J11="","Falta Nota",IF(J11<1.95,"B",IF(J11<2.95,"R",IF(J11<3.95,"A",IF(J11<=5,"E","nota>5,0"))))) -> B | L11: 0 | M11: 0 | N11: 0 | O11: 0 | P11: 0 | Q11: 0 | R11: =AVERAGE(L11:Q11) -> 0 | S11: =IF(R11="","Falta Nota",IF(R11<1.95,"B",IF(R11<2.95,"R",IF(R11<3.95,"A",IF(R11<=5,"E","nota>5,0"))))) -> B | T11: 0 | U11: 0 | V11: 0 | W11: 0 | X11: 0 | Y11: 0 | Z11: =AVERAGE(T11:Y11) -> 0 | AA11: =IF(Z11="","Falta Nota",IF(Z11<1.95,"B",IF(Z11<2.95,"R",IF(Z11<3.95,"A",IF(Z11<=5,"E","nota>5,0"))))) -> B | BC11: C2a: Distribución por fortalecer: Alerta crítica predominante B
A12: 2 | D12: 0 | E12: 0 | F12: 0 | G12: 0 | H12: 0 | I12: 0 | J12: =AVERAGE(D12:I12) -> 0 | K12: =IF(J12="","Falta Nota",IF(J12<1.95,"B",IF(J12<2.95,"R",IF(J12<3.95,"A",IF(J12<=5,"E","nota>5,0"))))) -> B | L12: 0 | M12: 0 | N12: 0 | O12: 0 | P12: 0 | Q12: 0 | R12: =AVERAGE(L12:Q12) -> 0 | S12: =IF(R12="","Falta Nota",IF(R12<1.95,"B",IF(R12<2.95,"R",IF(R12<3.95,"A",IF(R12<=5,"E","nota>5,0"))))) -> B | T12: 0 | U12: 0 | V12: 0 | W12: 0 | X12: 0 | Y12: 0 | Z12: =AVERAGE(T12:Y12) -> 0 | AA12: =IF(Z12="","Falta Nota",IF(Z12<1.95,"B",IF(Z12<2.95,"R",IF(Z12<3.95,"A",IF(Z12<=5,"E","nota>5,0"))))) -> B | BC12: C2b: Distribución por fortalecer: Alerta moderada predominante R
A13: 3 | D13: 0 | E13: 0 | F13: 0 | G13: 0 | H13: 0 | I13: 0 | J13: =AVERAGE(D13:I13) -> 0 | K13: =IF(J13="","Falta Nota",IF(J13<1.95,"B",IF(J13<2.95,"R",IF(J13<3.95,"A",IF(J13<=5,"E","nota>5,0"))))) -> B | L13: 0 | M13: 0 | N13: 0 | O13: 0 | P13: 0 | Q13: 0 | R13: =AVERAGE(L13:Q13) -> 0 | S13: =IF(R13="","Falta Nota",IF(R13<1.95,"B",IF(R13<2.95,"R",IF(R13<3.95,"A",IF(R13<=5,"E","nota>5,0"))))) -> B | T13: 0 | U13: 0 | V13: 0 | W13: 0 | X13: 0 | Y13: 0 | Z13: =AVERAGE(T13:Y13) -> 0 | AA13: =IF(Z13="","Falta Nota",IF(Z13<1.95,"B",IF(Z13<2.95,"R",IF(Z13<3.95,"A",IF(Z13<=5,"E","nota>5,0"))))) -> B | BC13: C2c: Distribución por fortalecer: Tendencia descendente E-B
A14: 4 | D14: 0 | E14: 0 | F14: 0 | G14: 0 | H14: 0 | I14: 0 | J14: =AVERAGE(D14:I14) -> 0 | K14: =IF(J14="","Falta Nota",IF(J14<1.95,"B",IF(J14<2.95,"R",IF(J14<3.95,"A",IF(J14<=5,"E","nota>5,0"))))) -> B | L14: 0 | M14: 0 | N14: 0 | O14: 0 | P14: 0 | Q14: 0 | R14: =AVERAGE(L14:Q14) -> 0 | S14: =IF(R14="","Falta Nota",IF(R14<1.95,"B",IF(R14<2.95,"R",IF(R14<3.95,"A",IF(R14<=5,"E","nota>5,0"))))) -> B | T14: 0 | U14: 0 | V14: 0 | W14: 0 | X14: 0 | Y14: 0 | Z14: =AVERAGE(T14:Y14) -> 0 | AA14: =IF(Z14="","Falta Nota",IF(Z14<1.95,"B",IF(Z14<2.95,"R",IF(Z14<3.95,"A",IF(Z14<=5,"E","nota>5,0"))))) -> B | BC14: C3a: Distribución neutral: Distribución dispersa (heterogénea)
A15: 5 | D15: 0 | E15: 0 | F15: 0 | G15: 0 | H15: 0 | I15: 0 | J15: =AVERAGE(D15:I15) -> 0 | K15: =IF(J15="","Falta Nota",IF(J15<1.95,"B",IF(J15<2.95,"R",IF(J15<3.95,"A",IF(J15<=5,"E","nota>5,0"))))) -> B | L15: 0 | M15: 0 | N15: 0 | O15: 0 | P15: 0 | Q15: 0 | R15: =AVERAGE(L15:Q15) -> 0 | S15: =IF(R15="","Falta Nota",IF(R15<1.95,"B",IF(R15<2.95,"R",IF(R15<3.95,"A",IF(R15<=5,"E","nota>5,0"))))) -> B | T15: 0 | U15: 0 | V15: 0 | W15: 0 | X15: 0 | Y15: 0 | Z15: =AVERAGE(T15:Y15) -> 0 | AA15: =IF(Z15="","Falta Nota",IF(Z15<1.95,"B",IF(Z15<2.95,"R",IF(Z15<3.95,"A",IF(Z15<=5,"E","nota>5,0"))))) -> B | BC15: C3b: Distribución neutral: Umbral de logro (R/A predominante)
A16: 6 | D16: 0 | E16: 0 | F16: 0 | G16: 0 | H16: 0 | I16: 0 | J16: =AVERAGE(D16:I16) -> 0 | K16: =IF(J16="","Falta Nota",IF(J16<1.95,"B",IF(J16<2.95,"R",IF(J16<3.95,"A",IF(J16<=5,"E","nota>5,0"))))) -> B | L16: 0 | M16: 0 | N16: 0 | O16: 0 | P16: 0 | Q16: 0 | R16: =AVERAGE(L16:Q16) -> 0 | S16: =IF(R16="","Falta Nota",IF(R16<1.95,"B",IF(R16<2.95,"R",IF(R16<3.95,"A",IF(R16<=5,"E","nota>5,0"))))) -> B | T16: 0 | U16: 0 | V16: 0 | W16: 0 | X16: 0 | Y16: 0 | Z16: =AVERAGE(T16:Y16) -> 0 | AA16: =IF(Z16="","Falta Nota",IF(Z16<1.95,"B",IF(Z16<2.95,"R",IF(Z16<3.95,"A",IF(Z16<=5,"E","nota>5,0"))))) -> B | BC16: C3c: Distribución neutral: Logro con regazo significativo
A17: 7 | D17: 0 | E17: 0 | F17: 0 | G17: 0 | H17: 0 | I17: 0 | J17: =AVERAGE(D17:I17) -> 0 | K17: =IF(J17="","Falta Nota",IF(J17<1.95,"B",IF(J17<2.95,"R",IF(J17<3.95,"A",IF(J17<=5,"E","nota>5,0"))))) -> B | L17: 0 | M17: 0 | N17: 0 | O17: 0 | P17: 0 | Q17: 0 | R17: =AVERAGE(L17:Q17) -> 0 | S17: =IF(R17="","Falta Nota",IF(R17<1.95,"B",IF(R17<2.95,"R",IF(R17<3.95,"A",IF(R17<=5,"E","nota>5,0"))))) -> B | T17: 0 | U17: 0 | V17: 0 | W17: 0 | X17: 0 | Y17: 0 | Z17: =AVERAGE(T17:Y17) -> 0 | AA17: =IF(Z17="","Falta Nota",IF(Z17<1.95,"B",IF(Z17<2.95,"R",IF(Z17<3.95,"A",IF(Z17<=5,"E","nota>5,0"))))) -> B | BC17: C4a: Distribución polarizada: Polarización extrema (BE)
A18: 8 | D18: 0 | E18: 0 | F18: 0 | G18: 0 | H18: 0 | I18: 0 | J18: =AVERAGE(D18:I18) -> 0 | K18: =IF(J18="","Falta Nota",IF(J18<1.95,"B",IF(J18<2.95,"R",IF(J18<3.95,"A",IF(J18<=5,"E","nota>5,0"))))) -> B | L18: 0 | M18: 0 | N18: 0 | O18: 0 | P18: 0 | Q18: 0 | R18: =AVERAGE(L18:Q18) -> 0 | S18: =IF(R18="","Falta Nota",IF(R18<1.95,"B",IF(R18<2.95,"R",IF(R18<3.95,"A",IF(R18<=5,"E","nota>5,0"))))) -> B | T18: 0 | U18: 0 | V18: 0 | W18: 0 | X18: 0 | Y18: 0 | Z18: =AVERAGE(T18:Y18) -> 0 | AA18: =IF(Z18="","Falta Nota",IF(Z18<1.95,"B",IF(Z18<2.95,"R",IF(Z18<3.95,"A",IF(Z18<=5,"E","nota>5,0"))))) -> B | BC18: C4b: Distribución polarizada: Polarización media (RE)
A19: 9 | D19: 0 | E19: 0 | F19: 0 | G19: 0 | H19: 0 | I19: 0 | J19: =AVERAGE(D19:I19) -> 0 | K19: =IF(J19="","Falta Nota",IF(J19<1.95,"B",IF(J19<2.95,"R",IF(J19<3.95,"A",IF(J19<=5,"E","nota>5,0"))))) -> B | L19: 0 | M19: 0 | N19: 0 | O19: 0 | P19: 0 | Q19: 0 | R19: =AVERAGE(L19:Q19) -> 0 | S19: =IF(R19="","Falta Nota",IF(R19<1.95,"B",IF(R19<2.95,"R",IF(R19<3.95,"A",IF(R19<=5,"E","nota>5,0"))))) -> B | T19: 0 | U19: 0 | V19: 0 | W19: 0 | X19: 0 | Y19: 0 | Z19: =AVERAGE(T19:Y19) -> 0 | AA19: =IF(Z19="","Falta Nota",IF(Z19<1.95,"B",IF(Z19<2.95,"R",IF(Z19<3.95,"A",IF(Z19<=5,"E","nota>5,0"))))) -> B | BC19: C4c: Distribución polarizada: Polarización media (BR)
A20: 10 | D20: 0 | E20: 0 | F20: 0 | G20: 0 | H20: 0 | I20: 0 | J20: =AVERAGE(D20:I20) -> 0 | K20: =IF(J20="","Falta Nota",IF(J20<1.95,"B",IF(J20<2.95,"R",IF(J20<3.95,"A",IF(J20<=5,"E","nota>5,0"))))) -> B | L20: 0 | M20: 0 | N20: 0 | O20: 0 | P20: 0 | Q20: 0 | R20: =AVERAGE(L20:Q20) -> 0 | S20: =IF(R20="","Falta Nota",IF(R20<1.95,"B",IF(R20<2.95,"R",IF(R20<3.95,"A",IF(R20<=5,"E","nota>5,0"))))) -> B | T20: 0 | U20: 0 | V20: 0 | W20: 0 | X20: 0 | Y20: 0 | Z20: =AVERAGE(T20:Y20) -> 0 | AA20: =IF(Z20="","Falta Nota",IF(Z20<1.95,"B",IF(Z20<2.95,"R",IF(Z20<3.95,"A",IF(Z20<=5,"E","nota>5,0"))))) -> B
A21: 11 | D21: 0 | E21: 0 | F21: 0 | G21: 0 | H21: 0 | I21: 0 | J21: =AVERAGE(D21:I21) -> 0 | K21: =IF(J21="","Falta Nota",IF(J21<1.95,"B",IF(J21<2.95,"R",IF(J21<3.95,"A",IF(J21<=5,"E","nota>5,0"))))) -> B | L21: 0 | M21: 0 | N21: 0 | O21: 0 | P21: 0 | Q21: 0 | R21: =AVERAGE(L21:Q21) -> 0 | S21: =IF(R21="","Falta Nota",IF(R21<1.95,"B",IF(R21<2.95,"R",IF(R21<3.95,"A",IF(R21<=5,"E","nota>5,0"))))) -> B | T21: 0 | U21: 0 | V21: 0 | W21: 0 | X21: 0 | Y21: 0 | Z21: =AVERAGE(T21:Y21) -> 0 | AA21: =IF(Z21="","Falta Nota",IF(Z21<1.95,"B",IF(Z21<2.95,"R",IF(Z21<3.95,"A",IF(Z21<=5,"E","nota>5,0"))))) -> B
A22: 12 | D22: 0 | E22: 0 | F22: 0 | G22: 0 | H22: 0 | I22: 0 | J22: =AVERAGE(D22:I22) -> 0 | K22: =IF(J22="","Falta Nota",IF(J22<1.95,"B",IF(J22<2.95,"R",IF(J22<3.95,"A",IF(J22<=5,"E","nota>5,0"))))) -> B | L22: 0 | M22: 0 | N22: 0 | O22: 0 | P22: 0 | Q22: 0 | R22: =AVERAGE(L22:Q22) -> 0 | S22: =IF(R22="","Falta Nota",IF(R22<1.95,"B",IF(R22<2.95,"R",IF(R22<3.95,"A",IF(R22<=5,"E","nota>5,0"))))) -> B | T22: 0 | U22: 0 | V22: 0 | W22: 0 | X22: 0 | Y22: 0 | Z22: =AVERAGE(T22:Y22) -> 0 | AA22: =IF(Z22="","Falta Nota",IF(Z22<1.95,"B",IF(Z22<2.95,"R",IF(Z22<3.95,"A",IF(Z22<=5,"E","nota>5,0"))))) -> B
A23: 13 | D23: 0 | E23: 0 | F23: 0 | G23: 0 | H23: 0 | I23: 0 | J23: =AVERAGE(D23:I23) -> 0 | K23: =IF(J23="","Falta Nota",IF(J23<1.95,"B",IF(J23<2.95,"R",IF(J23<3.95,"A",IF(J23<=5,"E","nota>5,0"))))) -> B | L23: 0 | M23: 0 | N23: 0 | O23: 0 | P23: 0 | Q23: 0 | R23: =AVERAGE(L23:Q23) -> 0 | S23: =IF(R23="","Falta Nota",IF(R23<1.95,"B",IF(R23<2.95,"R",IF(R23<3.95,"A",IF(R23<=5,"E","nota>5,0"))))) -> B | T23: 0 | U23: 0 | V23: 0 | W23: 0 | X23: 0 | Y23: 0 | Z23: =AVERAGE(T23:Y23) -> 0 | AA23: =IF(Z23="","Falta Nota",IF(Z23<1.95,"B",IF(Z23<2.95,"R",IF(Z23<3.95,"A",IF(Z23<=5,"E","nota>5,0"))))) -> B
A24: 14 | D24: 0 | E24: 0 | F24: 0 | G24: 0 | H24: 0 | I24: 0 | J24: =AVERAGE(D24:I24) -> 0 | K24: =IF(J24="","Falta Nota",IF(J24<1.95,"B",IF(J24<2.95,"R",IF(J24<3.95,"A",IF(J24<=5,"E","nota>5,0"))))) -> B | L24: 0 | M24: 0 | N24: 0 | O24: 0 | P24: 0 | Q24: 0 | R24: =AVERAGE(L24:Q24) -> 0 | S24: =IF(R24="","Falta Nota",IF(R24<1.95,"B",IF(R24<2.95,"R",IF(R24<3.95,"A",IF(R24<=5,"E","nota>5,0"))))) -> B | T24: 0 | U24: 0 | V24: 0 | W24: 0 | X24: 0 | Y24: 0 | Z24: =AVERAGE(T24:Y24) -> 0 | AA24: =IF(Z24="","Falta Nota",IF(Z24<1.95,"B",IF(Z24<2.95,"R",IF(Z24<3.95,"A",IF(Z24<=5,"E","nota>5,0"))))) -> B
A25: 15 | D25: 0 | E25: 0 | F25: 0 | G25: 0 | H25: 0 | I25: 0 | J25: =AVERAGE(D25:I25) -> 0 | K25: =IF(J25="","Falta Nota",IF(J25<1.95,"B",IF(J25<2.95,"R",IF(J25<3.95,"A",IF(J25<=5,"E","nota>5,0"))))) -> B | L25: 0 | M25: 0 | N25: 0 | O25: 0 | P25: 0 | Q25: 0 | R25: =AVERAGE(L25:Q25) -> 0 | S25: =IF(R25="","Falta Nota",IF(R25<1.95,"B",IF(R25<2.95,"R",IF(R25<3.95,"A",IF(R25<=5,"E","nota>5,0"))))) -> B | T25: 0 | U25: 0 | V25: 0 | W25: 0 | X25: 0 | Y25: 0 | Z25: =AVERAGE(T25:Y25) -> 0 | AA25: =IF(Z25="","Falta Nota",IF(Z25<1.95,"B",IF(Z25<2.95,"R",IF(Z25<3.95,"A",IF(Z25<=5,"E","nota>5,0"))))) -> B
A26: 16 | D26: 0 | E26: 0 | F26: 0 | G26: 0 | H26: 0 | I26: 0 | J26: =AVERAGE(D26:I26) -> 0 | K26: =IF(J26="","Falta Nota",IF(J26<1.95,"B",IF(J26<2.95,"R",IF(J26<3.95,"A",IF(J26<=5,"E","nota>5,0"))))) -> B | L26: 0 | M26: 0 | N26: 0 | O26: 0 | P26: 0 | Q26: 0 | R26: =AVERAGE(L26:Q26) -> 0 | S26: =IF(R26="","Falta Nota",IF(R26<1.95,"B",IF(R26<2.95,"R",IF(R26<3.95,"A",IF(R26<=5,"E","nota>5,0"))))) -> B | T26: 0 | U26: 0 | V26: 0 | W26: 0 | X26: 0 | Y26: 0 | Z26: =AVERAGE(T26:Y26) -> 0 | AA26: =IF(Z26="","Falta Nota",IF(Z26<1.95,"B",IF(Z26<2.95,"R",IF(Z26<3.95,"A",IF(Z26<=5,"E","nota>5,0"))))) -> B
A27: 17 | D27: 0 | E27: 0 | F27: 0 | G27: 0 | H27: 0 | I27: 0 | J27: =AVERAGE(D27:I27) -> 0 | K27: =IF(J27="","Falta Nota",IF(J27<1.95,"B",IF(J27<2.95,"R",IF(J27<3.95,"A",IF(J27<=5,"E","nota>5,0"))))) -> B | L27: 0 | M27: 0 | N27: 0 | O27: 0 | P27: 0 | Q27: 0 | R27: =AVERAGE(L27:Q27) -> 0 | S27: =IF(R27="","Falta Nota",IF(R27<1.95,"B",IF(R27<2.95,"R",IF(R27<3.95,"A",IF(R27<=5,"E","nota>5,0"))))) -> B | T27: 0 | U27: 0 | V27: 0 | W27: 0 | X27: 0 | Y27: 0 | Z27: =AVERAGE(T27:Y27) -> 0 | AA27: =IF(Z27="","Falta Nota",IF(Z27<1.95,"B",IF(Z27<2.95,"R",IF(Z27<3.95,"A",IF(Z27<=5,"E","nota>5,0"))))) -> B
A28: 18 | D28: 0 | E28: 0 | F28: 0 | G28: 0 | H28: 0 | I28: 0 | J28: =AVERAGE(D28:I28) -> 0 | K28: =IF(J28="","Falta Nota",IF(J28<1.95,"B",IF(J28<2.95,"R",IF(J28<3.95,"A",IF(J28<=5,"E","nota>5,0"))))) -> B | L28: 0 | M28: 0 | N28: 0 | O28: 0 | P28: 0 | Q28: 0 | R28: =AVERAGE(L28:Q28) -> 0 | S28: =IF(R28="","Falta Nota",IF(R28<1.95,"B",IF(R28<2.95,"R",IF(R28<3.95,"A",IF(R28<=5,"E","nota>5,0"))))) -> B | T28: 0 | U28: 0 | V28: 0 | W28: 0 | X28: 0 | Y28: 0 | Z28: =AVERAGE(T28:Y28) -> 0 | AA28: =IF(Z28="","Falta Nota",IF(Z28<1.95,"B",IF(Z28<2.95,"R",IF(Z28<3.95,"A",IF(Z28<=5,"E","nota>5,0"))))) -> B | AI28: Seleccione la categoría que describe el comportamiento obtenido | AR28: Seleccione la categoría que describe el comportamiento obtenido | BA28: Seleccione la categoría que describe el comportamiento obtenido
A29: 19 | D29: 0 | E29: 0 | F29: 0 | G29: 0 | H29: 0 | I29: 0 | J29: =AVERAGE(D29:I29) -> 0 | K29: =IF(J29="","Falta Nota",IF(J29<1.95,"B",IF(J29<2.95,"R",IF(J29<3.95,"A",IF(J29<=5,"E","nota>5,0"))))) -> B | L29: 0 | M29: 0 | N29: 0 | O29: 0 | P29: 0 | Q29: 0 | R29: =AVERAGE(L29:Q29) -> 0 | S29: =IF(R29="","Falta Nota",IF(R29<1.95,"B",IF(R29<2.95,"R",IF(R29<3.95,"A",IF(R29<=5,"E","nota>5,0"))))) -> B | T29: 0 | U29: 0 | V29: 0 | W29: 0 | X29: 0 | Y29: 0 | Z29: =AVERAGE(T29:Y29) -> 0 | AA29: =IF(Z29="","Falta Nota",IF(Z29<1.95,"B",IF(Z29<2.95,"R",IF(Z29<3.95,"A",IF(Z29<=5,"E","nota>5,0"))))) -> B | AD29: Mi2 RAE1 | AI29: Categorización | AM29: Mi2 RAE2 | AR29: Categorización | AV29: Mi2 RAE3 | BA29: Categorización
A30: 20 | D30: 0 | E30: 0 | F30: 0 | G30: 0 | H30: 0 | I30: 0 | J30: =AVERAGE(D30:I30) -> 0 | K30: =IF(J30="","Falta Nota",IF(J30<1.95,"B",IF(J30<2.95,"R",IF(J30<3.95,"A",IF(J30<=5,"E","nota>5,0"))))) -> B | L30: 0 | M30: 0 | N30: 0 | O30: 0 | P30: 0 | Q30: 0 | R30: =AVERAGE(L30:Q30) -> 0 | S30: =IF(R30="","Falta Nota",IF(R30<1.95,"B",IF(R30<2.95,"R",IF(R30<3.95,"A",IF(R30<=5,"E","nota>5,0"))))) -> B | T30: 0 | U30: 0 | V30: 0 | W30: 0 | X30: 0 | Y30: 0 | Z30: =AVERAGE(T30:Y30) -> 0 | AA30: =IF(Z30="","Falta Nota",IF(Z30<1.95,"B",IF(Z30<2.95,"R",IF(Z30<3.95,"A",IF(Z30<=5,"E","nota>5,0"))))) -> B | AD30: B | AE30: R | AF30: A | AG30: E | AI30: C1a : Distribución favorable: Excelencia predominante | AM30: B | AN30: R | AO30: A | AP30: E | AR30: C1a : Distribución favorable: Excelencia predominante | AV30: B | AW30: R | AX30: A | AY30: E | BA30: C1a : Distribución favorable: Excelencia predominante
A31: 21 | D31: 0 | E31: 0 | F31: 0 | G31: 0 | H31: 0 | I31: 0 | J31: =AVERAGE(D31:I31) -> 0 | K31: =IF(J31="","Falta Nota",IF(J31<1.95,"B",IF(J31<2.95,"R",IF(J31<3.95,"A",IF(J31<=5,"E","nota>5,0"))))) -> B | L31: 0 | M31: 0 | N31: 0 | O31: 0 | P31: 0 | Q31: 0 | R31: =AVERAGE(L31:Q31) -> 0 | S31: =IF(R31="","Falta Nota",IF(R31<1.95,"B",IF(R31<2.95,"R",IF(R31<3.95,"A",IF(R31<=5,"E","nota>5,0"))))) -> B | T31: 0 | U31: 0 | V31: 0 | W31: 0 | X31: 0 | Y31: 0 | Z31: =AVERAGE(T31:Y31) -> 0 | AA31: =IF(Z31="","Falta Nota",IF(Z31<1.95,"B",IF(Z31<2.95,"R",IF(Z31<3.95,"A",IF(Z31<=5,"E","nota>5,0"))))) -> B | AD31: =COUNTIF($D42:$I42,AD30) -> 6 | AE31: =COUNTIF($D42:$I42,AE30) -> 0 | AF31: =COUNTIF($D42:$I42,AF30) -> 0 | AG31: =COUNTIF($D42:$I42,AG30) -> 0 | AM31: =COUNTIF($L42:$Q42,AM30) -> 6 | AN31: =COUNTIF($L42:$Q42,AN30) -> 0 | AO31: =COUNTIF($L42:$Q42,AO30) -> 0 | AP31: =COUNTIF($L42:$Q42,AP30) -> 0 | AV31: =COUNTIF($T42:$Y42,AV30) -> 6 | AW31: =COUNTIF($T42:$Y42,AW30) -> 0 | AX31: =COUNTIF($T42:$Y42,AX30) -> 0 | AY31: =COUNTIF($T42:$Y42,AY30) -> 0
A32: 22 | D32: 0 | E32: 0 | F32: 0 | G32: 0 | H32: 0 | I32: 0 | J32: =AVERAGE(D32:I32) -> 0 | K32: =IF(J32="","Falta Nota",IF(J32<1.95,"B",IF(J32<2.95,"R",IF(J32<3.95,"A",IF(J32<=5,"E","nota>5,0"))))) -> B | L32: 0 | M32: 0 | N32: 0 | O32: 0 | P32: 0 | Q32: 0 | R32: =AVERAGE(L32:Q32) -> 0 | S32: =IF(R32="","Falta Nota",IF(R32<1.95,"B",IF(R32<2.95,"R",IF(R32<3.95,"A",IF(R32<=5,"E","nota>5,0"))))) -> B | T32: 0 | U32: 0 | V32: 0 | W32: 0 | X32: 0 | Y32: 0 | Z32: =AVERAGE(T32:Y32) -> 0 | AA32: =IF(Z32="","Falta Nota",IF(Z32<1.95,"B",IF(Z32<2.95,"R",IF(Z32<3.95,"A",IF(Z32<=5,"E","nota>5,0"))))) -> B
A33: 23 | D33: 0 | E33: 0 | F33: 0 | G33: 0 | H33: 0 | I33: 0 | J33: =AVERAGE(D33:I33) -> 0 | K33: =IF(J33="","Falta Nota",IF(J33<1.95,"B",IF(J33<2.95,"R",IF(J33<3.95,"A",IF(J33<=5,"E","nota>5,0"))))) -> B | L33: 0 | M33: 0 | N33: 0 | O33: 0 | P33: 0 | Q33: 0 | R33: =AVERAGE(L33:Q33) -> 0 | S33: =IF(R33="","Falta Nota",IF(R33<1.95,"B",IF(R33<2.95,"R",IF(R33<3.95,"A",IF(R33<=5,"E","nota>5,0"))))) -> B | T33: 0 | U33: 0 | V33: 0 | W33: 0 | X33: 0 | Y33: 0 | Z33: =AVERAGE(T33:Y33) -> 0 | AA33: =IF(Z33="","Falta Nota",IF(Z33<1.95,"B",IF(Z33<2.95,"R",IF(Z33<3.95,"A",IF(Z33<=5,"E","nota>5,0"))))) -> B
A34: 24 | D34: 0 | E34: 0 | F34: 0 | G34: 0 | H34: 0 | I34: 0 | J34: =AVERAGE(D34:I34) -> 0 | K34: =IF(J34="","Falta Nota",IF(J34<1.95,"B",IF(J34<2.95,"R",IF(J34<3.95,"A",IF(J34<=5,"E","nota>5,0"))))) -> B | L34: 0 | M34: 0 | N34: 0 | O34: 0 | P34: 0 | Q34: 0 | R34: =AVERAGE(L34:Q34) -> 0 | S34: =IF(R34="","Falta Nota",IF(R34<1.95,"B",IF(R34<2.95,"R",IF(R34<3.95,"A",IF(R34<=5,"E","nota>5,0"))))) -> B | T34: 0 | U34: 0 | V34: 0 | W34: 0 | X34: 0 | Y34: 0 | Z34: =AVERAGE(T34:Y34) -> 0 | AA34: =IF(Z34="","Falta Nota",IF(Z34<1.95,"B",IF(Z34<2.95,"R",IF(Z34<3.95,"A",IF(Z34<=5,"E","nota>5,0"))))) -> B
A35: 25 | D35: 0 | E35: 0 | F35: 0 | G35: 0 | H35: 0 | I35: 0 | J35: =AVERAGE(D35:I35) -> 0 | K35: =IF(J35="","Falta Nota",IF(J35<1.95,"B",IF(J35<2.95,"R",IF(J35<3.95,"A",IF(J35<=5,"E","nota>5,0"))))) -> B | L35: 0 | M35: 0 | N35: 0 | O35: 0 | P35: 0 | Q35: 0 | R35: =AVERAGE(L35:Q35) -> 0 | S35: =IF(R35="","Falta Nota",IF(R35<1.95,"B",IF(R35<2.95,"R",IF(R35<3.95,"A",IF(R35<=5,"E","nota>5,0"))))) -> B | T35: 0 | U35: 0 | V35: 0 | W35: 0 | X35: 0 | Y35: 0 | Z35: =AVERAGE(T35:Y35) -> 0 | AA35: =IF(Z35="","Falta Nota",IF(Z35<1.95,"B",IF(Z35<2.95,"R",IF(Z35<3.95,"A",IF(Z35<=5,"E","nota>5,0"))))) -> B
A36: 26 | D36: 0 | E36: 0 | F36: 0 | G36: 0 | H36: 0 | I36: 0 | J36: =AVERAGE(D36:I36) -> 0 | K36: =IF(J36="","Falta Nota",IF(J36<1.95,"B",IF(J36<2.95,"R",IF(J36<3.95,"A",IF(J36<=5,"E","nota>5,0"))))) -> B | L36: 0 | M36: 0 | N36: 0 | O36: 0 | P36: 0 | Q36: 0 | R36: =AVERAGE(L36:Q36) -> 0 | S36: =IF(R36="","Falta Nota",IF(R36<1.95,"B",IF(R36<2.95,"R",IF(R36<3.95,"A",IF(R36<=5,"E","nota>5,0"))))) -> B | T36: 0 | U36: 0 | V36: 0 | W36: 0 | X36: 0 | Y36: 0 | Z36: =AVERAGE(T36:Y36) -> 0 | AA36: =IF(Z36="","Falta Nota",IF(Z36<1.95,"B",IF(Z36<2.95,"R",IF(Z36<3.95,"A",IF(Z36<=5,"E","nota>5,0"))))) -> B
A37: 27 | D37: 0 | E37: 0 | F37: 0 | G37: 0 | H37: 0 | I37: 0 | J37: =AVERAGE(D37:I37) -> 0 | K37: =IF(J37="","Falta Nota",IF(J37<1.95,"B",IF(J37<2.95,"R",IF(J37<3.95,"A",IF(J37<=5,"E","nota>5,0"))))) -> B | L37: 0 | M37: 0 | N37: 0 | O37: 0 | P37: 0 | Q37: 0 | R37: =AVERAGE(L37:Q37) -> 0 | S37: =IF(R37="","Falta Nota",IF(R37<1.95,"B",IF(R37<2.95,"R",IF(R37<3.95,"A",IF(R37<=5,"E","nota>5,0"))))) -> B | T37: 0 | U37: 0 | V37: 0 | W37: 0 | X37: 0 | Y37: 0 | Z37: =AVERAGE(T37:Y37) -> 0 | AA37: =IF(Z37="","Falta Nota",IF(Z37<1.95,"B",IF(Z37<2.95,"R",IF(Z37<3.95,"A",IF(Z37<=5,"E","nota>5,0"))))) -> B
A38: 28 | D38: 0 | E38: 0 | F38: 0 | G38: 0 | H38: 0 | I38: 0 | J38: =AVERAGE(D38:I38) -> 0 | K38: =IF(J38="","Falta Nota",IF(J38<1.95,"B",IF(J38<2.95,"R",IF(J38<3.95,"A",IF(J38<=5,"E","nota>5,0"))))) -> B | L38: 0 | M38: 0 | N38: 0 | O38: 0 | P38: 0 | Q38: 0 | R38: =AVERAGE(L38:Q38) -> 0 | S38: =IF(R38="","Falta Nota",IF(R38<1.95,"B",IF(R38<2.95,"R",IF(R38<3.95,"A",IF(R38<=5,"E","nota>5,0"))))) -> B | T38: 0 | U38: 0 | V38: 0 | W38: 0 | X38: 0 | Y38: 0 | Z38: =AVERAGE(T38:Y38) -> 0 | AA38: =IF(Z38="","Falta Nota",IF(Z38<1.95,"B",IF(Z38<2.95,"R",IF(Z38<3.95,"A",IF(Z38<=5,"E","nota>5,0"))))) -> B
A39: 29 | D39: 0 | E39: 0 | F39: 0 | G39: 0 | H39: 0 | I39: 0 | J39: =AVERAGE(D39:I39) -> 0 | K39: =IF(J39="","Falta Nota",IF(J39<1.95,"B",IF(J39<2.95,"R",IF(J39<3.95,"A",IF(J39<=5,"E","nota>5,0"))))) -> B | L39: 0 | M39: 0 | N39: 0 | O39: 0 | P39: 0 | Q39: 0 | R39: =AVERAGE(L39:Q39) -> 0 | S39: =IF(R39="","Falta Nota",IF(R39<1.95,"B",IF(R39<2.95,"R",IF(R39<3.95,"A",IF(R39<=5,"E","nota>5,0"))))) -> B | T39: 0 | U39: 0 | V39: 0 | W39: 0 | X39: 0 | Y39: 0 | Z39: =AVERAGE(T39:Y39) -> 0 | AA39: =IF(Z39="","Falta Nota",IF(Z39<1.95,"B",IF(Z39<2.95,"R",IF(Z39<3.95,"A",IF(Z39<=5,"E","nota>5,0"))))) -> B
A40: 30 | D40: 0 | E40: 0 | F40: 0 | G40: 0 | H40: 0 | I40: 0 | J40: =AVERAGE(D40:I40) -> 0 | K40: =IF(J40="","Falta Nota",IF(J40<1.95,"B",IF(J40<2.95,"R",IF(J40<3.95,"A",IF(J40<=5,"E","nota>5,0"))))) -> B | L40: 0 | M40: 0 | N40: 0 | O40: 0 | P40: 0 | Q40: 0 | R40: =AVERAGE(L40:Q40) -> 0 | S40: =IF(R40="","Falta Nota",IF(R40<1.95,"B",IF(R40<2.95,"R",IF(R40<3.95,"A",IF(R40<=5,"E","nota>5,0"))))) -> B | T40: 0 | U40: 0 | V40: 0 | W40: 0 | X40: 0 | Y40: 0 | Z40: =AVERAGE(T40:Y40) -> 0 | AA40: =IF(Z40="","Falta Nota",IF(Z40<1.95,"B",IF(Z40<2.95,"R",IF(Z40<3.95,"A",IF(Z40<=5,"E","nota>5,0"))))) -> B
B41: Mi2 | D41: =AVERAGE(D11:D40) -> 0 | E41: =AVERAGE(E11:E40) -> 0 | F41: =AVERAGE(F11:F40) -> 0 | G41: =AVERAGE(G11:G40) -> 0 | H41: =AVERAGE(H11:H40) -> 0 | I41: =AVERAGE(I11:I40) -> 0 | L41: =AVERAGE(L11:L40) -> 0 | M41: =AVERAGE(M11:M40) -> 0 | N41: =AVERAGE(N11:N40) -> 0 | O41: =AVERAGE(O11:O40) -> 0 | P41: =AVERAGE(P11:P40) -> 0 | Q41: =AVERAGE(Q11:Q40) -> 0 | T41: =AVERAGE(T11:T40) -> 0 | U41: =AVERAGE(U11:U40) -> 0 | V41: =AVERAGE(V11:V40) -> 0 | W41: =AVERAGE(W11:W40) -> 0 | X41: =AVERAGE(X11:X40) -> 0 | Y41: =AVERAGE(Y11:Y40) -> 0
B42: Nivel M2 | D42: =IF(D41="","Falta Nota",IF(D41<1.95,"B",IF(D41<2.95,"R",IF(D41<3.95,"A",IF(D41<=5,"E","nota>5,0"))))) -> B | E42: =IF(E41="","Falta Nota",IF(E41<1.95,"B",IF(E41<2.95,"R",IF(E41<3.95,"A",IF(E41<=5,"E","nota>5,0"))))) -> B | F42: =IF(F41="","Falta Nota",IF(F41<1.95,"B",IF(F41<2.95,"R",IF(F41<3.95,"A",IF(F41<=5,"E","nota>5,0"))))) -> B | G42: =IF(G41="","Falta Nota",IF(G41<1.95,"B",IF(G41<2.95,"R",IF(G41<3.95,"A",IF(G41<=5,"E","nota>5,0"))))) -> B | H42: =IF(H41="","Falta Nota",IF(H41<1.95,"B",IF(H41<2.95,"R",IF(H41<3.95,"A",IF(H41<=5,"E","nota>5,0"))))) -> B | I42: =IF(I41="","Falta Nota",IF(I41<1.95,"B",IF(I41<2.95,"R",IF(I41<3.95,"A",IF(I41<=5,"E","nota>5,0"))))) -> B | L42: =IF(L41="","Falta Nota",IF(L41<1.95,"B",IF(L41<2.95,"R",IF(L41<3.95,"A",IF(L41<=5,"E","nota>5,0"))))) -> B | M42: =IF(M41="","Falta Nota",IF(M41<1.95,"B",IF(M41<2.95,"R",IF(M41<3.95,"A",IF(M41<=5,"E","nota>5,0"))))) -> B | N42: =IF(N41="","Falta Nota",IF(N41<1.95,"B",IF(N41<2.95,"R",IF(N41<3.95,"A",IF(N41<=5,"E","nota>5,0"))))) -> B | O42: =IF(O41="","Falta Nota",IF(O41<1.95,"B",IF(O41<2.95,"R",IF(O41<3.95,"A",IF(O41<=5,"E","nota>5,0"))))) -> B | P42: =IF(P41="","Falta Nota",IF(P41<1.95,"B",IF(P41<2.95,"R",IF(P41<3.95,"A",IF(P41<=5,"E","nota>5,0"))))) -> B | Q42: =IF(Q41="","Falta Nota",IF(Q41<1.95,"B",IF(Q41<2.95,"R",IF(Q41<3.95,"A",IF(Q41<=5,"E","nota>5,0"))))) -> B | T42: =IF(T41="","Falta Nota",IF(T41<1.95,"B",IF(T41<2.95,"R",IF(T41<3.95,"A",IF(T41<=5,"E","nota>5,0"))))) -> B | U42: =IF(U41="","Falta Nota",IF(U41<1.95,"B",IF(U41<2.95,"R",IF(U41<3.95,"A",IF(U41<=5,"E","nota>5,0"))))) -> B | V42: =IF(V41="","Falta Nota",IF(V41<1.95,"B",IF(V41<2.95,"R",IF(V41<3.95,"A",IF(V41<=5,"E","nota>5,0"))))) -> B | W42: =IF(W41="","Falta Nota",IF(W41<1.95,"B",IF(W41<2.95,"R",IF(W41<3.95,"A",IF(W41<=5,"E","nota>5,0"))))) -> B | X42: =IF(X41="","Falta Nota",IF(X41<1.95,"B",IF(X41<2.95,"R",IF(X41<3.95,"A",IF(X41<=5,"E","nota>5,0"))))) -> B | Y42: =IF(Y41="","Falta Nota",IF(Y41<1.95,"B",IF(Y41<2.95,"R",IF(Y41<3.95,"A",IF(Y41<=5,"E","nota>5,0"))))) -> B

Sheet Asignatura 3 G3
B2: SISTEMA DE ASEGURAMIENTO DE RESULTADOS DE APRENDIZAJE - SARA INDICADORES RESULTADO DE APRENDIZAJE DE ASIGNATURA
AC4: ANÁLISIS DE INDICADORES Mi1 Y Mi2
B6: Profesor: | C6: ='Asignatura 1 G1'!B7 -> Nombre completo del profesor | H6: Cedula: | I6: ='Asignatura 1 G1'!H7 -> No. de identificación | L6: Asignatura: | M6: Nombre de la asignatura (Q10) | R6: Grupo: | S6: No. de grupo (Q10) | Y6: Periodo: | Z6: ='Asignatura 1 G1'!Y7 -> 202X-A/B | AI6: Guía de selección de categorías
AI7: Seleccione la categoría que describe el comportamiento obtenido | AQ7: Seleccione la categoría que describe el comportamiento obtenido | AY7: Seleccione la categoría que describe el comportamiento obtenido | BA7: Categorización
B8: Estudiante | C8: Programa | D8: RAE1 | L8: RAE2 | T8: RAE 3 | AD8: Mi1 RAE1 | AI8: Categorización | AL8: Mi 1 RAE2 | AQ8: Categorización | AT8: Mi1 RAE3 | AY8: Categorización | BA8: C1a : Distribución favorable: Excelencia predominante
D9: AF 1 | G9: AF2 | I9: AF3 | J9: Mi1 | K9: Nivel Mi1 | L9: AF4 | O9: AF5 | Q9: AF6 | R9: Mi1 | S9: Nivel Mi1 | T9: AF6 | W9: AF7 | Y9: AF8 | Z9: Mi1 | AA9: Nivel Mi1 | AD9: B | AE9: R | AF9: A | AG9: E | AI9: C1a : Distribución favorable: Excelencia predominante | AL9: B | AM9: R | AN9: A | AO9: E | AQ9: C1a : Distribución favorable: Excelencia predominante | AT9: B | AU9: R | AV9: A | AW9: E | AY9: C1a : Distribución favorable: Excelencia predominante | BA9: C1b : Distribución favorable: Logro aceptable predominante
D10: AE1 | E10: AE2 | F10: AE3 | G10: AE4 | H10: AE5 | I10: AE6 | L10: AE7 | M10: AE8 | N10: AE9 | O10: AE10 | P10: AE11 | Q10: AE12 | T10: AE13 | U10: AE14 | V10: AE15 | W10: AE16 | X10: AE17 | Y10: AE18 | AD10: =COUNTIF($K:$K,AD9) -> 30 | AE10: =COUNTIF($K:$K,AE9) -> 0 | AF10: =COUNTIF($K:$K,AF9) -> 0 | AG10: =COUNTIF($K:$K,AG9) -> 0 | AL10: =COUNTIF($S:$S,AL9) -> 30 | AM10: =COUNTIF($S:$S,AM9) -> 0 | AN10: =COUNTIF($S:$S,AN9) -> 0 | AO10: =COUNTIF($S:$S,AO9) -> 0 | AT10: =COUNTIF($AA:$AA,AT9) -> 30 | AU10: =COUNTIF($AA:$AA,AU9) -> 0 | AV10: =COUNTIF($AA:$AA,AV9) -> 0 | AW10: =COUNTIF($AA:$AA,AW9) -> 0 | BA10: C1c : Distribución favorable: Tendencia ascendente al logro B-E
A11: 1 | D11: 0 | E11: 0 | F11: 0 | G11: 0 | H11: 0 | I11: 0 | J11: =AVERAGE(D11:I11) -> 0 | K11: =IF(J11="","Falta Nota",IF(J11<1.95,"B",IF(J11<2.95,"R",IF(J11<3.95,"A",IF(J11<=5,"E","nota>5,0"))))) -> B | L11: 0 | M11: 0 | N11: 0 | O11: 0 | P11: 0 | Q11: 0 | R11: =AVERAGE(L11:Q11) -> 0 | S11: =IF(R11="","Falta Nota",IF(R11<1.95,"B",IF(R11<2.95,"R",IF(R11<3.95,"A",IF(R11<=5,"E","nota>5,0"))))) -> B | T11: 0 | U11: 0 | V11: 0 | W11: 0 | X11: 0 | Y11: 0 | Z11: =AVERAGE(T11:Y11) -> 0 | AA11: =IF(Z11="","Falta Nota",IF(Z11<1.95,"B",IF(Z11<2.95,"R",IF(Z11<3.95,"A",IF(Z11<=5,"E","nota>5,0"))))) -> B | BA11: C2a: Distribución por fortalecer: Alerta crítica predominante B
A12: 2 | D12: 0 | E12: 0 | F12: 0 | G12: 0 | H12: 0 | I12: 0 | J12: =AVERAGE(D12:I12) -> 0 | K12: =IF(J12="","Falta Nota",IF(J12<1.95,"B",IF(J12<2.95,"R",IF(J12<3.95,"A",IF(J12<=5,"E","nota>5,0"))))) -> B | L12: 0 | M12: 0 | N12: 0 | O12: 0 | P12: 0 | Q12: 0 | R12: =AVERAGE(L12:Q12) -> 0 | S12: =IF(R12="","Falta Nota",IF(R12<1.95,"B",IF(R12<2.95,"R",IF(R12<3.95,"A",IF(R12<=5,"E","nota>5,0"))))) -> B | T12: 0 | U12: 0 | V12: 0 | W12: 0 | X12: 0 | Y12: 0 | Z12: =AVERAGE(T12:Y12) -> 0 | AA12: =IF(Z12="","Falta Nota",IF(Z12<1.95,"B",IF(Z12<2.95,"R",IF(Z12<3.95,"A",IF(Z12<=5,"E","nota>5,0"))))) -> B | BA12: C2b: Distribución por fortalecer: Alerta moderada predominante R
A13: 3 | D13: 0 | E13: 0 | F13: 0 | G13: 0 | H13: 0 | I13: 0 | J13: =AVERAGE(D13:I13) -> 0 | K13: =IF(J13="","Falta Nota",IF(J13<1.95,"B",IF(J13<2.95,"R",IF(J13<3.95,"A",IF(J13<=5,"E","nota>5,0"))))) -> B | L13: 0 | M13: 0 | N13: 0 | O13: 0 | P13: 0 | Q13: 0 | R13: =AVERAGE(L13:Q13) -> 0 | S13: =IF(R13="","Falta Nota",IF(R13<1.95,"B",IF(R13<2.95,"R",IF(R13<3.95,"A",IF(R13<=5,"E","nota>5,0"))))) -> B | T13: 0 | U13: 0 | V13: 0 | W13: 0 | X13: 0 | Y13: 0 | Z13: =AVERAGE(T13:Y13) -> 0 | AA13: =IF(Z13="","Falta Nota",IF(Z13<1.95,"B",IF(Z13<2.95,"R",IF(Z13<3.95,"A",IF(Z13<=5,"E","nota>5,0"))))) -> B | BA13: C2c: Distribución por fortalecer: Tendencia descendente E-B
A14: 4 | D14: 0 | E14: 0 | F14: 0 | G14: 0 | H14: 0 | I14: 0 | J14: =AVERAGE(D14:I14) -> 0 | K14: =IF(J14="","Falta Nota",IF(J14<1.95,"B",IF(J14<2.95,"R",IF(J14<3.95,"A",IF(J14<=5,"E","nota>5,0"))))) -> B | L14: 0 | M14: 0 | N14: 0 | O14: 0 | P14: 0 | Q14: 0 | R14: =AVERAGE(L14:Q14) -> 0 | S14: =IF(R14="","Falta Nota",IF(R14<1.95,"B",IF(R14<2.95,"R",IF(R14<3.95,"A",IF(R14<=5,"E","nota>5,0"))))) -> B | T14: 0 | U14: 0 | V14: 0 | W14: 0 | X14: 0 | Y14: 0 | Z14: =AVERAGE(T14:Y14) -> 0 | AA14: =IF(Z14="","Falta Nota",IF(Z14<1.95,"B",IF(Z14<2.95,"R",IF(Z14<3.95,"A",IF(Z14<=5,"E","nota>5,0"))))) -> B | BA14: C3a: Distribución neutral: Distribución dispersa (heterogénea)
A15: 5 | D15: 0 | E15: 0 | F15: 0 | G15: 0 | H15: 0 | I15: 0 | J15: =AVERAGE(D15:I15) -> 0 | K15: =IF(J15="","Falta Nota",IF(J15<1.95,"B",IF(J15<2.95,"R",IF(J15<3.95,"A",IF(J15<=5,"E","nota>5,0"))))) -> B | L15: 0 | M15: 0 | N15: 0 | O15: 0 | P15: 0 | Q15: 0 | R15: =AVERAGE(L15:Q15) -> 0 | S15: =IF(R15="","Falta Nota",IF(R15<1.95,"B",IF(R15<2.95,"R",IF(R15<3.95,"A",IF(R15<=5,"E","nota>5,0"))))) -> B | T15: 0 | U15: 0 | V15: 0 | W15: 0 | X15: 0 | Y15: 0 | Z15: =AVERAGE(T15:Y15) -> 0 | AA15: =IF(Z15="","Falta Nota",IF(Z15<1.95,"B",IF(Z15<2.95,"R",IF(Z15<3.95,"A",IF(Z15<=5,"E","nota>5,0"))))) -> B | BA15: C3b: Distribución neutral: Umbral de logro (R/A predominante)
A16: 6 | D16: 0 | E16: 0 | F16: 0 | G16: 0 | H16: 0 | I16: 0 | J16: =AVERAGE(D16:I16) -> 0 | K16: =IF(J16="","Falta Nota",IF(J16<1.95,"B",IF(J16<2.95,"R",IF(J16<3.95,"A",IF(J16<=5,"E","nota>5,0"))))) -> B | L16: 0 | M16: 0 | N16: 0 | O16: 0 | P16: 0 | Q16: 0 | R16: =AVERAGE(L16:Q16) -> 0 | S16: =IF(R16="","Falta Nota",IF(R16<1.95,"B",IF(R16<2.95,"R",IF(R16<3.95,"A",IF(R16<=5,"E","nota>5,0"))))) -> B | T16: 0 | U16: 0 | V16: 0 | W16: 0 | X16: 0 | Y16: 0 | Z16: =AVERAGE(T16:Y16) -> 0 | AA16: =IF(Z16="","Falta Nota",IF(Z16<1.95,"B",IF(Z16<2.95,"R",IF(Z16<3.95,"A",IF(Z16<=5,"E","nota>5,0"))))) -> B | BA16: C3c: Distribución neutral: Logro con regazo significativo
A17: 7 | D17: 0 | E17: 0 | F17: 0 | G17: 0 | H17: 0 | I17: 0 | J17: =AVERAGE(D17:I17) -> 0 | K17: =IF(J17="","Falta Nota",IF(J17<1.95,"B",IF(J17<2.95,"R",IF(J17<3.95,"A",IF(J17<=5,"E","nota>5,0"))))) -> B | L17: 0 | M17: 0 | N17: 0 | O17: 0 | P17: 0 | Q17: 0 | R17: =AVERAGE(L17:Q17) -> 0 | S17: =IF(R17="","Falta Nota",IF(R17<1.95,"B",IF(R17<2.95,"R",IF(R17<3.95,"A",IF(R17<=5,"E","nota>5,0"))))) -> B | T17: 0 | U17: 0 | V17: 0 | W17: 0 | X17: 0 | Y17: 0 | Z17: =AVERAGE(T17:Y17) -> 0 | AA17: =IF(Z17="","Falta Nota",IF(Z17<1.95,"B",IF(Z17<2.95,"R",IF(Z17<3.95,"A",IF(Z17<=5,"E","nota>5,0"))))) -> B | BA17: C4a: Distribución polarizada: Polarización extrema (BE)
A18: 8 | D18: 0 | E18: 0 | F18: 0 | G18: 0 | H18: 0 | I18: 0 | J18: =AVERAGE(D18:I18) -> 0 | K18: =IF(J18="","Falta Nota",IF(J18<1.95,"B",IF(J18<2.95,"R",IF(J18<3.95,"A",IF(J18<=5,"E","nota>5,0"))))) -> B | L18: 0 | M18: 0 | N18: 0 | O18: 0 | P18: 0 | Q18: 0 | R18: =AVERAGE(L18:Q18) -> 0 | S18: =IF(R18="","Falta Nota",IF(R18<1.95,"B",IF(R18<2.95,"R",IF(R18<3.95,"A",IF(R18<=5,"E","nota>5,0"))))) -> B | T18: 0 | U18: 0 | V18: 0 | W18: 0 | X18: 0 | Y18: 0 | Z18: =AVERAGE(T18:Y18) -> 0 | AA18: =IF(Z18="","Falta Nota",IF(Z18<1.95,"B",IF(Z18<2.95,"R",IF(Z18<3.95,"A",IF(Z18<=5,"E","nota>5,0"))))) -> B | BA18: C4b: Distribución polarizada: Polarización media (RE)
A19: 9 | D19: 0 | E19: 0 | F19: 0 | G19: 0 | H19: 0 | I19: 0 | J19: =AVERAGE(D19:I19) -> 0 | K19: =IF(J19="","Falta Nota",IF(J19<1.95,"B",IF(J19<2.95,"R",IF(J19<3.95,"A",IF(J19<=5,"E","nota>5,0"))))) -> B | L19: 0 | M19: 0 | N19: 0 | O19: 0 | P19: 0 | Q19: 0 | R19: =AVERAGE(L19:Q19) -> 0 | S19: =IF(R19="","Falta Nota",IF(R19<1.95,"B",IF(R19<2.95,"R",IF(R19<3.95,"A",IF(R19<=5,"E","nota>5,0"))))) -> B | T19: 0 | U19: 0 | V19: 0 | W19: 0 | X19: 0 | Y19: 0 | Z19: =AVERAGE(T19:Y19) -> 0 | AA19: =IF(Z19="","Falta Nota",IF(Z19<1.95,"B",IF(Z19<2.95,"R",IF(Z19<3.95,"A",IF(Z19<=5,"E","nota>5,0"))))) -> B | BA19: C4c: Distribución polarizada: Polarización media (BR)
A20: 10 | D20: 0 | E20: 0 | F20: 0 | G20: 0 | H20: 0 | I20: 0 | J20: =AVERAGE(D20:I20) -> 0 | K20: =IF(J20="","Falta Nota",IF(J20<1.95,"B",IF(J20<2.95,"R",IF(J20<3.95,"A",IF(J20<=5,"E","nota>5,0"))))) -> B | L20: 0 | M20: 0 | N20: 0 | O20: 0 | P20: 0 | Q20: 0 | R20: =AVERAGE(L20:Q20) -> 0 | S20: =IF(R20="","Falta Nota",IF(R20<1.95,"B",IF(R20<2.95,"R",IF(R20<3.95,"A",IF(R20<=5,"E","nota>5,0"))))) -> B | T20: 0 | U20: 0 | V20: 0 | W20: 0 | X20: 0 | Y20: 0 | Z20: =AVERAGE(T20:Y20) -> 0 | AA20: =IF(Z20="","Falta Nota",IF(Z20<1.95,"B",IF(Z20<2.95,"R",IF(Z20<3.95,"A",IF(Z20<=5,"E","nota>5,0"))))) -> B
A21: 11 | D21: 0 | E21: 0 | F21: 0 | G21: 0 | H21: 0 | I21: 0 | J21: =AVERAGE(D21:I21) -> 0 | K21: =IF(J21="","Falta Nota",IF(J21<1.95,"B",IF(J21<2.95,"R",IF(J21<3.95,"A",IF(J21<=5,"E","nota>5,0"))))) -> B | L21: 0 | M21: 0 | N21: 0 | O21: 0 | P21: 0 | Q21: 0 | R21: =AVERAGE(L21:Q21) -> 0 | S21: =IF(R21="","Falta Nota",IF(R21<1.95,"B",IF(R21<2.95,"R",IF(R21<3.95,"A",IF(R21<=5,"E","nota>5,0"))))) -> B | T21: 0 | U21: 0 | V21: 0 | W21: 0 | X21: 0 | Y21: 0 | Z21: =AVERAGE(T21:Y21) -> 0 | AA21: =IF(Z21="","Falta Nota",IF(Z21<1.95,"B",IF(Z21<2.95,"R",IF(Z21<3.95,"A",IF(Z21<=5,"E","nota>5,0"))))) -> B
A22: 12 | D22: 0 | E22: 0 | F22: 0 | G22: 0 | H22: 0 | I22: 0 | J22: =AVERAGE(D22:I22) -> 0 | K22: =IF(J22="","Falta Nota",IF(J22<1.95,"B",IF(J22<2.95,"R",IF(J22<3.95,"A",IF(J22<=5,"E","nota>5,0"))))) -> B | L22: 0 | M22: 0 | N22: 0 | O22: 0 | P22: 0 | Q22: 0 | R22: =AVERAGE(L22:Q22) -> 0 | S22: =IF(R22="","Falta Nota",IF(R22<1.95,"B",IF(R22<2.95,"R",IF(R22<3.95,"A",IF(R22<=5,"E","nota>5,0"))))) -> B | T22: 0 | U22: 0 | V22: 0 | W22: 0 | X22: 0 | Y22: 0 | Z22: =AVERAGE(T22:Y22) -> 0 | AA22: =IF(Z22="","Falta Nota",IF(Z22<1.95,"B",IF(Z22<2.95,"R",IF(Z22<3.95,"A",IF(Z22<=5,"E","nota>5,0"))))) -> B
A23: 13 | D23: 0 | E23: 0 | F23: 0 | G23: 0 | H23: 0 | I23: 0 | J23: =AVERAGE(D23:I23) -> 0 | K23: =IF(J23="","Falta Nota",IF(J23<1.95,"B",IF(J23<2.95,"R",IF(J23<3.95,"A",IF(J23<=5,"E","nota>5,0"))))) -> B | L23: 0 | M23: 0 | N23: 0 | O23: 0 | P23: 0 | Q23: 0 | R23: =AVERAGE(L23:Q23) -> 0 | S23: =IF(R23="","Falta Nota",IF(R23<1.95,"B",IF(R23<2.95,"R",IF(R23<3.95,"A",IF(R23<=5,"E","nota>5,0"))))) -> B | T23: 0 | U23: 0 | V23: 0 | W23: 0 | X23: 0 | Y23: 0 | Z23: =AVERAGE(T23:Y23) -> 0 | AA23: =IF(Z23="","Falta Nota",IF(Z23<1.95,"B",IF(Z23<2.95,"R",IF(Z23<3.95,"A",IF(Z23<=5,"E","nota>5,0"))))) -> B
A24: 14 | D24: 0 | E24: 0 | F24: 0 | G24: 0 | H24: 0 | I24: 0 | J24: =AVERAGE(D24:I24) -> 0 | K24: =IF(J24="","Falta Nota",IF(J24<1.95,"B",IF(J24<2.95,"R",IF(J24<3.95,"A",IF(J24<=5,"E","nota>5,0"))))) -> B | L24: 0 | M24: 0 | N24: 0 | O24: 0 | P24: 0 | Q24: 0 | R24: =AVERAGE(L24:Q24) -> 0 | S24: =IF(R24="","Falta Nota",IF(R24<1.95,"B",IF(R24<2.95,"R",IF(R24<3.95,"A",IF(R24<=5,"E","nota>5,0"))))) -> B | T24: 0 | U24: 0 | V24: 0 | W24: 0 | X24: 0 | Y24: 0 | Z24: =AVERAGE(T24:Y24) -> 0 | AA24: =IF(Z24="","Falta Nota",IF(Z24<1.95,"B",IF(Z24<2.95,"R",IF(Z24<3.95,"A",IF(Z24<=5,"E","nota>5,0"))))) -> B
A25: 15 | D25: 0 | E25: 0 | F25: 0 | G25: 0 | H25: 0 | I25: 0 | J25: =AVERAGE(D25:I25) -> 0 | K25: =IF(J25="","Falta Nota",IF(J25<1.95,"B",IF(J25<2.95,"R",IF(J25<3.95,"A",IF(J25<=5,"E","nota>5,0"))))) -> B | L25: 0 | M25: 0 | N25: 0 | O25: 0 | P25: 0 | Q25: 0 | R25: =AVERAGE(L25:Q25) -> 0 | S25: =IF(R25="","Falta Nota",IF(R25<1.95,"B",IF(R25<2.95,"R",IF(R25<3.95,"A",IF(R25<=5,"E","nota>5,0"))))) -> B | T25: 0 | U25: 0 | V25: 0 | W25: 0 | X25: 0 | Y25: 0 | Z25: =AVERAGE(T25:Y25) -> 0 | AA25: =IF(Z25="","Falta Nota",IF(Z25<1.95,"B",IF(Z25<2.95,"R",IF(Z25<3.95,"A",IF(Z25<=5,"E","nota>5,0"))))) -> B
A26: 16 | D26: 0 | E26: 0 | F26: 0 | G26: 0 | H26: 0 | I26: 0 | J26: =AVERAGE(D26:I26) -> 0 | K26: =IF(J26="","Falta Nota",IF(J26<1.95,"B",IF(J26<2.95,"R",IF(J26<3.95,"A",IF(J26<=5,"E","nota>5,0"))))) -> B | L26: 0 | M26: 0 | N26: 0 | O26: 0 | P26: 0 | Q26: 0 | R26: =AVERAGE(L26:Q26) -> 0 | S26: =IF(R26="","Falta Nota",IF(R26<1.95,"B",IF(R26<2.95,"R",IF(R26<3.95,"A",IF(R26<=5,"E","nota>5,0"))))) -> B | T26: 0 | U26: 0 | V26: 0 | W26: 0 | X26: 0 | Y26: 0 | Z26: =AVERAGE(T26:Y26) -> 0 | AA26: =IF(Z26="","Falta Nota",IF(Z26<1.95,"B",IF(Z26<2.95,"R",IF(Z26<3.95,"A",IF(Z26<=5,"E","nota>5,0"))))) -> B
A27: 17 | D27: 0 | E27: 0 | F27: 0 | G27: 0 | H27: 0 | I27: 0 | J27: =AVERAGE(D27:I27) -> 0 | K27: =IF(J27="","Falta Nota",IF(J27<1.95,"B",IF(J27<2.95,"R",IF(J27<3.95,"A",IF(J27<=5,"E","nota>5,0"))))) -> B | L27: 0 | M27: 0 | N27: 0 | O27: 0 | P27: 0 | Q27: 0 | R27: =AVERAGE(L27:Q27) -> 0 | S27: =IF(R27="","Falta Nota",IF(R27<1.95,"B",IF(R27<2.95,"R",IF(R27<3.95,"A",IF(R27<=5,"E","nota>5,0"))))) -> B | T27: 0 | U27: 0 | V27: 0 | W27: 0 | X27: 0 | Y27: 0 | Z27: =AVERAGE(T27:Y27) -> 0 | AA27: =IF(Z27="","Falta Nota",IF(Z27<1.95,"B",IF(Z27<2.95,"R",IF(Z27<3.95,"A",IF(Z27<=5,"E","nota>5,0"))))) -> B
A28: 18 | D28: 0 | E28: 0 | F28: 0 | G28: 0 | H28: 0 | I28: 0 | J28: =AVERAGE(D28:I28) -> 0 | K28: =IF(J28="","Falta Nota",IF(J28<1.95,"B",IF(J28<2.95,"R",IF(J28<3.95,"A",IF(J28<=5,"E","nota>5,0"))))) -> B | L28: 0 | M28: 0 | N28: 0 | O28: 0 | P28: 0 | Q28: 0 | R28: =AVERAGE(L28:Q28) -> 0 | S28: =IF(R28="","Falta Nota",IF(R28<1.95,"B",IF(R28<2.95,"R",IF(R28<3.95,"A",IF(R28<=5,"E","nota>5,0"))))) -> B | T28: 0 | U28: 0 | V28: 0 | W28: 0 | X28: 0 | Y28: 0 | Z28: =AVERAGE(T28:Y28) -> 0 | AA28: =IF(Z28="","Falta Nota",IF(Z28<1.95,"B",IF(Z28<2.95,"R",IF(Z28<3.95,"A",IF(Z28<=5,"E","nota>5,0"))))) -> B | AI28: Seleccione la categoría que describe el comportamiento obtenido | AQ28: Seleccione la categoría que describe el comportamiento obtenido | AY28: Seleccione la categoría que describe el comportamiento obtenido
A29: 19 | D29: 0 | E29: 0 | F29: 0 | G29: 0 | H29: 0 | I29: 0 | J29: =AVERAGE(D29:I29) -> 0 | K29: =IF(J29="","Falta Nota",IF(J29<1.95,"B",IF(J29<2.95,"R",IF(J29<3.95,"A",IF(J29<=5,"E","nota>5,0"))))) -> B | L29: 0 | M29: 0 | N29: 0 | O29: 0 | P29: 0 | Q29: 0 | R29: =AVERAGE(L29:Q29) -> 0 | S29: =IF(R29="","Falta Nota",IF(R29<1.95,"B",IF(R29<2.95,"R",IF(R29<3.95,"A",IF(R29<=5,"E","nota>5,0"))))) -> B | T29: 0 | U29: 0 | V29: 0 | W29: 0 | X29: 0 | Y29: 0 | Z29: =AVERAGE(T29:Y29) -> 0 | AA29: =IF(Z29="","Falta Nota",IF(Z29<1.95,"B",IF(Z29<2.95,"R",IF(Z29<3.95,"A",IF(Z29<=5,"E","nota>5,0"))))) -> B | AD29: Mi2 RAE1 | AI29: Categorización | AL29: Mi2 RAE2 | AQ29: Categorización | AT29: Mi2 RAE3 | AY29: Categorización
A30: 20 | D30: 0 | E30: 0 | F30: 0 | G30: 0 | H30: 0 | I30: 0 | J30: =AVERAGE(D30:I30) -> 0 | K30: =IF(J30="","Falta Nota",IF(J30<1.95,"B",IF(J30<2.95,"R",IF(J30<3.95,"A",IF(J30<=5,"E","nota>5,0"))))) -> B | L30: 0 | M30: 0 | N30: 0 | O30: 0 | P30: 0 | Q30: 0 | R30: =AVERAGE(L30:Q30) -> 0 | S30: =IF(R30="","Falta Nota",IF(R30<1.95,"B",IF(R30<2.95,"R",IF(R30<3.95,"A",IF(R30<=5,"E","nota>5,0"))))) -> B | T30: 0 | U30: 0 | V30: 0 | W30: 0 | X30: 0 | Y30: 0 | Z30: =AVERAGE(T30:Y30) -> 0 | AA30: =IF(Z30="","Falta Nota",IF(Z30<1.95,"B",IF(Z30<2.95,"R",IF(Z30<3.95,"A",IF(Z30<=5,"E","nota>5,0"))))) -> B | AD30: B | AE30: R | AF30: A | AG30: E | AI30: C1a : Distribución favorable: Excelencia predominante | AL30: B | AM30: R | AN30: A | AO30: E | AQ30: C1a : Distribución favorable: Excelencia predominante | AT30: B | AU30: R | AV30: A | AW30: E | AY30: C1a : Distribución favorable: Excelencia predominante
A31: 21 | D31: 0 | E31: 0 | F31: 0 | G31: 0 | H31: 0 | I31: 0 | J31: =AVERAGE(D31:I31) -> 0 | K31: =IF(J31="","Falta Nota",IF(J31<1.95,"B",IF(J31<2.95,"R",IF(J31<3.95,"A",IF(J31<=5,"E","nota>5,0"))))) -> B | L31: 0 | M31: 0 | N31: 0 | O31: 0 | P31: 0 | Q31: 0 | R31: =AVERAGE(L31:Q31) -> 0 | S31: =IF(R31="","Falta Nota",IF(R31<1.95,"B",IF(R31<2.95,"R",IF(R31<3.95,"A",IF(R31<=5,"E","nota>5,0"))))) -> B | T31: 0 | U31: 0 | V31: 0 | W31: 0 | X31: 0 | Y31: 0 | Z31: =AVERAGE(T31:Y31) -> 0 | AA31: =IF(Z31="","Falta Nota",IF(Z31<1.95,"B",IF(Z31<2.95,"R",IF(Z31<3.95,"A",IF(Z31<=5,"E","nota>5,0"))))) -> B | AD31: =COUNTIF($D42:$I42,AD30) -> 6 | AE31: =COUNTIF($D42:$I42,AE30) -> 0 | AF31: =COUNTIF($D42:$I42,AF30) -> 0 | AG31: =COUNTIF($D42:$I42,AG30) -> 0 | AL31: =COUNTIF($L42:$Q42,AL30) -> 6 | AM31: =COUNTIF($L42:$Q42,AM30) -> 0 | AN31: =COUNTIF($L42:$Q42,AN30) -> 0 | AO31: =COUNTIF($L42:$Q42,AO30) -> 0 | AT31: =COUNTIF($T42:$Y42,AT30) -> 6 | AU31: =COUNTIF($T42:$Y42,AU30) -> 0 | AV31: =COUNTIF($T42:$Y42,AV30) -> 0 | AW31: =COUNTIF($T42:$Y42,AW30) -> 0
A32: 22 | D32: 0 | E32: 0 | F32: 0 | G32: 0 | H32: 0 | I32: 0 | J32: =AVERAGE(D32:I32) -> 0 | K32: =IF(J32="","Falta Nota",IF(J32<1.95,"B",IF(J32<2.95,"R",IF(J32<3.95,"A",IF(J32<=5,"E","nota>5,0"))))) -> B | L32: 0 | M32: 0 | N32: 0 | O32: 0 | P32: 0 | Q32: 0 | R32: =AVERAGE(L32:Q32) -> 0 | S32: =IF(R32="","Falta Nota",IF(R32<1.95,"B",IF(R32<2.95,"R",IF(R32<3.95,"A",IF(R32<=5,"E","nota>5,0"))))) -> B | T32: 0 | U32: 0 | V32: 0 | W32: 0 | X32: 0 | Y32: 0 | Z32: =AVERAGE(T32:Y32) -> 0 | AA32: =IF(Z32="","Falta Nota",IF(Z32<1.95,"B",IF(Z32<2.95,"R",IF(Z32<3.95,"A",IF(Z32<=5,"E","nota>5,0"))))) -> B
A33: 23 | D33: 0 | E33: 0 | F33: 0 | G33: 0 | H33: 0 | I33: 0 | J33: =AVERAGE(D33:I33) -> 0 | K33: =IF(J33="","Falta Nota",IF(J33<1.95,"B",IF(J33<2.95,"R",IF(J33<3.95,"A",IF(J33<=5,"E","nota>5,0"))))) -> B | L33: 0 | M33: 0 | N33: 0 | O33: 0 | P33: 0 | Q33: 0 | R33: =AVERAGE(L33:Q33) -> 0 | S33: =IF(R33="","Falta Nota",IF(R33<1.95,"B",IF(R33<2.95,"R",IF(R33<3.95,"A",IF(R33<=5,"E","nota>5,0"))))) -> B | T33: 0 | U33: 0 | V33: 0 | W33: 0 | X33: 0 | Y33: 0 | Z33: =AVERAGE(T33:Y33) -> 0 | AA33: =IF(Z33="","Falta Nota",IF(Z33<1.95,"B",IF(Z33<2.95,"R",IF(Z33<3.95,"A",IF(Z33<=5,"E","nota>5,0"))))) -> B
A34: 24 | D34: 0 | E34: 0 | F34: 0 | G34: 0 | H34: 0 | I34: 0 | J34: =AVERAGE(D34:I34) -> 0 | K34: =IF(J34="","Falta Nota",IF(J34<1.95,"B",IF(J34<2.95,"R",IF(J34<3.95,"A",IF(J34<=5,"E","nota>5,0"))))) -> B | L34: 0 | M34: 0 | N34: 0 | O34: 0 | P34: 0 | Q34: 0 | R34: =AVERAGE(L34:Q34) -> 0 | S34: =IF(R34="","Falta Nota",IF(R34<1.95,"B",IF(R34<2.95,"R",IF(R34<3.95,"A",IF(R34<=5,"E","nota>5,0"))))) -> B | T34: 0 | U34: 0 | V34: 0 | W34: 0 | X34: 0 | Y34: 0 | Z34: =AVERAGE(T34:Y34) -> 0 | AA34: =IF(Z34="","Falta Nota",IF(Z34<1.95,"B",IF(Z34<2.95,"R",IF(Z34<3.95,"A",IF(Z34<=5,"E","nota>5,0"))))) -> B
A35: 25 | D35: 0 | E35: 0 | F35: 0 | G35: 0 | H35: 0 | I35: 0 | J35: =AVERAGE(D35:I35) -> 0 | K35: =IF(J35="","Falta Nota",IF(J35<1.95,"B",IF(J35<2.95,"R",IF(J35<3.95,"A",IF(J35<=5,"E","nota>5,0"))))) -> B | L35: 0 | M35: 0 | N35: 0 | O35: 0 | P35: 0 | Q35: 0 | R35: =AVERAGE(L35:Q35) -> 0 | S35: =IF(R35="","Falta Nota",IF(R35<1.95,"B",IF(R35<2.95,"R",IF(R35<3.95,"A",IF(R35<=5,"E","nota>5,0"))))) -> B | T35: 0 | U35: 0 | V35: 0 | W35: 0 | X35: 0 | Y35: 0 | Z35: =AVERAGE(T35:Y35) -> 0 | AA35: =IF(Z35="","Falta Nota",IF(Z35<1.95,"B",IF(Z35<2.95,"R",IF(Z35<3.95,"A",IF(Z35<=5,"E","nota>5,0"))))) -> B
A36: 26 | D36: 0 | E36: 0 | F36: 0 | G36: 0 | H36: 0 | I36: 0 | J36: =AVERAGE(D36:I36) -> 0 | K36: =IF(J36="","Falta Nota",IF(J36<1.95,"B",IF(J36<2.95,"R",IF(J36<3.95,"A",IF(J36<=5,"E","nota>5,0"))))) -> B | L36: 0 | M36: 0 | N36: 0 | O36: 0 | P36: 0 | Q36: 0 | R36: =AVERAGE(L36:Q36) -> 0 | S36: =IF(R36="","Falta Nota",IF(R36<1.95,"B",IF(R36<2.95,"R",IF(R36<3.95,"A",IF(R36<=5,"E","nota>5,0"))))) -> B | T36: 0 | U36: 0 | V36: 0 | W36: 0 | X36: 0 | Y36: 0 | Z36: =AVERAGE(T36:Y36) -> 0 | AA36: =IF(Z36="","Falta Nota",IF(Z36<1.95,"B",IF(Z36<2.95,"R",IF(Z36<3.95,"A",IF(Z36<=5,"E","nota>5,0"))))) -> B
A37: 27 | D37: 0 | E37: 0 | F37: 0 | G37: 0 | H37: 0 | I37: 0 | J37: =AVERAGE(D37:I37) -> 0 | K37: =IF(J37="","Falta Nota",IF(J37<1.95,"B",IF(J37<2.95,"R",IF(J37<3.95,"A",IF(J37<=5,"E","nota>5,0"))))) -> B | L37: 0 | M37: 0 | N37: 0 | O37: 0 | P37: 0 | Q37: 0 | R37: =AVERAGE(L37:Q37) -> 0 | S37: =IF(R37="","Falta Nota",IF(R37<1.95,"B",IF(R37<2.95,"R",IF(R37<3.95,"A",IF(R37<=5,"E","nota>5,0"))))) -> B | T37: 0 | U37: 0 | V37: 0 | W37: 0 | X37: 0 | Y37: 0 | Z37: =AVERAGE(T37:Y37) -> 0 | AA37: =IF(Z37="","Falta Nota",IF(Z37<1.95,"B",IF(Z37<2.95,"R",IF(Z37<3.95,"A",IF(Z37<=5,"E","nota>5,0"))))) -> B
A38: 28 | D38: 0 | E38: 0 | F38: 0 | G38: 0 | H38: 0 | I38: 0 | J38: =AVERAGE(D38:I38) -> 0 | K38: =IF(J38="","Falta Nota",IF(J38<1.95,"B",IF(J38<2.95,"R",IF(J38<3.95,"A",IF(J38<=5,"E","nota>5,0"))))) -> B | L38: 0 | M38: 0 | N38: 0 | O38: 0 | P38: 0 | Q38: 0 | R38: =AVERAGE(L38:Q38) -> 0 | S38: =IF(R38="","Falta Nota",IF(R38<1.95,"B",IF(R38<2.95,"R",IF(R38<3.95,"A",IF(R38<=5,"E","nota>5,0"))))) -> B | T38: 0 | U38: 0 | V38: 0 | W38: 0 | X38: 0 | Y38: 0 | Z38: =AVERAGE(T38:Y38) -> 0 | AA38: =IF(Z38="","Falta Nota",IF(Z38<1.95,"B",IF(Z38<2.95,"R",IF(Z38<3.95,"A",IF(Z38<=5,"E","nota>5,0"))))) -> B
A39: 29 | D39: 0 | E39: 0 | F39: 0 | G39: 0 | H39: 0 | I39: 0 | J39: =AVERAGE(D39:I39) -> 0 | K39: =IF(J39="","Falta Nota",IF(J39<1.95,"B",IF(J39<2.95,"R",IF(J39<3.95,"A",IF(J39<=5,"E","nota>5,0"))))) -> B | L39: 0 | M39: 0 | N39: 0 | O39: 0 | P39: 0 | Q39: 0 | R39: =AVERAGE(L39:Q39) -> 0 | S39: =IF(R39="","Falta Nota",IF(R39<1.95,"B",IF(R39<2.95,"R",IF(R39<3.95,"A",IF(R39<=5,"E","nota>5,0"))))) -> B | T39: 0 | U39: 0 | V39: 0 | W39: 0 | X39: 0 | Y39: 0 | Z39: =AVERAGE(T39:Y39) -> 0 | AA39: =IF(Z39="","Falta Nota",IF(Z39<1.95,"B",IF(Z39<2.95,"R",IF(Z39<3.95,"A",IF(Z39<=5,"E","nota>5,0"))))) -> B
A40: 30 | D40: 0 | E40: 0 | F40: 0 | G40: 0 | H40: 0 | I40: 0 | J40: =AVERAGE(D40:I40) -> 0 | K40: =IF(J40="","Falta Nota",IF(J40<1.95,"B",IF(J40<2.95,"R",IF(J40<3.95,"A",IF(J40<=5,"E","nota>5,0"))))) -> B | L40: 0 | M40: 0 | N40: 0 | O40: 0 | P40: 0 | Q40: 0 | R40: =AVERAGE(L40:Q40) -> 0 | S40: =IF(R40="","Falta Nota",IF(R40<1.95,"B",IF(R40<2.95,"R",IF(R40<3.95,"A",IF(R40<=5,"E","nota>5,0"))))) -> B | T40: 0 | U40: 0 | V40: 0 | W40: 0 | X40: 0 | Y40: 0 | Z40: =AVERAGE(T40:Y40) -> 0 | AA40: =IF(Z40="","Falta Nota",IF(Z40<1.95,"B",IF(Z40<2.95,"R",IF(Z40<3.95,"A",IF(Z40<=5,"E","nota>5,0"))))) -> B
B41: Mi2 | D41: =AVERAGE(D11:D40) -> 0 | E41: =AVERAGE(E11:E40) -> 0 | F41: =AVERAGE(F11:F40) -> 0 | G41: =AVERAGE(G11:G40) -> 0 | H41: =AVERAGE(H11:H40) -> 0 | I41: =AVERAGE(I11:I40) -> 0 | L41: =AVERAGE(L11:L40) -> 0 | M41: =AVERAGE(M11:M40) -> 0 | N41: =AVERAGE(N11:N40) -> 0 | O41: =AVERAGE(O11:O40) -> 0 | P41: =AVERAGE(P11:P40) -> 0 | Q41: =AVERAGE(Q11:Q40) -> 0 | T41: =AVERAGE(T11:T40) -> 0 | U41: =AVERAGE(U11:U40) -> 0 | V41: =AVERAGE(V11:V40) -> 0 | W41: =AVERAGE(W11:W40) -> 0 | X41: =AVERAGE(X11:X40) -> 0 | Y41: =AVERAGE(Y11:Y40) -> 0
B42: Nivel M2 | D42: =IF(D41="","Falta Nota",IF(D41<1.95,"B",IF(D41<2.95,"R",IF(D41<3.95,"A",IF(D41<=5,"E","nota>5,0"))))) -> B | E42: =IF(E41="","Falta Nota",IF(E41<1.95,"B",IF(E41<2.95,"R",IF(E41<3.95,"A",IF(E41<=5,"E","nota>5,0"))))) -> B | F42: =IF(F41="","Falta Nota",IF(F41<1.95,"B",IF(F41<2.95,"R",IF(F41<3.95,"A",IF(F41<=5,"E","nota>5,0"))))) -> B | G42: =IF(G41="","Falta Nota",IF(G41<1.95,"B",IF(G41<2.95,"R",IF(G41<3.95,"A",IF(G41<=5,"E","nota>5,0"))))) -> B | H42: =IF(H41="","Falta Nota",IF(H41<1.95,"B",IF(H41<2.95,"R",IF(H41<3.95,"A",IF(H41<=5,"E","nota>5,0"))))) -> B | I42: =IF(I41="","Falta Nota",IF(I41<1.95,"B",IF(I41<2.95,"R",IF(I41<3.95,"A",IF(I41<=5,"E","nota>5,0"))))) -> B | L42: =IF(L41="","Falta Nota",IF(L41<1.95,"B",IF(L41<2.95,"R",IF(L41<3.95,"A",IF(L41<=5,"E","nota>5,0"))))) -> B | M42: =IF(M41="","Falta Nota",IF(M41<1.95,"B",IF(M41<2.95,"R",IF(M41<3.95,"A",IF(M41<=5,"E","nota>5,0"))))) -> B | N42: =IF(N41="","Falta Nota",IF(N41<1.95,"B",IF(N41<2.95,"R",IF(N41<3.95,"A",IF(N41<=5,"E","nota>5,0"))))) -> B | O42: =IF(O41="","Falta Nota",IF(O41<1.95,"B",IF(O41<2.95,"R",IF(O41<3.95,"A",IF(O41<=5,"E","nota>5,0"))))) -> B | P42: =IF(P41="","Falta Nota",IF(P41<1.95,"B",IF(P41<2.95,"R",IF(P41<3.95,"A",IF(P41<=5,"E","nota>5,0"))))) -> B | Q42: =IF(Q41="","Falta Nota",IF(Q41<1.95,"B",IF(Q41<2.95,"R",IF(Q41<3.95,"A",IF(Q41<=5,"E","nota>5,0"))))) -> B | T42: =IF(T41="","Falta Nota",IF(T41<1.95,"B",IF(T41<2.95,"R",IF(T41<3.95,"A",IF(T41<=5,"E","nota>5,0"))))) -> B | U42: =IF(U41="","Falta Nota",IF(U41<1.95,"B",IF(U41<2.95,"R",IF(U41<3.95,"A",IF(U41<=5,"E","nota>5,0"))))) -> B | V42: =IF(V41="","Falta Nota",IF(V41<1.95,"B",IF(V41<2.95,"R",IF(V41<3.95,"A",IF(V41<=5,"E","nota>5,0"))))) -> B | W42: =IF(W41="","Falta Nota",IF(W41<1.95,"B",IF(W41<2.95,"R",IF(W41<3.95,"A",IF(W41<=5,"E","nota>5,0"))))) -> B | X42: =IF(X41="","Falta Nota",IF(X41<1.95,"B",IF(X41<2.95,"R",IF(X41<3.95,"A",IF(X41<=5,"E","nota>5,0"))))) -> B | Y42: =IF(Y41="","Falta Nota",IF(Y41<1.95,"B",IF(Y41<2.95,"R",IF(Y41<3.95,"A",IF(Y41<=5,"E","nota>5,0"))))) -> B

Sheet Asignatura 4 G4
B2: SISTEMA DE ASEGURAMIENTO DE RESULTADOS DE APRENDIZAJE - SARA INDICADORES RESULTADO DE APRENDIZAJE DE ASIGNATURA
AC4: ANÁLISIS DE INDICADORES Mi1 Y Mi2
B6: Profesor: | C6: ='Asignatura 1 G1'!B7 -> Nombre completo del profesor | H6: Cedula: | I6: ='Asignatura 1 G1'!H7 -> No. de identificación | L6: Asignatura: | M6: Nombre de la asignatura (Q10) | R6: Grupo: | S6: No. de grupo (Q10) | Y6: Periodo: | Z6: ='Asignatura 1 G1'!Y7 -> 202X-A/B | AI6: Guía de selección de categorías
AI7: Seleccione la categoría que describe el comportamiento obtenido | AQ7: Seleccione la categoría que describe el comportamiento obtenido | AY7: Seleccione la categoría que describe el comportamiento obtenido | BA7: Categorización
B8: Estudiante | C8: Programa | D8: RAE1 | L8: RAE2 | T8: RAE 3 | AD8: Mi1 RAE1 | AI8: Categorización | AL8: Mi 1 RAE2 | AQ8: Categorización | AT8: Mi1 RAE3 | AY8: Categorización | BA8: C1a : Distribución favorable: Excelencia predominante
D9: AF 1 | G9: AF2 | I9: AF3 | J9: Mi1 | K9: Nivel Mi1 | L9: AF4 | O9: AF5 | Q9: AF6 | R9: Mi1 | S9: Nivel Mi1 | T9: AF6 | W9: AF7 | Y9: AF8 | Z9: Mi1 | AA9: Nivel Mi1 | AD9: B | AE9: R | AF9: A | AG9: E | AI9: C1a : Distribución favorable: Excelencia predominante | AL9: B | AM9: R | AN9: A | AO9: E | AQ9: C1a : Distribución favorable: Excelencia predominante | AT9: B | AU9: R | AV9: A | AW9: E | AY9: C1a : Distribución favorable: Excelencia predominante | BA9: C1b : Distribución favorable: Logro aceptable predominante
D10: AE1 | E10: AE2 | F10: AE3 | G10: AE4 | H10: AE5 | I10: AE6 | L10: AE7 | M10: AE8 | N10: AE9 | O10: AE10 | P10: AE11 | Q10: AE12 | T10: AE13 | U10: AE14 | V10: AE15 | W10: AE16 | X10: AE17 | Y10: AE18 | AD10: =COUNTIF($K:$K,AD9) -> 30 | AE10: =COUNTIF($K:$K,AE9) -> 0 | AF10: =COUNTIF($K:$K,AF9) -> 0 | AG10: =COUNTIF($K:$K,AG9) -> 0 | AL10: =COUNTIF($S:$S,AL9) -> 30 | AM10: =COUNTIF($S:$S,AM9) -> 0 | AN10: =COUNTIF($S:$S,AN9) -> 0 | AO10: =COUNTIF($S:$S,AO9) -> 0 | AT10: =COUNTIF($AA:$AA,AT9) -> 30 | AU10: =COUNTIF($AA:$AA,AU9) -> 0 | AV10: =COUNTIF($AA:$AA,AV9) -> 0 | AW10: =COUNTIF($AA:$AA,AW9) -> 0 | BA10: C1c : Distribución favorable: Tendencia ascendente al logro B-E
A11: 1 | D11: 0 | E11: 0 | F11: 0 | G11: 0 | H11: 0 | I11: 0 | J11: =AVERAGE(D11:I11) -> 0 | K11: =IF(J11="","Falta Nota",IF(J11<1.95,"B",IF(J11<2.95,"R",IF(J11<3.95,"A",IF(J11<=5,"E","nota>5,0"))))) -> B | L11: 0 | M11: 0 | N11: 0 | O11: 0 | P11: 0 | Q11: 0 | R11: =AVERAGE(L11:Q11) -> 0 | S11: =IF(R11="","Falta Nota",IF(R11<1.95,"B",IF(R11<2.95,"R",IF(R11<3.95,"A",IF(R11<=5,"E","nota>5,0"))))) -> B | T11: 0 | U11: 0 | V11: 0 | W11: 0 | X11: 0 | Y11: 0 | Z11: =AVERAGE(T11:Y11) -> 0 | AA11: =IF(Z11="","Falta Nota",IF(Z11<1.95,"B",IF(Z11<2.95,"R",IF(Z11<3.95,"A",IF(Z11<=5,"E","nota>5,0"))))) -> B | BA11: C2a: Distribución por fortalecer: Alerta crítica predominante B
A12: 2 | D12: 0 | E12: 0 | F12: 0 | G12: 0 | H12: 0 | I12: 0 | J12: =AVERAGE(D12:I12) -> 0 | K12: =IF(J12="","Falta Nota",IF(J12<1.95,"B",IF(J12<2.95,"R",IF(J12<3.95,"A",IF(J12<=5,"E","nota>5,0"))))) -> B | L12: 0 | M12: 0 | N12: 0 | O12: 0 | P12: 0 | Q12: 0 | R12: =AVERAGE(L12:Q12) -> 0 | S12: =IF(R12="","Falta Nota",IF(R12<1.95,"B",IF(R12<2.95,"R",IF(R12<3.95,"A",IF(R12<=5,"E","nota>5,0"))))) -> B | T12: 0 | U12: 0 | V12: 0 | W12: 0 | X12: 0 | Y12: 0 | Z12: =AVERAGE(T12:Y12) -> 0 | AA12: =IF(Z12="","Falta Nota",IF(Z12<1.95,"B",IF(Z12<2.95,"R",IF(Z12<3.95,"A",IF(Z12<=5,"E","nota>5,0"))))) -> B | BA12: C2b: Distribución por fortalecer: Alerta moderada predominante R
A13: 3 | D13: 0 | E13: 0 | F13: 0 | G13: 0 | H13: 0 | I13: 0 | J13: =AVERAGE(D13:I13) -> 0 | K13: =IF(J13="","Falta Nota",IF(J13<1.95,"B",IF(J13<2.95,"R",IF(J13<3.95,"A",IF(J13<=5,"E","nota>5,0"))))) -> B | L13: 0 | M13: 0 | N13: 0 | O13: 0 | P13: 0 | Q13: 0 | R13: =AVERAGE(L13:Q13) -> 0 | S13: =IF(R13="","Falta Nota",IF(R13<1.95,"B",IF(R13<2.95,"R",IF(R13<3.95,"A",IF(R13<=5,"E","nota>5,0"))))) -> B | T13: 0 | U13: 0 | V13: 0 | W13: 0 | X13: 0 | Y13: 0 | Z13: =AVERAGE(T13:Y13) -> 0 | AA13: =IF(Z13="","Falta Nota",IF(Z13<1.95,"B",IF(Z13<2.95,"R",IF(Z13<3.95,"A",IF(Z13<=5,"E","nota>5,0"))))) -> B | BA13: C2c: Distribución por fortalecer: Tendencia descendente E-B
A14: 4 | D14: 0 | E14: 0 | F14: 0 | G14: 0 | H14: 0 | I14: 0 | J14: =AVERAGE(D14:I14) -> 0 | K14: =IF(J14="","Falta Nota",IF(J14<1.95,"B",IF(J14<2.95,"R",IF(J14<3.95,"A",IF(J14<=5,"E","nota>5,0"))))) -> B | L14: 0 | M14: 0 | N14: 0 | O14: 0 | P14: 0 | Q14: 0 | R14: =AVERAGE(L14:Q14) -> 0 | S14: =IF(R14="","Falta Nota",IF(R14<1.95,"B",IF(R14<2.95,"R",IF(R14<3.95,"A",IF(R14<=5,"E","nota>5,0"))))) -> B | T14: 0 | U14: 0 | V14: 0 | W14: 0 | X14: 0 | Y14: 0 | Z14: =AVERAGE(T14:Y14) -> 0 | AA14: =IF(Z14="","Falta Nota",IF(Z14<1.95,"B",IF(Z14<2.95,"R",IF(Z14<3.95,"A",IF(Z14<=5,"E","nota>5,0"))))) -> B | BA14: C3a: Distribución neutral: Distribución dispersa (heterogénea)
A15: 5 | D15: 0 | E15: 0 | F15: 0 | G15: 0 | H15: 0 | I15: 0 | J15: =AVERAGE(D15:I15) -> 0 | K15: =IF(J15="","Falta Nota",IF(J15<1.95,"B",IF(J15<2.95,"R",IF(J15<3.95,"A",IF(J15<=5,"E","nota>5,0"))))) -> B | L15: 0 | M15: 0 | N15: 0 | O15: 0 | P15: 0 | Q15: 0 | R15: =AVERAGE(L15:Q15) -> 0 | S15: =IF(R15="","Falta Nota",IF(R15<1.95,"B",IF(R15<2.95,"R",IF(R15<3.95,"A",IF(R15<=5,"E","nota>5,0"))))) -> B | T15: 0 | U15: 0 | V15: 0 | W15: 0 | X15: 0 | Y15: 0 | Z15: =AVERAGE(T15:Y15) -> 0 | AA15: =IF(Z15="","Falta Nota",IF(Z15<1.95,"B",IF(Z15<2.95,"R",IF(Z15<3.95,"A",IF(Z15<=5,"E","nota>5,0"))))) -> B | BA15: C3b: Distribución neutral: Umbral de logro (R/A predominante)
A16: 6 | D16: 0 | E16: 0 | F16: 0 | G16: 0 | H16: 0 | I16: 0 | J16: =AVERAGE(D16:I16) -> 0 | K16: =IF(J16="","Falta Nota",IF(J16<1.95,"B",IF(J16<2.95,"R",IF(J16<3.95,"A",IF(J16<=5,"E","nota>5,0"))))) -> B | L16: 0 | M16: 0 | N16: 0 | O16: 0 | P16: 0 | Q16: 0 | R16: =AVERAGE(L16:Q16) -> 0 | S16: =IF(R16="","Falta Nota",IF(R16<1.95,"B",IF(R16<2.95,"R",IF(R16<3.95,"A",IF(R16<=5,"E","nota>5,0"))))) -> B | T16: 0 | U16: 0 | V16: 0 | W16: 0 | X16: 0 | Y16: 0 | Z16: =AVERAGE(T16:Y16) -> 0 | AA16: =IF(Z16="","Falta Nota",IF(Z16<1.95,"B",IF(Z16<2.95,"R",IF(Z16<3.95,"A",IF(Z16<=5,"E","nota>5,0"))))) -> B | BA16: C3c: Distribución neutral: Logro con regazo significativo
A17: 7 | D17: 0 | E17: 0 | F17: 0 | G17: 0 | H17: 0 | I17: 0 | J17: =AVERAGE(D17:I17) -> 0 | K17: =IF(J17="","Falta Nota",IF(J17<1.95,"B",IF(J17<2.95,"R",IF(J17<3.95,"A",IF(J17<=5,"E","nota>5,0"))))) -> B | L17: 0 | M17: 0 | N17: 0 | O17: 0 | P17: 0 | Q17: 0 | R17: =AVERAGE(L17:Q17) -> 0 | S17: =IF(R17="","Falta Nota",IF(R17<1.95,"B",IF(R17<2.95,"R",IF(R17<3.95,"A",IF(R17<=5,"E","nota>5,0"))))) -> B | T17: 0 | U17: 0 | V17: 0 | W17: 0 | X17: 0 | Y17: 0 | Z17: =AVERAGE(T17:Y17) -> 0 | AA17: =IF(Z17="","Falta Nota",IF(Z17<1.95,"B",IF(Z17<2.95,"R",IF(Z17<3.95,"A",IF(Z17<=5,"E","nota>5,0"))))) -> B | BA17: C4a: Distribución polarizada: Polarización extrema (BE)
A18: 8 | D18: 0 | E18: 0 | F18: 0 | G18: 0 | H18: 0 | I18: 0 | J18: =AVERAGE(D18:I18) -> 0 | K18: =IF(J18="","Falta Nota",IF(J18<1.95,"B",IF(J18<2.95,"R",IF(J18<3.95,"A",IF(J18<=5,"E","nota>5,0"))))) -> B | L18: 0 | M18: 0 | N18: 0 | O18: 0 | P18: 0 | Q18: 0 | R18: =AVERAGE(L18:Q18) -> 0 | S18: =IF(R18="","Falta Nota",IF(R18<1.95,"B",IF(R18<2.95,"R",IF(R18<3.95,"A",IF(R18<=5,"E","nota>5,0"))))) -> B | T18: 0 | U18: 0 | V18: 0 | W18: 0 | X18: 0 | Y18: 0 | Z18: =AVERAGE(T18:Y18) -> 0 | AA18: =IF(Z18="","Falta Nota",IF(Z18<1.95,"B",IF(Z18<2.95,"R",IF(Z18<3.95,"A",IF(Z18<=5,"E","nota>5,0"))))) -> B | BA18: C4b: Distribución polarizada: Polarización media (RE)
A19: 9 | D19: 0 | E19: 0 | F19: 0 | G19: 0 | H19: 0 | I19: 0 | J19: =AVERAGE(D19:I19) -> 0 | K19: =IF(J19="","Falta Nota",IF(J19<1.95,"B",IF(J19<2.95,"R",IF(J19<3.95,"A",IF(J19<=5,"E","nota>5,0"))))) -> B | L19: 0 | M19: 0 | N19: 0 | O19: 0 | P19: 0 | Q19: 0 | R19: =AVERAGE(L19:Q19) -> 0 | S19: =IF(R19="","Falta Nota",IF(R19<1.95,"B",IF(R19<2.95,"R",IF(R19<3.95,"A",IF(R19<=5,"E","nota>5,0"))))) -> B | T19: 0 | U19: 0 | V19: 0 | W19: 0 | X19: 0 | Y19: 0 | Z19: =AVERAGE(T19:Y19) -> 0 | AA19: =IF(Z19="","Falta Nota",IF(Z19<1.95,"B",IF(Z19<2.95,"R",IF(Z19<3.95,"A",IF(Z19<=5,"E","nota>5,0"))))) -> B | BA19: C4c: Distribución polarizada: Polarización media (BR)
A20: 10 | D20: 0 | E20: 0 | F20: 0 | G20: 0 | H20: 0 | I20: 0 | J20: =AVERAGE(D20:I20) -> 0 | K20: =IF(J20="","Falta Nota",IF(J20<1.95,"B",IF(J20<2.95,"R",IF(J20<3.95,"A",IF(J20<=5,"E","nota>5,0"))))) -> B | L20: 0 | M20: 0 | N20: 0 | O20: 0 | P20: 0 | Q20: 0 | R20: =AVERAGE(L20:Q20) -> 0 | S20: =IF(R20="","Falta Nota",IF(R20<1.95,"B",IF(R20<2.95,"R",IF(R20<3.95,"A",IF(R20<=5,"E","nota>5,0"))))) -> B | T20: 0 | U20: 0 | V20: 0 | W20: 0 | X20: 0 | Y20: 0 | Z20: =AVERAGE(T20:Y20) -> 0 | AA20: =IF(Z20="","Falta Nota",IF(Z20<1.95,"B",IF(Z20<2.95,"R",IF(Z20<3.95,"A",IF(Z20<=5,"E","nota>5,0"))))) -> B
A21: 11 | D21: 0 | E21: 0 | F21: 0 | G21: 0 | H21: 0 | I21: 0 | J21: =AVERAGE(D21:I21) -> 0 | K21: =IF(J21="","Falta Nota",IF(J21<1.95,"B",IF(J21<2.95,"R",IF(J21<3.95,"A",IF(J21<=5,"E","nota>5,0"))))) -> B | L21: 0 | M21: 0 | N21: 0 | O21: 0 | P21: 0 | Q21: 0 | R21: =AVERAGE(L21:Q21) -> 0 | S21: =IF(R21="","Falta Nota",IF(R21<1.95,"B",IF(R21<2.95,"R",IF(R21<3.95,"A",IF(R21<=5,"E","nota>5,0"))))) -> B | T21: 0 | U21: 0 | V21: 0 | W21: 0 | X21: 0 | Y21: 0 | Z21: =AVERAGE(T21:Y21) -> 0 | AA21: =IF(Z21="","Falta Nota",IF(Z21<1.95,"B",IF(Z21<2.95,"R",IF(Z21<3.95,"A",IF(Z21<=5,"E","nota>5,0"))))) -> B
A22: 12 | D22: 0 | E22: 0 | F22: 0 | G22: 0 | H22: 0 | I22: 0 | J22: =AVERAGE(D22:I22) -> 0 | K22: =IF(J22="","Falta Nota",IF(J22<1.95,"B",IF(J22<2.95,"R",IF(J22<3.95,"A",IF(J22<=5,"E","nota>5,0"))))) -> B | L22: 0 | M22: 0 | N22: 0 | O22: 0 | P22: 0 | Q22: 0 | R22: =AVERAGE(L22:Q22) -> 0 | S22: =IF(R22="","Falta Nota",IF(R22<1.95,"B",IF(R22<2.95,"R",IF(R22<3.95,"A",IF(R22<=5,"E","nota>5,0"))))) -> B | T22: 0 | U22: 0 | V22: 0 | W22: 0 | X22: 0 | Y22: 0 | Z22: =AVERAGE(T22:Y22) -> 0 | AA22: =IF(Z22="","Falta Nota",IF(Z22<1.95,"B",IF(Z22<2.95,"R",IF(Z22<3.95,"A",IF(Z22<=5,"E","nota>5,0"))))) -> B
A23: 13 | D23: 0 | E23: 0 | F23: 0 | G23: 0 | H23: 0 | I23: 0 | J23: =AVERAGE(D23:I23) -> 0 | K23: =IF(J23="","Falta Nota",IF(J23<1.95,"B",IF(J23<2.95,"R",IF(J23<3.95,"A",IF(J23<=5,"E","nota>5,0"))))) -> B | L23: 0 | M23: 0 | N23: 0 | O23: 0 | P23: 0 | Q23: 0 | R23: =AVERAGE(L23:Q23) -> 0 | S23: =IF(R23="","Falta Nota",IF(R23<1.95,"B",IF(R23<2.95,"R",IF(R23<3.95,"A",IF(R23<=5,"E","nota>5,0"))))) -> B | T23: 0 | U23: 0 | V23: 0 | W23: 0 | X23: 0 | Y23: 0 | Z23: =AVERAGE(T23:Y23) -> 0 | AA23: =IF(Z23="","Falta Nota",IF(Z23<1.95,"B",IF(Z23<2.95,"R",IF(Z23<3.95,"A",IF(Z23<=5,"E","nota>5,0"))))) -> B
A24: 14 | D24: 0 | E24: 0 | F24: 0 | G24: 0 | H24: 0 | I24: 0 | J24: =AVERAGE(D24:I24) -> 0 | K24: =IF(J24="","Falta Nota",IF(J24<1.95,"B",IF(J24<2.95,"R",IF(J24<3.95,"A",IF(J24<=5,"E","nota>5,0"))))) -> B | L24: 0 | M24: 0 | N24: 0 | O24: 0 | P24: 0 | Q24: 0 | R24: =AVERAGE(L24:Q24) -> 0 | S24: =IF(R24="","Falta Nota",IF(R24<1.95,"B",IF(R24<2.95,"R",IF(R24<3.95,"A",IF(R24<=5,"E","nota>5,0"))))) -> B | T24: 0 | U24: 0 | V24: 0 | W24: 0 | X24: 0 | Y24: 0 | Z24: =AVERAGE(T24:Y24) -> 0 | AA24: =IF(Z24="","Falta Nota",IF(Z24<1.95,"B",IF(Z24<2.95,"R",IF(Z24<3.95,"A",IF(Z24<=5,"E","nota>5,0"))))) -> B
A25: 15 | D25: 0 | E25: 0 | F25: 0 | G25: 0 | H25: 0 | I25: 0 | J25: =AVERAGE(D25:I25) -> 0 | K25: =IF(J25="","Falta Nota",IF(J25<1.95,"B",IF(J25<2.95,"R",IF(J25<3.95,"A",IF(J25<=5,"E","nota>5,0"))))) -> B | L25: 0 | M25: 0 | N25: 0 | O25: 0 | P25: 0 | Q25: 0 | R25: =AVERAGE(L25:Q25) -> 0 | S25: =IF(R25="","Falta Nota",IF(R25<1.95,"B",IF(R25<2.95,"R",IF(R25<3.95,"A",IF(R25<=5,"E","nota>5,0"))))) -> B | T25: 0 | U25: 0 | V25: 0 | W25: 0 | X25: 0 | Y25: 0 | Z25: =AVERAGE(T25:Y25) -> 0 | AA25: =IF(Z25="","Falta Nota",IF(Z25<1.95,"B",IF(Z25<2.95,"R",IF(Z25<3.95,"A",IF(Z25<=5,"E","nota>5,0"))))) -> B
A26: 16 | D26: 0 | E26: 0 | F26: 0 | G26: 0 | H26: 0 | I26: 0 | J26: =AVERAGE(D26:I26) -> 0 | K26: =IF(J26="","Falta Nota",IF(J26<1.95,"B",IF(J26<2.95,"R",IF(J26<3.95,"A",IF(J26<=5,"E","nota>5,0"))))) -> B | L26: 0 | M26: 0 | N26: 0 | O26: 0 | P26: 0 | Q26: 0 | R26: =AVERAGE(L26:Q26) -> 0 | S26: =IF(R26="","Falta Nota",IF(R26<1.95,"B",IF(R26<2.95,"R",IF(R26<3.95,"A",IF(R26<=5,"E","nota>5,0"))))) -> B | T26: 0 | U26: 0 | V26: 0 | W26: 0 | X26: 0 | Y26: 0 | Z26: =AVERAGE(T26:Y26) -> 0 | AA26: =IF(Z26="","Falta Nota",IF(Z26<1.95,"B",IF(Z26<2.95,"R",IF(Z26<3.95,"A",IF(Z26<=5,"E","nota>5,0"))))) -> B
A27: 17 | D27: 0 | E27: 0 | F27: 0 | G27: 0 | H27: 0 | I27: 0 | J27: =AVERAGE(D27:I27) -> 0 | K27: =IF(J27="","Falta Nota",IF(J27<1.95,"B",IF(J27<2.95,"R",IF(J27<3.95,"A",IF(J27<=5,"E","nota>5,0"))))) -> B | L27: 0 | M27: 0 | N27: 0 | O27: 0 | P27: 0 | Q27: 0 | R27: =AVERAGE(L27:Q27) -> 0 | S27: =IF(R27="","Falta Nota",IF(R27<1.95,"B",IF(R27<2.95,"R",IF(R27<3.95,"A",IF(R27<=5,"E","nota>5,0"))))) -> B | T27: 0 | U27: 0 | V27: 0 | W27: 0 | X27: 0 | Y27: 0 | Z27: =AVERAGE(T27:Y27) -> 0 | AA27: =IF(Z27="","Falta Nota",IF(Z27<1.95,"B",IF(Z27<2.95,"R",IF(Z27<3.95,"A",IF(Z27<=5,"E","nota>5,0"))))) -> B
A28: 18 | D28: 0 | E28: 0 | F28: 0 | G28: 0 | H28: 0 | I28: 0 | J28: =AVERAGE(D28:I28) -> 0 | K28: =IF(J28="","Falta Nota",IF(J28<1.95,"B",IF(J28<2.95,"R",IF(J28<3.95,"A",IF(J28<=5,"E","nota>5,0"))))) -> B | L28: 0 | M28: 0 | N28: 0 | O28: 0 | P28: 0 | Q28: 0 | R28: =AVERAGE(L28:Q28) -> 0 | S28: =IF(R28="","Falta Nota",IF(R28<1.95,"B",IF(R28<2.95,"R",IF(R28<3.95,"A",IF(R28<=5,"E","nota>5,0"))))) -> B | T28: 0 | U28: 0 | V28: 0 | W28: 0 | X28: 0 | Y28: 0 | Z28: =AVERAGE(T28:Y28) -> 0 | AA28: =IF(Z28="","Falta Nota",IF(Z28<1.95,"B",IF(Z28<2.95,"R",IF(Z28<3.95,"A",IF(Z28<=5,"E","nota>5,0"))))) -> B | AI28: Seleccione la categoría que describe el comportamiento obtenido | AQ28: Seleccione la categoría que describe el comportamiento obtenido | AY28: Seleccione la categoría que describe el comportamiento obtenido
A29: 19 | D29: 0 | E29: 0 | F29: 0 | G29: 0 | H29: 0 | I29: 0 | J29: =AVERAGE(D29:I29) -> 0 | K29: =IF(J29="","Falta Nota",IF(J29<1.95,"B",IF(J29<2.95,"R",IF(J29<3.95,"A",IF(J29<=5,"E","nota>5,0"))))) -> B | L29: 0 | M29: 0 | N29: 0 | O29: 0 | P29: 0 | Q29: 0 | R29: =AVERAGE(L29:Q29) -> 0 | S29: =IF(R29="","Falta Nota",IF(R29<1.95,"B",IF(R29<2.95,"R",IF(R29<3.95,"A",IF(R29<=5,"E","nota>5,0"))))) -> B | T29: 0 | U29: 0 | V29: 0 | W29: 0 | X29: 0 | Y29: 0 | Z29: =AVERAGE(T29:Y29) -> 0 | AA29: =IF(Z29="","Falta Nota",IF(Z29<1.95,"B",IF(Z29<2.95,"R",IF(Z29<3.95,"A",IF(Z29<=5,"E","nota>5,0"))))) -> B | AD29: Mi2 RAE1 | AI29: Categorización | AL29: Mi2 RAE2 | AQ29: Categorización | AT29: Mi2 RAE3 | AY29: Categorización
A30: 20 | D30: 0 | E30: 0 | F30: 0 | G30: 0 | H30: 0 | I30: 0 | J30: =AVERAGE(D30:I30) -> 0 | K30: =IF(J30="","Falta Nota",IF(J30<1.95,"B",IF(J30<2.95,"R",IF(J30<3.95,"A",IF(J30<=5,"E","nota>5,0"))))) -> B | L30: 0 | M30: 0 | N30: 0 | O30: 0 | P30: 0 | Q30: 0 | R30: =AVERAGE(L30:Q30) -> 0 | S30: =IF(R30="","Falta Nota",IF(R30<1.95,"B",IF(R30<2.95,"R",IF(R30<3.95,"A",IF(R30<=5,"E","nota>5,0"))))) -> B | T30: 0 | U30: 0 | V30: 0 | W30: 0 | X30: 0 | Y30: 0 | Z30: =AVERAGE(T30:Y30) -> 0 | AA30: =IF(Z30="","Falta Nota",IF(Z30<1.95,"B",IF(Z30<2.95,"R",IF(Z30<3.95,"A",IF(Z30<=5,"E","nota>5,0"))))) -> B | AD30: B | AE30: R | AF30: A | AG30: E | AI30: C1a : Distribución favorable: Excelencia predominante | AL30: B | AM30: R | AN30: A | AO30: E | AQ30: C1a : Distribución favorable: Excelencia predominante | AT30: B | AU30: R | AV30: A | AW30: E | AY30: C1a : Distribución favorable: Excelencia predominante
A31: 21 | D31: 0 | E31: 0 | F31: 0 | G31: 0 | H31: 0 | I31: 0 | J31: =AVERAGE(D31:I31) -> 0 | K31: =IF(J31="","Falta Nota",IF(J31<1.95,"B",IF(J31<2.95,"R",IF(J31<3.95,"A",IF(J31<=5,"E","nota>5,0"))))) -> B | L31: 0 | M31: 0 | N31: 0 | O31: 0 | P31: 0 | Q31: 0 | R31: =AVERAGE(L31:Q31) -> 0 | S31: =IF(R31="","Falta Nota",IF(R31<1.95,"B",IF(R31<2.95,"R",IF(R31<3.95,"A",IF(R31<=5,"E","nota>5,0"))))) -> B | T31: 0 | U31: 0 | V31: 0 | W31: 0 | X31: 0 | Y31: 0 | Z31: =AVERAGE(T31:Y31) -> 0 | AA31: =IF(Z31="","Falta Nota",IF(Z31<1.95,"B",IF(Z31<2.95,"R",IF(Z31<3.95,"A",IF(Z31<=5,"E","nota>5,0"))))) -> B | AD31: =COUNTIF($D42:$I42,AD30) -> 6 | AE31: =COUNTIF($D42:$I42,AE30) -> 0 | AF31: =COUNTIF($D42:$I42,AF30) -> 0 | AG31: =COUNTIF($D42:$I42,AG30) -> 0 | AL31: =COUNTIF($L42:$Q42,AL30) -> 6 | AM31: =COUNTIF($L42:$Q42,AM30) -> 0 | AN31: =COUNTIF($L42:$Q42,AN30) -> 0 | AO31: =COUNTIF($L42:$Q42,AO30) -> 0 | AT31: =COUNTIF($T42:$Y42,AT30) -> 6 | AU31: =COUNTIF($T42:$Y42,AU30) -> 0 | AV31: =COUNTIF($T42:$Y42,AV30) -> 0 | AW31: =COUNTIF($T42:$Y42,AW30) -> 0
A32: 22 | D32: 0 | E32: 0 | F32: 0 | G32: 0 | H32: 0 | I32: 0 | J32: =AVERAGE(D32:I32) -> 0 | K32: =IF(J32="","Falta Nota",IF(J32<1.95,"B",IF(J32<2.95,"R",IF(J32<3.95,"A",IF(J32<=5,"E","nota>5,0"))))) -> B | L32: 0 | M32: 0 | N32: 0 | O32: 0 | P32: 0 | Q32: 0 | R32: =AVERAGE(L32:Q32) -> 0 | S32: =IF(R32="","Falta Nota",IF(R32<1.95,"B",IF(R32<2.95,"R",IF(R32<3.95,"A",IF(R32<=5,"E","nota>5,0"))))) -> B | T32: 0 | U32: 0 | V32: 0 | W32: 0 | X32: 0 | Y32: 0 | Z32: =AVERAGE(T32:Y32) -> 0 | AA32: =IF(Z32="","Falta Nota",IF(Z32<1.95,"B",IF(Z32<2.95,"R",IF(Z32<3.95,"A",IF(Z32<=5,"E","nota>5,0"))))) -> B
A33: 23 | D33: 0 | E33: 0 | F33: 0 | G33: 0 | H33: 0 | I33: 0 | J33: =AVERAGE(D33:I33) -> 0 | K33: =IF(J33="","Falta Nota",IF(J33<1.95,"B",IF(J33<2.95,"R",IF(J33<3.95,"A",IF(J33<=5,"E","nota>5,0"))))) -> B | L33: 0 | M33: 0 | N33: 0 | O33: 0 | P33: 0 | Q33: 0 | R33: =AVERAGE(L33:Q33) -> 0 | S33: =IF(R33="","Falta Nota",IF(R33<1.95,"B",IF(R33<2.95,"R",IF(R33<3.95,"A",IF(R33<=5,"E","nota>5,0"))))) -> B | T33: 0 | U33: 0 | V33: 0 | W33: 0 | X33: 0 | Y33: 0 | Z33: =AVERAGE(T33:Y33) -> 0 | AA33: =IF(Z33="","Falta Nota",IF(Z33<1.95,"B",IF(Z33<2.95,"R",IF(Z33<3.95,"A",IF(Z33<=5,"E","nota>5,0"))))) -> B
A34: 24 | D34: 0 | E34: 0 | F34: 0 | G34: 0 | H34: 0 | I34: 0 | J34: =AVERAGE(D34:I34) -> 0 | K34: =IF(J34="","Falta Nota",IF(J34<1.95,"B",IF(J34<2.95,"R",IF(J34<3.95,"A",IF(J34<=5,"E","nota>5,0"))))) -> B | L34: 0 | M34: 0 | N34: 0 | O34: 0 | P34: 0 | Q34: 0 | R34: =AVERAGE(L34:Q34) -> 0 | S34: =IF(R34="","Falta Nota",IF(R34<1.95,"B",IF(R34<2.95,"R",IF(R34<3.95,"A",IF(R34<=5,"E","nota>5,0"))))) -> B | T34: 0 | U34: 0 | V34: 0 | W34: 0 | X34: 0 | Y34: 0 | Z34: =AVERAGE(T34:Y34) -> 0 | AA34: =IF(Z34="","Falta Nota",IF(Z34<1.95,"B",IF(Z34<2.95,"R",IF(Z34<3.95,"A",IF(Z34<=5,"E","nota>5,0"))))) -> B
A35: 25 | D35: 0 | E35: 0 | F35: 0 | G35: 0 | H35: 0 | I35: 0 | J35: =AVERAGE(D35:I35) -> 0 | K35: =IF(J35="","Falta Nota",IF(J35<1.95,"B",IF(J35<2.95,"R",IF(J35<3.95,"A",IF(J35<=5,"E","nota>5,0"))))) -> B | L35: 0 | M35: 0 | N35: 0 | O35: 0 | P35: 0 | Q35: 0 | R35: =AVERAGE(L35:Q35) -> 0 | S35: =IF(R35="","Falta Nota",IF(R35<1.95,"B",IF(R35<2.95,"R",IF(R35<3.95,"A",IF(R35<=5,"E","nota>5,0"))))) -> B | T35: 0 | U35: 0 | V35: 0 | W35: 0 | X35: 0 | Y35: 0 | Z35: =AVERAGE(T35:Y35) -> 0 | AA35: =IF(Z35="","Falta Nota",IF(Z35<1.95,"B",IF(Z35<2.95,"R",IF(Z35<3.95,"A",IF(Z35<=5,"E","nota>5,0"))))) -> B
A36: 26 | D36: 0 | E36: 0 | F36: 0 | G36: 0 | H36: 0 | I36: 0 | J36: =AVERAGE(D36:I36) -> 0 | K36: =IF(J36="","Falta Nota",IF(J36<1.95,"B",IF(J36<2.95,"R",IF(J36<3.95,"A",IF(J36<=5,"E","nota>5,0"))))) -> B | L36: 0 | M36: 0 | N36: 0 | O36: 0 | P36: 0 | Q36: 0 | R36: =AVERAGE(L36:Q36) -> 0 | S36: =IF(R36="","Falta Nota",IF(R36<1.95,"B",IF(R36<2.95,"R",IF(R36<3.95,"A",IF(R36<=5,"E","nota>5,0"))))) -> B | T36: 0 | U36: 0 | V36: 0 | W36: 0 | X36: 0 | Y36: 0 | Z36: =AVERAGE(T36:Y36) -> 0 | AA36: =IF(Z36="","Falta Nota",IF(Z36<1.95,"B",IF(Z36<2.95,"R",IF(Z36<3.95,"A",IF(Z36<=5,"E","nota>5,0"))))) -> B
A37: 27 | D37: 0 | E37: 0 | F37: 0 | G37: 0 | H37: 0 | I37: 0 | J37: =AVERAGE(D37:I37) -> 0 | K37: =IF(J37="","Falta Nota",IF(J37<1.95,"B",IF(J37<2.95,"R",IF(J37<3.95,"A",IF(J37<=5,"E","nota>5,0"))))) -> B | L37: 0 | M37: 0 | N37: 0 | O37: 0 | P37: 0 | Q37: 0 | R37: =AVERAGE(L37:Q37) -> 0 | S37: =IF(R37="","Falta Nota",IF(R37<1.95,"B",IF(R37<2.95,"R",IF(R37<3.95,"A",IF(R37<=5,"E","nota>5,0"))))) -> B | T37: 0 | U37: 0 | V37: 0 | W37: 0 | X37: 0 | Y37: 0 | Z37: =AVERAGE(T37:Y37) -> 0 | AA37: =IF(Z37="","Falta Nota",IF(Z37<1.95,"B",IF(Z37<2.95,"R",IF(Z37<3.95,"A",IF(Z37<=5,"E","nota>5,0"))))) -> B
A38: 28 | D38: 0 | E38: 0 | F38: 0 | G38: 0 | H38: 0 | I38: 0 | J38: =AVERAGE(D38:I38) -> 0 | K38: =IF(J38="","Falta Nota",IF(J38<1.95,"B",IF(J38<2.95,"R",IF(J38<3.95,"A",IF(J38<=5,"E","nota>5,0"))))) -> B | L38: 0 | M38: 0 | N38: 0 | O38: 0 | P38: 0 | Q38: 0 | R38: =AVERAGE(L38:Q38) -> 0 | S38: =IF(R38="","Falta Nota",IF(R38<1.95,"B",IF(R38<2.95,"R",IF(R38<3.95,"A",IF(R38<=5,"E","nota>5,0"))))) -> B | T38: 0 | U38: 0 | V38: 0 | W38: 0 | X38: 0 | Y38: 0 | Z38: =AVERAGE(T38:Y38) -> 0 | AA38: =IF(Z38="","Falta Nota",IF(Z38<1.95,"B",IF(Z38<2.95,"R",IF(Z38<3.95,"A",IF(Z38<=5,"E","nota>5,0"))))) -> B
A39: 29 | D39: 0 | E39: 0 | F39: 0 | G39: 0 | H39: 0 | I39: 0 | J39: =AVERAGE(D39:I39) -> 0 | K39: =IF(J39="","Falta Nota",IF(J39<1.95,"B",IF(J39<2.95,"R",IF(J39<3.95,"A",IF(J39<=5,"E","nota>5,0"))))) -> B | L39: 0 | M39: 0 | N39: 0 | O39: 0 | P39: 0 | Q39: 0 | R39: =AVERAGE(L39:Q39) -> 0 | S39: =IF(R39="","Falta Nota",IF(R39<1.95,"B",IF(R39<2.95,"R",IF(R39<3.95,"A",IF(R39<=5,"E","nota>5,0"))))) -> B | T39: 0 | U39: 0 | V39: 0 | W39: 0 | X39: 0 | Y39: 0 | Z39: =AVERAGE(T39:Y39) -> 0 | AA39: =IF(Z39="","Falta Nota",IF(Z39<1.95,"B",IF(Z39<2.95,"R",IF(Z39<3.95,"A",IF(Z39<=5,"E","nota>5,0"))))) -> B
A40: 30 | D40: 0 | E40: 0 | F40: 0 | G40: 0 | H40: 0 | I40: 0 | J40: =AVERAGE(D40:I40) -> 0 | K40: =IF(J40="","Falta Nota",IF(J40<1.95,"B",IF(J40<2.95,"R",IF(J40<3.95,"A",IF(J40<=5,"E","nota>5,0"))))) -> B | L40: 0 | M40: 0 | N40: 0 | O40: 0 | P40: 0 | Q40: 0 | R40: =AVERAGE(L40:Q40) -> 0 | S40: =IF(R40="","Falta Nota",IF(R40<1.95,"B",IF(R40<2.95,"R",IF(R40<3.95,"A",IF(R40<=5,"E","nota>5,0"))))) -> B | T40: 0 | U40: 0 | V40: 0 | W40: 0 | X40: 0 | Y40: 0 | Z40: =AVERAGE(T40:Y40) -> 0 | AA40: =IF(Z40="","Falta Nota",IF(Z40<1.95,"B",IF(Z40<2.95,"R",IF(Z40<3.95,"A",IF(Z40<=5,"E","nota>5,0"))))) -> B
B41: Mi2 | D41: =AVERAGE(D11:D40) -> 0 | E41: =AVERAGE(E11:E40) -> 0 | F41: =AVERAGE(F11:F40) -> 0 | G41: =AVERAGE(G11:G40) -> 0 | H41: =AVERAGE(H11:H40) -> 0 | I41: =AVERAGE(I11:I40) -> 0 | L41: =AVERAGE(L11:L40) -> 0 | M41: =AVERAGE(M11:M40) -> 0 | N41: =AVERAGE(N11:N40) -> 0 | O41: =AVERAGE(O11:O40) -> 0 | P41: =AVERAGE(P11:P40) -> 0 | Q41: =AVERAGE(Q11:Q40) -> 0 | T41: =AVERAGE(T11:T40) -> 0 | U41: =AVERAGE(U11:U40) -> 0 | V41: =AVERAGE(V11:V40) -> 0 | W41: =AVERAGE(W11:W40) -> 0 | X41: =AVERAGE(X11:X40) -> 0 | Y41: =AVERAGE(Y11:Y40) -> 0
B42: Nivel M2 | D42: =IF(D41="","Falta Nota",IF(D41<1.95,"B",IF(D41<2.95,"R",IF(D41<3.95,"A",IF(D41<=5,"E","nota>5,0"))))) -> B | E42: =IF(E41="","Falta Nota",IF(E41<1.95,"B",IF(E41<2.95,"R",IF(E41<3.95,"A",IF(E41<=5,"E","nota>5,0"))))) -> B | F42: =IF(F41="","Falta Nota",IF(F41<1.95,"B",IF(F41<2.95,"R",IF(F41<3.95,"A",IF(F41<=5,"E","nota>5,0"))))) -> B | G42: =IF(G41="","Falta Nota",IF(G41<1.95,"B",IF(G41<2.95,"R",IF(G41<3.95,"A",IF(G41<=5,"E","nota>5,0"))))) -> B | H42: =IF(H41="","Falta Nota",IF(H41<1.95,"B",IF(H41<2.95,"R",IF(H41<3.95,"A",IF(H41<=5,"E","nota>5,0"))))) -> B | I42: =IF(I41="","Falta Nota",IF(I41<1.95,"B",IF(I41<2.95,"R",IF(I41<3.95,"A",IF(I41<=5,"E","nota>5,0"))))) -> B | L42: =IF(L41="","Falta Nota",IF(L41<1.95,"B",IF(L41<2.95,"R",IF(L41<3.95,"A",IF(L41<=5,"E","nota>5,0"))))) -> B | M42: =IF(M41="","Falta Nota",IF(M41<1.95,"B",IF(M41<2.95,"R",IF(M41<3.95,"A",IF(M41<=5,"E","nota>5,0"))))) -> B | N42: =IF(N41="","Falta Nota",IF(N41<1.95,"B",IF(N41<2.95,"R",IF(N41<3.95,"A",IF(N41<=5,"E","nota>5,0"))))) -> B | O42: =IF(O41="","Falta Nota",IF(O41<1.95,"B",IF(O41<2.95,"R",IF(O41<3.95,"A",IF(O41<=5,"E","nota>5,0"))))) -> B | P42: =IF(P41="","Falta Nota",IF(P41<1.95,"B",IF(P41<2.95,"R",IF(P41<3.95,"A",IF(P41<=5,"E","nota>5,0"))))) -> B | Q42: =IF(Q41="","Falta Nota",IF(Q41<1.95,"B",IF(Q41<2.95,"R",IF(Q41<3.95,"A",IF(Q41<=5,"E","nota>5,0"))))) -> B | T42: =IF(T41="","Falta Nota",IF(T41<1.95,"B",IF(T41<2.95,"R",IF(T41<3.95,"A",IF(T41<=5,"E","nota>5,0"))))) -> B | U42: =IF(U41="","Falta Nota",IF(U41<1.95,"B",IF(U41<2.95,"R",IF(U41<3.95,"A",IF(U41<=5,"E","nota>5,0"))))) -> B | V42: =IF(V41="","Falta Nota",IF(V41<1.95,"B",IF(V41<2.95,"R",IF(V41<3.95,"A",IF(V41<=5,"E","nota>5,0"))))) -> B | W42: =IF(W41="","Falta Nota",IF(W41<1.95,"B",IF(W41<2.95,"R",IF(W41<3.95,"A",IF(W41<=5,"E","nota>5,0"))))) -> B | X42: =IF(X41="","Falta Nota",IF(X41<1.95,"B",IF(X41<2.95,"R",IF(X41<3.95,"A",IF(X41<=5,"E","nota>5,0"))))) -> B | Y42: =IF(Y41="","Falta Nota",IF(Y41<1.95,"B",IF(Y41<2.95,"R",IF(Y41<3.95,"A",IF(Y41<=5,"E","nota>5,0"))))) -> B

Sheet Asignatura 5 G5
B2: SISTEMA DE ASEGURAMIENTO DE RESULTADOS DE APRENDIZAJE - SARA INDICADORES RESULTADO DE APRENDIZAJE DE ASIGNATURA
AC4: ANÁLISIS DE INDICADORES Mi1 Y Mi2
B6: Profesor: | C6: ='Asignatura 1 G1'!B7 -> Nombre completo del profesor | H6: Cedula: | I6: ='Asignatura 1 G1'!H7 -> No. de identificación | L6: Asignatura: | M6: Nombre de la asignatura (Q10) | R6: Grupo: | S6: No. de grupo (Q10) | Y6: Periodo: | Z6: ='Asignatura 1 G1'!Y7 -> 202X-A/B | AI6: Guía de selección de categorías
AI7: Seleccione la categoría que describe el comportamiento obtenido | AQ7: Seleccione la categoría que describe el comportamiento obtenido | AY7: Seleccione la categoría que describe el comportamiento obtenido | BA7: Categorización
B8: Estudiante | C8: Programa | D8: RAE1 | L8: RAE2 | T8: RAE 3 | AD8: Mi1 RAE1 | AI8: Categorización | AL8: Mi 1 RAE2 | AQ8: Categorización | AT8: Mi1 RAE3 | AY8: Categorización | BA8: C1a : Distribución favorable: Excelencia predominante
D9: AF 1 | G9: AF2 | I9: AF3 | J9: Mi1 | K9: Nivel Mi1 | L9: AF4 | O9: AF5 | Q9: AF6 | R9: Mi1 | S9: Nivel Mi1 | T9: AF6 | W9: AF7 | Y9: AF8 | Z9: Mi1 | AA9: Nivel Mi1 | AD9: B | AE9: R | AF9: A | AG9: E | AI9: C1a : Distribución favorable: Excelencia predominante | AL9: B | AM9: R | AN9: A | AO9: E | AQ9: C1a : Distribución favorable: Excelencia predominante | AT9: B | AU9: R | AV9: A | AW9: E | AY9: C1a : Distribución favorable: Excelencia predominante | BA9: C1b : Distribución favorable: Logro aceptable predominante
D10: AE1 | E10: AE2 | F10: AE3 | G10: AE4 | H10: AE5 | I10: AE6 | L10: AE7 | M10: AE8 | N10: AE9 | O10: AE10 | P10: AE11 | Q10: AE12 | T10: AE13 | U10: AE14 | V10: AE15 | W10: AE16 | X10: AE17 | Y10: AE18 | AD10: =COUNTIF($K:$K,AD9) -> 30 | AE10: =COUNTIF($K:$K,AE9) -> 0 | AF10: =COUNTIF($K:$K,AF9) -> 0 | AG10: =COUNTIF($K:$K,AG9) -> 0 | AL10: =COUNTIF($S:$S,AL9) -> 30 | AM10: =COUNTIF($S:$S,AM9) -> 0 | AN10: =COUNTIF($S:$S,AN9) -> 0 | AO10: =COUNTIF($S:$S,AO9) -> 0 | AT10: =COUNTIF($AA:$AA,AT9) -> 30 | AU10: =COUNTIF($AA:$AA,AU9) -> 0 | AV10: =COUNTIF($AA:$AA,AV9) -> 0 | AW10: =COUNTIF($AA:$AA,AW9) -> 0 | BA10: C1c : Distribución favorable: Tendencia ascendente al logro B-E
A11: 1 | D11: 0 | E11: 0 | F11: 0 | G11: 0 | H11: 0 | I11: 0 | J11: =AVERAGE(D11:I11) -> 0 | K11: =IF(J11="","Falta Nota",IF(J11<1.95,"B",IF(J11<2.95,"R",IF(J11<3.95,"A",IF(J11<=5,"E","nota>5,0"))))) -> B | L11: 0 | M11: 0 | N11: 0 | O11: 0 | P11: 0 | Q11: 0 | R11: =AVERAGE(L11:Q11) -> 0 | S11: =IF(R11="","Falta Nota",IF(R11<1.95,"B",IF(R11<2.95,"R",IF(R11<3.95,"A",IF(R11<=5,"E","nota>5,0"))))) -> B | T11: 0 | U11: 0 | V11: 0 | W11: 0 | X11: 0 | Y11: 0 | Z11: =AVERAGE(T11:Y11) -> 0 | AA11: =IF(Z11="","Falta Nota",IF(Z11<1.95,"B",IF(Z11<2.95,"R",IF(Z11<3.95,"A",IF(Z11<=5,"E","nota>5,0"))))) -> B | BA11: C2a: Distribución por fortalecer: Alerta crítica predominante B
A12: 2 | D12: 0 | E12: 0 | F12: 0 | G12: 0 | H12: 0 | I12: 0 | J12: =AVERAGE(D12:I12) -> 0 | K12: =IF(J12="","Falta Nota",IF(J12<1.95,"B",IF(J12<2.95,"R",IF(J12<3.95,"A",IF(J12<=5,"E","nota>5,0"))))) -> B | L12: 0 | M12: 0 | N12: 0 | O12: 0 | P12: 0 | Q12: 0 | R12: =AVERAGE(L12:Q12) -> 0 | S12: =IF(R12="","Falta Nota",IF(R12<1.95,"B",IF(R12<2.95,"R",IF(R12<3.95,"A",IF(R12<=5,"E","nota>5,0"))))) -> B | T12: 0 | U12: 0 | V12: 0 | W12: 0 | X12: 0 | Y12: 0 | Z12: =AVERAGE(T12:Y12) -> 0 | AA12: =IF(Z12="","Falta Nota",IF(Z12<1.95,"B",IF(Z12<2.95,"R",IF(Z12<3.95,"A",IF(Z12<=5,"E","nota>5,0"))))) -> B | BA12: C2b: Distribución por fortalecer: Alerta moderada predominante R
A13: 3 | D13: 0 | E13: 0 | F13: 0 | G13: 0 | H13: 0 | I13: 0 | J13: =AVERAGE(D13:I13) -> 0 | K13: =IF(J13="","Falta Nota",IF(J13<1.95,"B",IF(J13<2.95,"R",IF(J13<3.95,"A",IF(J13<=5,"E","nota>5,0"))))) -> B | L13: 0 | M13: 0 | N13: 0 | O13: 0 | P13: 0 | Q13: 0 | R13: =AVERAGE(L13:Q13) -> 0 | S13: =IF(R13="","Falta Nota",IF(R13<1.95,"B",IF(R13<2.95,"R",IF(R13<3.95,"A",IF(R13<=5,"E","nota>5,0"))))) -> B | T13: 0 | U13: 0 | V13: 0 | W13: 0 | X13: 0 | Y13: 0 | Z13: =AVERAGE(T13:Y13) -> 0 | AA13: =IF(Z13="","Falta Nota",IF(Z13<1.95,"B",IF(Z13<2.95,"R",IF(Z13<3.95,"A",IF(Z13<=5,"E","nota>5,0"))))) -> B | BA13: C2c: Distribución por fortalecer: Tendencia descendente E-B
A14: 4 | D14: 0 | E14: 0 | F14: 0 | G14: 0 | H14: 0 | I14: 0 | J14: =AVERAGE(D14:I14) -> 0 | K14: =IF(J14="","Falta Nota",IF(J14<1.95,"B",IF(J14<2.95,"R",IF(J14<3.95,"A",IF(J14<=5,"E","nota>5,0"))))) -> B | L14: 0 | M14: 0 | N14: 0 | O14: 0 | P14: 0 | Q14: 0 | R14: =AVERAGE(L14:Q14) -> 0 | S14: =IF(R14="","Falta Nota",IF(R14<1.95,"B",IF(R14<2.95,"R",IF(R14<3.95,"A",IF(R14<=5,"E","nota>5,0"))))) -> B | T14: 0 | U14: 0 | V14: 0 | W14: 0 | X14: 0 | Y14: 0 | Z14: =AVERAGE(T14:Y14) -> 0 | AA14: =IF(Z14="","Falta Nota",IF(Z14<1.95,"B",IF(Z14<2.95,"R",IF(Z14<3.95,"A",IF(Z14<=5,"E","nota>5,0"))))) -> B | BA14: C3a: Distribución neutral: Distribución dispersa (heterogénea)
A15: 5 | D15: 0 | E15: 0 | F15: 0 | G15: 0 | H15: 0 | I15: 0 | J15: =AVERAGE(D15:I15) -> 0 | K15: =IF(J15="","Falta Nota",IF(J15<1.95,"B",IF(J15<2.95,"R",IF(J15<3.95,"A",IF(J15<=5,"E","nota>5,0"))))) -> B | L15: 0 | M15: 0 | N15: 0 | O15: 0 | P15: 0 | Q15: 0 | R15: =AVERAGE(L15:Q15) -> 0 | S15: =IF(R15="","Falta Nota",IF(R15<1.95,"B",IF(R15<2.95,"R",IF(R15<3.95,"A",IF(R15<=5,"E","nota>5,0"))))) -> B | T15: 0 | U15: 0 | V15: 0 | W15: 0 | X15: 0 | Y15: 0 | Z15: =AVERAGE(T15:Y15) -> 0 | AA15: =IF(Z15="","Falta Nota",IF(Z15<1.95,"B",IF(Z15<2.95,"R",IF(Z15<3.95,"A",IF(Z15<=5,"E","nota>5,0"))))) -> B | BA15: C3b: Distribución neutral: Umbral de logro (R/A predominante)
A16: 6 | D16: 0 | E16: 0 | F16: 0 | G16: 0 | H16: 0 | I16: 0 | J16: =AVERAGE(D16:I16) -> 0 | K16: =IF(J16="","Falta Nota",IF(J16<1.95,"B",IF(J16<2.95,"R",IF(J16<3.95,"A",IF(J16<=5,"E","nota>5,0"))))) -> B | L16: 0 | M16: 0 | N16: 0 | O16: 0 | P16: 0 | Q16: 0 | R16: =AVERAGE(L16:Q16) -> 0 | S16: =IF(R16="","Falta Nota",IF(R16<1.95,"B",IF(R16<2.95,"R",IF(R16<3.95,"A",IF(R16<=5,"E","nota>5,0"))))) -> B | T16: 0 | U16: 0 | V16: 0 | W16: 0 | X16: 0 | Y16: 0 | Z16: =AVERAGE(T16:Y16) -> 0 | AA16: =IF(Z16="","Falta Nota",IF(Z16<1.95,"B",IF(Z16<2.95,"R",IF(Z16<3.95,"A",IF(Z16<=5,"E","nota>5,0"))))) -> B | BA16: C3c: Distribución neutral: Logro con regazo significativo
A17: 7 | D17: 0 | E17: 0 | F17: 0 | G17: 0 | H17: 0 | I17: 0 | J17: =AVERAGE(D17:I17) -> 0 | K17: =IF(J17="","Falta Nota",IF(J17<1.95,"B",IF(J17<2.95,"R",IF(J17<3.95,"A",IF(J17<=5,"E","nota>5,0"))))) -> B | L17: 0 | M17: 0 | N17: 0 | O17: 0 | P17: 0 | Q17: 0 | R17: =AVERAGE(L17:Q17) -> 0 | S17: =IF(R17="","Falta Nota",IF(R17<1.95,"B",IF(R17<2.95,"R",IF(R17<3.95,"A",IF(R17<=5,"E","nota>5,0"))))) -> B | T17: 0 | U17: 0 | V17: 0 | W17: 0 | X17: 0 | Y17: 0 | Z17: =AVERAGE(T17:Y17) -> 0 | AA17: =IF(Z17="","Falta Nota",IF(Z17<1.95,"B",IF(Z17<2.95,"R",IF(Z17<3.95,"A",IF(Z17<=5,"E","nota>5,0"))))) -> B | BA17: C4a: Distribución polarizada: Polarización extrema (BE)
A18: 8 | D18: 0 | E18: 0 | F18: 0 | G18: 0 | H18: 0 | I18: 0 | J18: =AVERAGE(D18:I18) -> 0 | K18: =IF(J18="","Falta Nota",IF(J18<1.95,"B",IF(J18<2.95,"R",IF(J18<3.95,"A",IF(J18<=5,"E","nota>5,0"))))) -> B | L18: 0 | M18: 0 | N18: 0 | O18: 0 | P18: 0 | Q18: 0 | R18: =AVERAGE(L18:Q18) -> 0 | S18: =IF(R18="","Falta Nota",IF(R18<1.95,"B",IF(R18<2.95,"R",IF(R18<3.95,"A",IF(R18<=5,"E","nota>5,0"))))) -> B | T18: 0 | U18: 0 | V18: 0 | W18: 0 | X18: 0 | Y18: 0 | Z18: =AVERAGE(T18:Y18) -> 0 | AA18: =IF(Z18="","Falta Nota",IF(Z18<1.95,"B",IF(Z18<2.95,"R",IF(Z18<3.95,"A",IF(Z18<=5,"E","nota>5,0"))))) -> B | BA18: C4b: Distribución polarizada: Polarización media (RE)
A19: 9 | D19: 0 | E19: 0 | F19: 0 | G19: 0 | H19: 0 | I19: 0 | J19: =AVERAGE(D19:I19) -> 0 | K19: =IF(J19="","Falta Nota",IF(J19<1.95,"B",IF(J19<2.95,"R",IF(J19<3.95,"A",IF(J19<=5,"E","nota>5,0"))))) -> B | L19: 0 | M19: 0 | N19: 0 | O19: 0 | P19: 0 | Q19: 0 | R19: =AVERAGE(L19:Q19) -> 0 | S19: =IF(R19="","Falta Nota",IF(R19<1.95,"B",IF(R19<2.95,"R",IF(R19<3.95,"A",IF(R19<=5,"E","nota>5,0"))))) -> B | T19: 0 | U19: 0 | V19: 0 | W19: 0 | X19: 0 | Y19: 0 | Z19: =AVERAGE(T19:Y19) -> 0 | AA19: =IF(Z19="","Falta Nota",IF(Z19<1.95,"B",IF(Z19<2.95,"R",IF(Z19<3.95,"A",IF(Z19<=5,"E","nota>5,0"))))) -> B | BA19: C4c: Distribución polarizada: Polarización media (BR)
A20: 10 | D20: 0 | E20: 0 | F20: 0 | G20: 0 | H20: 0 | I20: 0 | J20: =AVERAGE(D20:I20) -> 0 | K20: =IF(J20="","Falta Nota",IF(J20<1.95,"B",IF(J20<2.95,"R",IF(J20<3.95,"A",IF(J20<=5,"E","nota>5,0"))))) -> B | L20: 0 | M20: 0 | N20: 0 | O20: 0 | P20: 0 | Q20: 0 | R20: =AVERAGE(L20:Q20) -> 0 | S20: =IF(R20="","Falta Nota",IF(R20<1.95,"B",IF(R20<2.95,"R",IF(R20<3.95,"A",IF(R20<=5,"E","nota>5,0"))))) -> B | T20: 0 | U20: 0 | V20: 0 | W20: 0 | X20: 0 | Y20: 0 | Z20: =AVERAGE(T20:Y20) -> 0 | AA20: =IF(Z20="","Falta Nota",IF(Z20<1.95,"B",IF(Z20<2.95,"R",IF(Z20<3.95,"A",IF(Z20<=5,"E","nota>5,0"))))) -> B
A21: 11 | D21: 0 | E21: 0 | F21: 0 | G21: 0 | H21: 0 | I21: 0 | J21: =AVERAGE(D21:I21) -> 0 | K21: =IF(J21="","Falta Nota",IF(J21<1.95,"B",IF(J21<2.95,"R",IF(J21<3.95,"A",IF(J21<=5,"E","nota>5,0"))))) -> B | L21: 0 | M21: 0 | N21: 0 | O21: 0 | P21: 0 | Q21: 0 | R21: =AVERAGE(L21:Q21) -> 0 | S21: =IF(R21="","Falta Nota",IF(R21<1.95,"B",IF(R21<2.95,"R",IF(R21<3.95,"A",IF(R21<=5,"E","nota>5,0"))))) -> B | T21: 0 | U21: 0 | V21: 0 | W21: 0 | X21: 0 | Y21: 0 | Z21: =AVERAGE(T21:Y21) -> 0 | AA21: =IF(Z21="","Falta Nota",IF(Z21<1.95,"B",IF(Z21<2.95,"R",IF(Z21<3.95,"A",IF(Z21<=5,"E","nota>5,0"))))) -> B
A22: 12 | D22: 0 | E22: 0 | F22: 0 | G22: 0 | H22: 0 | I22: 0 | J22: =AVERAGE(D22:I22) -> 0 | K22: =IF(J22="","Falta Nota",IF(J22<1.95,"B",IF(J22<2.95,"R",IF(J22<3.95,"A",IF(J22<=5,"E","nota>5,0"))))) -> B | L22: 0 | M22: 0 | N22: 0 | O22: 0 | P22: 0 | Q22: 0 | R22: =AVERAGE(L22:Q22) -> 0 | S22: =IF(R22="","Falta Nota",IF(R22<1.95,"B",IF(R22<2.95,"R",IF(R22<3.95,"A",IF(R22<=5,"E","nota>5,0"))))) -> B | T22: 0 | U22: 0 | V22: 0 | W22: 0 | X22: 0 | Y22: 0 | Z22: =AVERAGE(T22:Y22) -> 0 | AA22: =IF(Z22="","Falta Nota",IF(Z22<1.95,"B",IF(Z22<2.95,"R",IF(Z22<3.95,"A",IF(Z22<=5,"E","nota>5,0"))))) -> B
A23: 13 | D23: 0 | E23: 0 | F23: 0 | G23: 0 | H23: 0 | I23: 0 | J23: =AVERAGE(D23:I23) -> 0 | K23: =IF(J23="","Falta Nota",IF(J23<1.95,"B",IF(J23<2.95,"R",IF(J23<3.95,"A",IF(J23<=5,"E","nota>5,0"))))) -> B | L23: 0 | M23: 0 | N23: 0 | O23: 0 | P23: 0 | Q23: 0 | R23: =AVERAGE(L23:Q23) -> 0 | S23: =IF(R23="","Falta Nota",IF(R23<1.95,"B",IF(R23<2.95,"R",IF(R23<3.95,"A",IF(R23<=5,"E","nota>5,0"))))) -> B | T23: 0 | U23: 0 | V23: 0 | W23: 0 | X23: 0 | Y23: 0 | Z23: =AVERAGE(T23:Y23) -> 0 | AA23: =IF(Z23="","Falta Nota",IF(Z23<1.95,"B",IF(Z23<2.95,"R",IF(Z23<3.95,"A",IF(Z23<=5,"E","nota>5,0"))))) -> B
A24: 14 | D24: 0 | E24: 0 | F24: 0 | G24: 0 | H24: 0 | I24: 0 | J24: =AVERAGE(D24:I24) -> 0 | K24: =IF(J24="","Falta Nota",IF(J24<1.95,"B",IF(J24<2.95,"R",IF(J24<3.95,"A",IF(J24<=5,"E","nota>5,0"))))) -> B | L24: 0 | M24: 0 | N24: 0 | O24: 0 | P24: 0 | Q24: 0 | R24: =AVERAGE(L24:Q24) -> 0 | S24: =IF(R24="","Falta Nota",IF(R24<1.95,"B",IF(R24<2.95,"R",IF(R24<3.95,"A",IF(R24<=5,"E","nota>5,0"))))) -> B | T24: 0 | U24: 0 | V24: 0 | W24: 0 | X24: 0 | Y24: 0 | Z24: =AVERAGE(T24:Y24) -> 0 | AA24: =IF(Z24="","Falta Nota",IF(Z24<1.95,"B",IF(Z24<2.95,"R",IF(Z24<3.95,"A",IF(Z24<=5,"E","nota>5,0"))))) -> B
A25: 15 | D25: 0 | E25: 0 | F25: 0 | G25: 0 | H25: 0 | I25: 0 | J25: =AVERAGE(D25:I25) -> 0 | K25: =IF(J25="","Falta Nota",IF(J25<1.95,"B",IF(J25<2.95,"R",IF(J25<3.95,"A",IF(J25<=5,"E","nota>5,0"))))) -> B | L25: 0 | M25: 0 | N25: 0 | O25: 0 | P25: 0 | Q25: 0 | R25: =AVERAGE(L25:Q25) -> 0 | S25: =IF(R25="","Falta Nota",IF(R25<1.95,"B",IF(R25<2.95,"R",IF(R25<3.95,"A",IF(R25<=5,"E","nota>5,0"))))) -> B | T25: 0 | U25: 0 | V25: 0 | W25: 0 | X25: 0 | Y25: 0 | Z25: =AVERAGE(T25:Y25) -> 0 | AA25: =IF(Z25="","Falta Nota",IF(Z25<1.95,"B",IF(Z25<2.95,"R",IF(Z25<3.95,"A",IF(Z25<=5,"E","nota>5,0"))))) -> B
A26: 16 | D26: 0 | E26: 0 | F26: 0 | G26: 0 | H26: 0 | I26: 0 | J26: =AVERAGE(D26:I26) -> 0 | K26: =IF(J26="","Falta Nota",IF(J26<1.95,"B",IF(J26<2.95,"R",IF(J26<3.95,"A",IF(J26<=5,"E","nota>5,0"))))) -> B | L26: 0 | M26: 0 | N26: 0 | O26: 0 | P26: 0 | Q26: 0 | R26: =AVERAGE(L26:Q26) -> 0 | S26: =IF(R26="","Falta Nota",IF(R26<1.95,"B",IF(R26<2.95,"R",IF(R26<3.95,"A",IF(R26<=5,"E","nota>5,0"))))) -> B | T26: 0 | U26: 0 | V26: 0 | W26: 0 | X26: 0 | Y26: 0 | Z26: =AVERAGE(T26:Y26) -> 0 | AA26: =IF(Z26="","Falta Nota",IF(Z26<1.95,"B",IF(Z26<2.95,"R",IF(Z26<3.95,"A",IF(Z26<=5,"E","nota>5,0"))))) -> B
A27: 17 | D27: 0 | E27: 0 | F27: 0 | G27: 0 | H27: 0 | I27: 0 | J27: =AVERAGE(D27:I27) -> 0 | K27: =IF(J27="","Falta Nota",IF(J27<1.95,"B",IF(J27<2.95,"R",IF(J27<3.95,"A",IF(J27<=5,"E","nota>5,0"))))) -> B | L27: 0 | M27: 0 | N27: 0 | O27: 0 | P27: 0 | Q27: 0 | R27: =AVERAGE(L27:Q27) -> 0 | S27: =IF(R27="","Falta Nota",IF(R27<1.95,"B",IF(R27<2.95,"R",IF(R27<3.95,"A",IF(R27<=5,"E","nota>5,0"))))) -> B | T27: 0 | U27: 0 | V27: 0 | W27: 0 | X27: 0 | Y27: 0 | Z27: =AVERAGE(T27:Y27) -> 0 | AA27: =IF(Z27="","Falta Nota",IF(Z27<1.95,"B",IF(Z27<2.95,"R",IF(Z27<3.95,"A",IF(Z27<=5,"E","nota>5,0"))))) -> B
A28: 18 | D28: 0 | E28: 0 | F28: 0 | G28: 0 | H28: 0 | I28: 0 | J28: =AVERAGE(D28:I28) -> 0 | K28: =IF(J28="","Falta Nota",IF(J28<1.95,"B",IF(J28<2.95,"R",IF(J28<3.95,"A",IF(J28<=5,"E","nota>5,0"))))) -> B | L28: 0 | M28: 0 | N28: 0 | O28: 0 | P28: 0 | Q28: 0 | R28: =AVERAGE(L28:Q28) -> 0 | S28: =IF(R28="","Falta Nota",IF(R28<1.95,"B",IF(R28<2.95,"R",IF(R28<3.95,"A",IF(R28<=5,"E","nota>5,0"))))) -> B | T28: 0 | U28: 0 | V28: 0 | W28: 0 | X28: 0 | Y28: 0 | Z28: =AVERAGE(T28:Y28) -> 0 | AA28: =IF(Z28="","Falta Nota",IF(Z28<1.95,"B",IF(Z28<2.95,"R",IF(Z28<3.95,"A",IF(Z28<=5,"E","nota>5,0"))))) -> B | AI28: Seleccione la categoría que describe el comportamiento obtenido | AQ28: Seleccione la categoría que describe el comportamiento obtenido | AY28: Seleccione la categoría que describe el comportamiento obtenido
A29: 19 | D29: 0 | E29: 0 | F29: 0 | G29: 0 | H29: 0 | I29: 0 | J29: =AVERAGE(D29:I29) -> 0 | K29: =IF(J29="","Falta Nota",IF(J29<1.95,"B",IF(J29<2.95,"R",IF(J29<3.95,"A",IF(J29<=5,"E","nota>5,0"))))) -> B | L29: 0 | M29: 0 | N29: 0 | O29: 0 | P29: 0 | Q29: 0 | R29: =AVERAGE(L29:Q29) -> 0 | S29: =IF(R29="","Falta Nota",IF(R29<1.95,"B",IF(R29<2.95,"R",IF(R29<3.95,"A",IF(R29<=5,"E","nota>5,0"))))) -> B | T29: 0 | U29: 0 | V29: 0 | W29: 0 | X29: 0 | Y29: 0 | Z29: =AVERAGE(T29:Y29) -> 0 | AA29: =IF(Z29="","Falta Nota",IF(Z29<1.95,"B",IF(Z29<2.95,"R",IF(Z29<3.95,"A",IF(Z29<=5,"E","nota>5,0"))))) -> B | AD29: Mi2 RAE1 | AI29: Categorización | AL29: Mi2 RAE2 | AQ29: Categorización | AT29: Mi2 RAE3 | AY29: Categorización
A30: 20 | D30: 0 | E30: 0 | F30: 0 | G30: 0 | H30: 0 | I30: 0 | J30: =AVERAGE(D30:I30) -> 0 | K30: =IF(J30="","Falta Nota",IF(J30<1.95,"B",IF(J30<2.95,"R",IF(J30<3.95,"A",IF(J30<=5,"E","nota>5,0"))))) -> B | L30: 0 | M30: 0 | N30: 0 | O30: 0 | P30: 0 | Q30: 0 | R30: =AVERAGE(L30:Q30) -> 0 | S30: =IF(R30="","Falta Nota",IF(R30<1.95,"B",IF(R30<2.95,"R",IF(R30<3.95,"A",IF(R30<=5,"E","nota>5,0"))))) -> B | T30: 0 | U30: 0 | V30: 0 | W30: 0 | X30: 0 | Y30: 0 | Z30: =AVERAGE(T30:Y30) -> 0 | AA30: =IF(Z30="","Falta Nota",IF(Z30<1.95,"B",IF(Z30<2.95,"R",IF(Z30<3.95,"A",IF(Z30<=5,"E","nota>5,0"))))) -> B | AD30: B | AE30: R | AF30: A | AG30: E | AI30: C1a : Distribución favorable: Excelencia predominante | AL30: B | AM30: R | AN30: A | AO30: E | AQ30: C1a : Distribución favorable: Excelencia predominante | AT30: B | AU30: R | AV30: A | AW30: E | AY30: C1a : Distribución favorable: Excelencia predominante
A31: 21 | D31: 0 | E31: 0 | F31: 0 | G31: 0 | H31: 0 | I31: 0 | J31: =AVERAGE(D31:I31) -> 0 | K31: =IF(J31="","Falta Nota",IF(J31<1.95,"B",IF(J31<2.95,"R",IF(J31<3.95,"A",IF(J31<=5,"E","nota>5,0"))))) -> B | L31: 0 | M31: 0 | N31: 0 | O31: 0 | P31: 0 | Q31: 0 | R31: =AVERAGE(L31:Q31) -> 0 | S31: =IF(R31="","Falta Nota",IF(R31<1.95,"B",IF(R31<2.95,"R",IF(R31<3.95,"A",IF(R31<=5,"E","nota>5,0"))))) -> B | T31: 0 | U31: 0 | V31: 0 | W31: 0 | X31: 0 | Y31: 0 | Z31: =AVERAGE(T31:Y31) -> 0 | AA31: =IF(Z31="","Falta Nota",IF(Z31<1.95,"B",IF(Z31<2.95,"R",IF(Z31<3.95,"A",IF(Z31<=5,"E","nota>5,0"))))) -> B | AD31: =COUNTIF($D42:$I42,AD30) -> 6 | AE31: =COUNTIF($D42:$I42,AE30) -> 0 | AF31: =COUNTIF($D42:$I42,AF30) -> 0 | AG31: =COUNTIF($D42:$I42,AG30) -> 0 | AL31: =COUNTIF($L42:$Q42,AL30) -> 6 | AM31: =COUNTIF($L42:$Q42,AM30) -> 0 | AN31: =COUNTIF($L42:$Q42,AN30) -> 0 | AO31: =COUNTIF($L42:$Q42,AO30) -> 0 | AT31: =COUNTIF($T42:$Y42,AT30) -> 6 | AU31: =COUNTIF($T42:$Y42,AU30) -> 0 | AV31: =COUNTIF($T42:$Y42,AV30) -> 0 | AW31: =COUNTIF($T42:$Y42,AW30) -> 0
A32: 22 | D32: 0 | E32: 0 | F32: 0 | G32: 0 | H32: 0 | I32: 0 | J32: =AVERAGE(D32:I32) -> 0 | K32: =IF(J32="","Falta Nota",IF(J32<1.95,"B",IF(J32<2.95,"R",IF(J32<3.95,"A",IF(J32<=5,"E","nota>5,0"))))) -> B | L32: 0 | M32: 0 | N32: 0 | O32: 0 | P32: 0 | Q32: 0 | R32: =AVERAGE(L32:Q32) -> 0 | S32: =IF(R32="","Falta Nota",IF(R32<1.95,"B",IF(R32<2.95,"R",IF(R32<3.95,"A",IF(R32<=5,"E","nota>5,0"))))) -> B | T32: 0 | U32: 0 | V32: 0 | W32: 0 | X32: 0 | Y32: 0 | Z32: =AVERAGE(T32:Y32) -> 0 | AA32: =IF(Z32="","Falta Nota",IF(Z32<1.95,"B",IF(Z32<2.95,"R",IF(Z32<3.95,"A",IF(Z32<=5,"E","nota>5,0"))))) -> B
A33: 23 | D33: 0 | E33: 0 | F33: 0 | G33: 0 | H33: 0 | I33: 0 | J33: =AVERAGE(D33:I33) -> 0 | K33: =IF(J33="","Falta Nota",IF(J33<1.95,"B",IF(J33<2.95,"R",IF(J33<3.95,"A",IF(J33<=5,"E","nota>5,0"))))) -> B | L33: 0 | M33: 0 | N33: 0 | O33: 0 | P33: 0 | Q33: 0 | R33: =AVERAGE(L33:Q33) -> 0 | S33: =IF(R33="","Falta Nota",IF(R33<1.95,"B",IF(R33<2.95,"R",IF(R33<3.95,"A",IF(R33<=5,"E","nota>5,0"))))) -> B | T33: 0 | U33: 0 | V33: 0 | W33: 0 | X33: 0 | Y33: 0 | Z33: =AVERAGE(T33:Y33) -> 0 | AA33: =IF(Z33="","Falta Nota",IF(Z33<1.95,"B",IF(Z33<2.95,"R",IF(Z33<3.95,"A",IF(Z33<=5,"E","nota>5,0"))))) -> B
A34: 24 | D34: 0 | E34: 0 | F34: 0 | G34: 0 | H34: 0 | I34: 0 | J34: =AVERAGE(D34:I34) -> 0 | K34: =IF(J34="","Falta Nota",IF(J34<1.95,"B",IF(J34<2.95,"R",IF(J34<3.95,"A",IF(J34<=5,"E","nota>5,0"))))) -> B | L34: 0 | M34: 0 | N34: 0 | O34: 0 | P34: 0 | Q34: 0 | R34: =AVERAGE(L34:Q34) -> 0 | S34: =IF(R34="","Falta Nota",IF(R34<1.95,"B",IF(R34<2.95,"R",IF(R34<3.95,"A",IF(R34<=5,"E","nota>5,0"))))) -> B | T34: 0 | U34: 0 | V34: 0 | W34: 0 | X34: 0 | Y34: 0 | Z34: =AVERAGE(T34:Y34) -> 0 | AA34: =IF(Z34="","Falta Nota",IF(Z34<1.95,"B",IF(Z34<2.95,"R",IF(Z34<3.95,"A",IF(Z34<=5,"E","nota>5,0"))))) -> B
A35: 25 | D35: 0 | E35: 0 | F35: 0 | G35: 0 | H35: 0 | I35: 0 | J35: =AVERAGE(D35:I35) -> 0 | K35: =IF(J35="","Falta Nota",IF(J35<1.95,"B",IF(J35<2.95,"R",IF(J35<3.95,"A",IF(J35<=5,"E","nota>5,0"))))) -> B | L35: 0 | M35: 0 | N35: 0 | O35: 0 | P35: 0 | Q35: 0 | R35: =AVERAGE(L35:Q35) -> 0 | S35: =IF(R35="","Falta Nota",IF(R35<1.95,"B",IF(R35<2.95,"R",IF(R35<3.95,"A",IF(R35<=5,"E","nota>5,0"))))) -> B | T35: 0 | U35: 0 | V35: 0 | W35: 0 | X35: 0 | Y35: 0 | Z35: =AVERAGE(T35:Y35) -> 0 | AA35: =IF(Z35="","Falta Nota",IF(Z35<1.95,"B",IF(Z35<2.95,"R",IF(Z35<3.95,"A",IF(Z35<=5,"E","nota>5,0"))))) -> B
A36: 26 | D36: 0 | E36: 0 | F36: 0 | G36: 0 | H36: 0 | I36: 0 | J36: =AVERAGE(D36:I36) -> 0 | K36: =IF(J36="","Falta Nota",IF(J36<1.95,"B",IF(J36<2.95,"R",IF(J36<3.95,"A",IF(J36<=5,"E","nota>5,0"))))) -> B | L36: 0 | M36: 0 | N36: 0 | O36: 0 | P36: 0 | Q36: 0 | R36: =AVERAGE(L36:Q36) -> 0 | S36: =IF(R36="","Falta Nota",IF(R36<1.95,"B",IF(R36<2.95,"R",IF(R36<3.95,"A",IF(R36<=5,"E","nota>5,0"))))) -> B | T36: 0 | U36: 0 | V36: 0 | W36: 0 | X36: 0 | Y36: 0 | Z36: =AVERAGE(T36:Y36) -> 0 | AA36: =IF(Z36="","Falta Nota",IF(Z36<1.95,"B",IF(Z36<2.95,"R",IF(Z36<3.95,"A",IF(Z36<=5,"E","nota>5,0"))))) -> B
A37: 27 | D37: 0 | E37: 0 | F37: 0 | G37: 0 | H37: 0 | I37: 0 | J37: =AVERAGE(D37:I37) -> 0 | K37: =IF(J37="","Falta Nota",IF(J37<1.95,"B",IF(J37<2.95,"R",IF(J37<3.95,"A",IF(J37<=5,"E","nota>5,0"))))) -> B | L37: 0 | M37: 0 | N37: 0 | O37: 0 | P37: 0 | Q37: 0 | R37: =AVERAGE(L37:Q37) -> 0 | S37: =IF(R37="","Falta Nota",IF(R37<1.95,"B",IF(R37<2.95,"R",IF(R37<3.95,"A",IF(R37<=5,"E","nota>5,0"))))) -> B | T37: 0 | U37: 0 | V37: 0 | W37: 0 | X37: 0 | Y37: 0 | Z37: =AVERAGE(T37:Y37) -> 0 | AA37: =IF(Z37="","Falta Nota",IF(Z37<1.95,"B",IF(Z37<2.95,"R",IF(Z37<3.95,"A",IF(Z37<=5,"E","nota>5,0"))))) -> B
A38: 28 | D38: 0 | E38: 0 | F38: 0 | G38: 0 | H38: 0 | I38: 0 | J38: =AVERAGE(D38:I38) -> 0 | K38: =IF(J38="","Falta Nota",IF(J38<1.95,"B",IF(J38<2.95,"R",IF(J38<3.95,"A",IF(J38<=5,"E","nota>5,0"))))) -> B | L38: 0 | M38: 0 | N38: 0 | O38: 0 | P38: 0 | Q38: 0 | R38: =AVERAGE(L38:Q38) -> 0 | S38: =IF(R38="","Falta Nota",IF(R38<1.95,"B",IF(R38<2.95,"R",IF(R38<3.95,"A",IF(R38<=5,"E","nota>5,0"))))) -> B | T38: 0 | U38: 0 | V38: 0 | W38: 0 | X38: 0 | Y38: 0 | Z38: =AVERAGE(T38:Y38) -> 0 | AA38: =IF(Z38="","Falta Nota",IF(Z38<1.95,"B",IF(Z38<2.95,"R",IF(Z38<3.95,"A",IF(Z38<=5,"E","nota>5,0"))))) -> B
A39: 29 | D39: 0 | E39: 0 | F39: 0 | G39: 0 | H39: 0 | I39: 0 | J39: =AVERAGE(D39:I39) -> 0 | K39: =IF(J39="","Falta Nota",IF(J39<1.95,"B",IF(J39<2.95,"R",IF(J39<3.95,"A",IF(J39<=5,"E","nota>5,0"))))) -> B | L39: 0 | M39: 0 | N39: 0 | O39: 0 | P39: 0 | Q39: 0 | R39: =AVERAGE(L39:Q39) -> 0 | S39: =IF(R39="","Falta Nota",IF(R39<1.95,"B",IF(R39<2.95,"R",IF(R39<3.95,"A",IF(R39<=5,"E","nota>5,0"))))) -> B | T39: 0 | U39: 0 | V39: 0 | W39: 0 | X39: 0 | Y39: 0 | Z39: =AVERAGE(T39:Y39) -> 0 | AA39: =IF(Z39="","Falta Nota",IF(Z39<1.95,"B",IF(Z39<2.95,"R",IF(Z39<3.95,"A",IF(Z39<=5,"E","nota>5,0"))))) -> B
A40: 30 | D40: 0 | E40: 0 | F40: 0 | G40: 0 | H40: 0 | I40: 0 | J40: =AVERAGE(D40:I40) -> 0 | K40: =IF(J40="","Falta Nota",IF(J40<1.95,"B",IF(J40<2.95,"R",IF(J40<3.95,"A",IF(J40<=5,"E","nota>5,0"))))) -> B | L40: 0 | M40: 0 | N40: 0 | O40: 0 | P40: 0 | Q40: 0 | R40: =AVERAGE(L40:Q40) -> 0 | S40: =IF(R40="","Falta Nota",IF(R40<1.95,"B",IF(R40<2.95,"R",IF(R40<3.95,"A",IF(R40<=5,"E","nota>5,0"))))) -> B | T40: 0 | U40: 0 | V40: 0 | W40: 0 | X40: 0 | Y40: 0 | Z40: =AVERAGE(T40:Y40) -> 0 | AA40: =IF(Z40="","Falta Nota",IF(Z40<1.95,"B",IF(Z40<2.95,"R",IF(Z40<3.95,"A",IF(Z40<=5,"E","nota>5,0"))))) -> B
B41: Mi2 | D41: =AVERAGE(D11:D40) -> 0 | E41: =AVERAGE(E11:E40) -> 0 | F41: =AVERAGE(F11:F40) -> 0 | G41: =AVERAGE(G11:G40) -> 0 | H41: =AVERAGE(H11:H40) -> 0 | I41: =AVERAGE(I11:I40) -> 0 | L41: =AVERAGE(L11:L40) -> 0 | M41: =AVERAGE(M11:M40) -> 0 | N41: =AVERAGE(N11:N40) -> 0 | O41: =AVERAGE(O11:O40) -> 0 | P41: =AVERAGE(P11:P40) -> 0 | Q41: =AVERAGE(Q11:Q40) -> 0 | T41: =AVERAGE(T11:T40) -> 0 | U41: =AVERAGE(U11:U40) -> 0 | V41: =AVERAGE(V11:V40) -> 0 | W41: =AVERAGE(W11:W40) -> 0 | X41: =AVERAGE(X11:X40) -> 0 | Y41: =AVERAGE(Y11:Y40) -> 0
B42: Nivel M2 | D42: =IF(D41="","Falta Nota",IF(D41<1.95,"B",IF(D41<2.95,"R",IF(D41<3.95,"A",IF(D41<=5,"E","nota>5,0"))))) -> B | E42: =IF(E41="","Falta Nota",IF(E41<1.95,"B",IF(E41<2.95,"R",IF(E41<3.95,"A",IF(E41<=5,"E","nota>5,0"))))) -> B | F42: =IF(F41="","Falta Nota",IF(F41<1.95,"B",IF(F41<2.95,"R",IF(F41<3.95,"A",IF(F41<=5,"E","nota>5,0"))))) -> B | G42: =IF(G41="","Falta Nota",IF(G41<1.95,"B",IF(G41<2.95,"R",IF(G41<3.95,"A",IF(G41<=5,"E","nota>5,0"))))) -> B | H42: =IF(H41="","Falta Nota",IF(H41<1.95,"B",IF(H41<2.95,"R",IF(H41<3.95,"A",IF(H41<=5,"E","nota>5,0"))))) -> B | I42: =IF(I41="","Falta Nota",IF(I41<1.95,"B",IF(I41<2.95,"R",IF(I41<3.95,"A",IF(I41<=5,"E","nota>5,0"))))) -> B | L42: =IF(L41="","Falta Nota",IF(L41<1.95,"B",IF(L41<2.95,"R",IF(L41<3.95,"A",IF(L41<=5,"E","nota>5,0"))))) -> B | M42: =IF(M41="","Falta Nota",IF(M41<1.95,"B",IF(M41<2.95,"R",IF(M41<3.95,"A",IF(M41<=5,"E","nota>5,0"))))) -> B | N42: =IF(N41="","Falta Nota",IF(N41<1.95,"B",IF(N41<2.95,"R",IF(N41<3.95,"A",IF(N41<=5,"E","nota>5,0"))))) -> B | O42: =IF(O41="","Falta Nota",IF(O41<1.95,"B",IF(O41<2.95,"R",IF(O41<3.95,"A",IF(O41<=5,"E","nota>5,0"))))) -> B | P42: =IF(P41="","Falta Nota",IF(P41<1.95,"B",IF(P41<2.95,"R",IF(P41<3.95,"A",IF(P41<=5,"E","nota>5,0"))))) -> B | Q42: =IF(Q41="","Falta Nota",IF(Q41<1.95,"B",IF(Q41<2.95,"R",IF(Q41<3.95,"A",IF(Q41<=5,"E","nota>5,0"))))) -> B | T42: =IF(T41="","Falta Nota",IF(T41<1.95,"B",IF(T41<2.95,"R",IF(T41<3.95,"A",IF(T41<=5,"E","nota>5,0"))))) -> B | U42: =IF(U41="","Falta Nota",IF(U41<1.95,"B",IF(U41<2.95,"R",IF(U41<3.95,"A",IF(U41<=5,"E","nota>5,0"))))) -> B | V42: =IF(V41="","Falta Nota",IF(V41<1.95,"B",IF(V41<2.95,"R",IF(V41<3.95,"A",IF(V41<=5,"E","nota>5,0"))))) -> B | W42: =IF(W41="","Falta Nota",IF(W41<1.95,"B",IF(W41<2.95,"R",IF(W41<3.95,"A",IF(W41<=5,"E","nota>5,0"))))) -> B | X42: =IF(X41="","Falta Nota",IF(X41<1.95,"B",IF(X41<2.95,"R",IF(X41<3.95,"A",IF(X41<=5,"E","nota>5,0"))))) -> B | Y42: =IF(Y41="","Falta Nota",IF(Y41<1.95,"B",IF(Y41<2.95,"R",IF(Y41<3.95,"A",IF(Y41<=5,"E","nota>5,0"))))) -> B

Sheet Asignatura 6 G6
B2: SISTEMA DE ASEGURAMIENTO DE RESULTADOS DE APRENDIZAJE - SARA INDICADORES RESULTADO DE APRENDIZAJE DE ASIGNATURA
AC4: ANÁLISIS DE INDICADORES Mi1 Y Mi2
B6: Profesor: | C6: ='Asignatura 1 G1'!B7 -> Nombre completo del profesor | H6: Cedula: | I6: ='Asignatura 1 G1'!H7 -> No. de identificación | L6: Asignatura: | M6: Nombre de la asignatura (Q10) | R6: Grupo: | S6: No. de grupo (Q10) | Y6: Periodo: | Z6: ='Asignatura 1 G1'!Y7 -> 202X-A/B | AI6: Guía de selección de categorías
AI7: Seleccione la categoría que describe el comportamiento obtenido | AQ7: Seleccione la categoría que describe el comportamiento obtenido | AY7: Seleccione la categoría que describe el comportamiento obtenido | BA7: Categorización
B8: Estudiante | C8: Programa | D8: RAE1 | L8: RAE2 | T8: RAE 3 | AD8: Mi1 RAE1 | AI8: Categorización | AL8: Mi 1 RAE2 | AQ8: Categorización | AT8: Mi1 RAE3 | AY8: Categorización | BA8: C1a : Distribución favorable: Excelencia predominante
D9: AF 1 | G9: AF2 | I9: AF3 | J9: Mi1 | K9: Nivel Mi1 | L9: AF4 | O9: AF5 | Q9: AF6 | R9: Mi1 | S9: Nivel Mi1 | T9: AF6 | W9: AF7 | Y9: AF8 | Z9: Mi1 | AA9: Nivel Mi1 | AD9: B | AE9: R | AF9: A | AG9: E | AI9: C1a : Distribución favorable: Excelencia predominante | AL9: B | AM9: R | AN9: A | AO9: E | AQ9: C1a : Distribución favorable: Excelencia predominante | AT9: B | AU9: R | AV9: A | AW9: E | AY9: C1a : Distribución favorable: Excelencia predominante | BA9: C1b : Distribución favorable: Logro aceptable predominante
D10: AE1 | E10: AE2 | F10: AE3 | G10: AE4 | H10: AE5 | I10: AE6 | L10: AE7 | M10: AE8 | N10: AE9 | O10: AE10 | P10: AE11 | Q10: AE12 | T10: AE13 | U10: AE14 | V10: AE15 | W10: AE16 | X10: AE17 | Y10: AE18 | AD10: =COUNTIF($K:$K,AD9) -> 30 | AE10: =COUNTIF($K:$K,AE9) -> 0 | AF10: =COUNTIF($K:$K,AF9) -> 0 | AG10: =COUNTIF($K:$K,AG9) -> 0 | AL10: =COUNTIF($S:$S,AL9) -> 30 | AM10: =COUNTIF($S:$S,AM9) -> 0 | AN10: =COUNTIF($S:$S,AN9) -> 0 | AO10: =COUNTIF($S:$S,AO9) -> 0 | AT10: =COUNTIF($AA:$AA,AT9) -> 30 | AU10: =COUNTIF($AA:$AA,AU9) -> 0 | AV10: =COUNTIF($AA:$AA,AV9) -> 0 | AW10: =COUNTIF($AA:$AA,AW9) -> 0 | BA10: C1c : Distribución favorable: Tendencia ascendente al logro B-E
A11: 1 | D11: 0 | E11: 0 | F11: 0 | G11: 0 | H11: 0 | I11: 0 | J11: =AVERAGE(D11:I11) -> 0 | K11: =IF(J11="","Falta Nota",IF(J11<1.95,"B",IF(J11<2.95,"R",IF(J11<3.95,"A",IF(J11<=5,"E","nota>5,0"))))) -> B | L11: 0 | M11: 0 | N11: 0 | O11: 0 | P11: 0 | Q11: 0 | R11: =AVERAGE(L11:Q11) -> 0 | S11: =IF(R11="","Falta Nota",IF(R11<1.95,"B",IF(R11<2.95,"R",IF(R11<3.95,"A",IF(R11<=5,"E","nota>5,0"))))) -> B | T11: 0 | U11: 0 | V11: 0 | W11: 0 | X11: 0 | Y11: 0 | Z11: =AVERAGE(T11:Y11) -> 0 | AA11: =IF(Z11="","Falta Nota",IF(Z11<1.95,"B",IF(Z11<2.95,"R",IF(Z11<3.95,"A",IF(Z11<=5,"E","nota>5,0"))))) -> B | BA11: C2a: Distribución por fortalecer: Alerta crítica predominante B
A12: 2 | D12: 0 | E12: 0 | F12: 0 | G12: 0 | H12: 0 | I12: 0 | J12: =AVERAGE(D12:I12) -> 0 | K12: =IF(J12="","Falta Nota",IF(J12<1.95,"B",IF(J12<2.95,"R",IF(J12<3.95,"A",IF(J12<=5,"E","nota>5,0"))))) -> B | L12: 0 | M12: 0 | N12: 0 | O12: 0 | P12: 0 | Q12: 0 | R12: =AVERAGE(L12:Q12) -> 0 | S12: =IF(R12="","Falta Nota",IF(R12<1.95,"B",IF(R12<2.95,"R",IF(R12<3.95,"A",IF(R12<=5,"E","nota>5,0"))))) -> B | T12: 0 | U12: 0 | V12: 0 | W12: 0 | X12: 0 | Y12: 0 | Z12: =AVERAGE(T12:Y12) -> 0 | AA12: =IF(Z12="","Falta Nota",IF(Z12<1.95,"B",IF(Z12<2.95,"R",IF(Z12<3.95,"A",IF(Z12<=5,"E","nota>5,0"))))) -> B | BA12: C2b: Distribución por fortalecer: Alerta moderada predominante R
A13: 3 | D13: 0 | E13: 0 | F13: 0 | G13: 0 | H13: 0 | I13: 0 | J13: =AVERAGE(D13:I13) -> 0 | K13: =IF(J13="","Falta Nota",IF(J13<1.95,"B",IF(J13<2.95,"R",IF(J13<3.95,"A",IF(J13<=5,"E","nota>5,0"))))) -> B | L13: 0 | M13: 0 | N13: 0 | O13: 0 | P13: 0 | Q13: 0 | R13: =AVERAGE(L13:Q13) -> 0 | S13: =IF(R13="","Falta Nota",IF(R13<1.95,"B",IF(R13<2.95,"R",IF(R13<3.95,"A",IF(R13<=5,"E","nota>5,0"))))) -> B | T13: 0 | U13: 0 | V13: 0 | W13: 0 | X13: 0 | Y13: 0 | Z13: =AVERAGE(T13:Y13) -> 0 | AA13: =IF(Z13="","Falta Nota",IF(Z13<1.95,"B",IF(Z13<2.95,"R",IF(Z13<3.95,"A",IF(Z13<=5,"E","nota>5,0"))))) -> B | BA13: C2c: Distribución por fortalecer: Tendencia descendente E-B
A14: 4 | D14: 0 | E14: 0 | F14: 0 | G14: 0 | H14: 0 | I14: 0 | J14: =AVERAGE(D14:I14) -> 0 | K14: =IF(J14="","Falta Nota",IF(J14<1.95,"B",IF(J14<2.95,"R",IF(J14<3.95,"A",IF(J14<=5,"E","nota>5,0"))))) -> B | L14: 0 | M14: 0 | N14: 0 | O14: 0 | P14: 0 | Q14: 0 | R14: =AVERAGE(L14:Q14) -> 0 | S14: =IF(R14="","Falta Nota",IF(R14<1.95,"B",IF(R14<2.95,"R",IF(R14<3.95,"A",IF(R14<=5,"E","nota>5,0"))))) -> B | T14: 0 | U14: 0 | V14: 0 | W14: 0 | X14: 0 | Y14: 0 | Z14: =AVERAGE(T14:Y14) -> 0 | AA14: =IF(Z14="","Falta Nota",IF(Z14<1.95,"B",IF(Z14<2.95,"R",IF(Z14<3.95,"A",IF(Z14<=5,"E","nota>5,0"))))) -> B | BA14: C3a: Distribución neutral: Distribución dispersa (heterogénea)
A15: 5 | D15: 0 | E15: 0 | F15: 0 | G15: 0 | H15: 0 | I15: 0 | J15: =AVERAGE(D15:I15) -> 0 | K15: =IF(J15="","Falta Nota",IF(J15<1.95,"B",IF(J15<2.95,"R",IF(J15<3.95,"A",IF(J15<=5,"E","nota>5,0"))))) -> B | L15: 0 | M15: 0 | N15: 0 | O15: 0 | P15: 0 | Q15: 0 | R15: =AVERAGE(L15:Q15) -> 0 | S15: =IF(R15="","Falta Nota",IF(R15<1.95,"B",IF(R15<2.95,"R",IF(R15<3.95,"A",IF(R15<=5,"E","nota>5,0"))))) -> B | T15: 0 | U15: 0 | V15: 0 | W15: 0 | X15: 0 | Y15: 0 | Z15: =AVERAGE(T15:Y15) -> 0 | AA15: =IF(Z15="","Falta Nota",IF(Z15<1.95,"B",IF(Z15<2.95,"R",IF(Z15<3.95,"A",IF(Z15<=5,"E","nota>5,0"))))) -> B | BA15: C3b: Distribución neutral: Umbral de logro (R/A predominante)
A16: 6 | D16: 0 | E16: 0 | F16: 0 | G16: 0 | H16: 0 | I16: 0 | J16: =AVERAGE(D16:I16) -> 0 | K16: =IF(J16="","Falta Nota",IF(J16<1.95,"B",IF(J16<2.95,"R",IF(J16<3.95,"A",IF(J16<=5,"E","nota>5,0"))))) -> B | L16: 0 | M16: 0 | N16: 0 | O16: 0 | P16: 0 | Q16: 0 | R16: =AVERAGE(L16:Q16) -> 0 | S16: =IF(R16="","Falta Nota",IF(R16<1.95,"B",IF(R16<2.95,"R",IF(R16<3.95,"A",IF(R16<=5,"E","nota>5,0"))))) -> B | T16: 0 | U16: 0 | V16: 0 | W16: 0 | X16: 0 | Y16: 0 | Z16: =AVERAGE(T16:Y16) -> 0 | AA16: =IF(Z16="","Falta Nota",IF(Z16<1.95,"B",IF(Z16<2.95,"R",IF(Z16<3.95,"A",IF(Z16<=5,"E","nota>5,0"))))) -> B | BA16: C3c: Distribución neutral: Logro con regazo significativo
A17: 7 | D17: 0 | E17: 0 | F17: 0 | G17: 0 | H17: 0 | I17: 0 | J17: =AVERAGE(D17:I17) -> 0 | K17: =IF(J17="","Falta Nota",IF(J17<1.95,"B",IF(J17<2.95,"R",IF(J17<3.95,"A",IF(J17<=5,"E","nota>5,0"))))) -> B | L17: 0 | M17: 0 | N17: 0 | O17: 0 | P17: 0 | Q17: 0 | R17: =AVERAGE(L17:Q17) -> 0 | S17: =IF(R17="","Falta Nota",IF(R17<1.95,"B",IF(R17<2.95,"R",IF(R17<3.95,"A",IF(R17<=5,"E","nota>5,0"))))) -> B | T17: 0 | U17: 0 | V17: 0 | W17: 0 | X17: 0 | Y17: 0 | Z17: =AVERAGE(T17:Y17) -> 0 | AA17: =IF(Z17="","Falta Nota",IF(Z17<1.95,"B",IF(Z17<2.95,"R",IF(Z17<3.95,"A",IF(Z17<=5,"E","nota>5,0"))))) -> B | BA17: C4a: Distribución polarizada: Polarización extrema (BE)
A18: 8 | D18: 0 | E18: 0 | F18: 0 | G18: 0 | H18: 0 | I18: 0 | J18: =AVERAGE(D18:I18) -> 0 | K18: =IF(J18="","Falta Nota",IF(J18<1.95,"B",IF(J18<2.95,"R",IF(J18<3.95,"A",IF(J18<=5,"E","nota>5,0"))))) -> B | L18: 0 | M18: 0 | N18: 0 | O18: 0 | P18: 0 | Q18: 0 | R18: =AVERAGE(L18:Q18) -> 0 | S18: =IF(R18="","Falta Nota",IF(R18<1.95,"B",IF(R18<2.95,"R",IF(R18<3.95,"A",IF(R18<=5,"E","nota>5,0"))))) -> B | T18: 0 | U18: 0 | V18: 0 | W18: 0 | X18: 0 | Y18: 0 | Z18: =AVERAGE(T18:Y18) -> 0 | AA18: =IF(Z18="","Falta Nota",IF(Z18<1.95,"B",IF(Z18<2.95,"R",IF(Z18<3.95,"A",IF(Z18<=5,"E","nota>5,0"))))) -> B | BA18: C4b: Distribución polarizada: Polarización media (RE)
A19: 9 | D19: 0 | E19: 0 | F19: 0 | G19: 0 | H19: 0 | I19: 0 | J19: =AVERAGE(D19:I19) -> 0 | K19: =IF(J19="","Falta Nota",IF(J19<1.95,"B",IF(J19<2.95,"R",IF(J19<3.95,"A",IF(J19<=5,"E","nota>5,0"))))) -> B | L19: 0 | M19: 0 | N19: 0 | O19: 0 | P19: 0 | Q19: 0 | R19: =AVERAGE(L19:Q19) -> 0 | S19: =IF(R19="","Falta Nota",IF(R19<1.95,"B",IF(R19<2.95,"R",IF(R19<3.95,"A",IF(R19<=5,"E","nota>5,0"))))) -> B | T19: 0 | U19: 0 | V19: 0 | W19: 0 | X19: 0 | Y19: 0 | Z19: =AVERAGE(T19:Y19) -> 0 | AA19: =IF(Z19="","Falta Nota",IF(Z19<1.95,"B",IF(Z19<2.95,"R",IF(Z19<3.95,"A",IF(Z19<=5,"E","nota>5,0"))))) -> B | BA19: C4c: Distribución polarizada: Polarización media (BR)
A20: 10 | D20: 0 | E20: 0 | F20: 0 | G20: 0 | H20: 0 | I20: 0 | J20: =AVERAGE(D20:I20) -> 0 | K20: =IF(J20="","Falta Nota",IF(J20<1.95,"B",IF(J20<2.95,"R",IF(J20<3.95,"A",IF(J20<=5,"E","nota>5,0"))))) -> B | L20: 0 | M20: 0 | N20: 0 | O20: 0 | P20: 0 | Q20: 0 | R20: =AVERAGE(L20:Q20) -> 0 | S20: =IF(R20="","Falta Nota",IF(R20<1.95,"B",IF(R20<2.95,"R",IF(R20<3.95,"A",IF(R20<=5,"E","nota>5,0"))))) -> B | T20: 0 | U20: 0 | V20: 0 | W20: 0 | X20: 0 | Y20: 0 | Z20: =AVERAGE(T20:Y20) -> 0 | AA20: =IF(Z20="","Falta Nota",IF(Z20<1.95,"B",IF(Z20<2.95,"R",IF(Z20<3.95,"A",IF(Z20<=5,"E","nota>5,0"))))) -> B
A21: 11 | D21: 0 | E21: 0 | F21: 0 | G21: 0 | H21: 0 | I21: 0 | J21: =AVERAGE(D21:I21) -> 0 | K21: =IF(J21="","Falta Nota",IF(J21<1.95,"B",IF(J21<2.95,"R",IF(J21<3.95,"A",IF(J21<=5,"E","nota>5,0"))))) -> B | L21: 0 | M21: 0 | N21: 0 | O21: 0 | P21: 0 | Q21: 0 | R21: =AVERAGE(L21:Q21) -> 0 | S21: =IF(R21="","Falta Nota",IF(R21<1.95,"B",IF(R21<2.95,"R",IF(R21<3.95,"A",IF(R21<=5,"E","nota>5,0"))))) -> B | T21: 0 | U21: 0 | V21: 0 | W21: 0 | X21: 0 | Y21: 0 | Z21: =AVERAGE(T21:Y21) -> 0 | AA21: =IF(Z21="","Falta Nota",IF(Z21<1.95,"B",IF(Z21<2.95,"R",IF(Z21<3.95,"A",IF(Z21<=5,"E","nota>5,0"))))) -> B
A22: 12 | D22: 0 | E22: 0 | F22: 0 | G22: 0 | H22: 0 | I22: 0 | J22: =AVERAGE(D22:I22) -> 0 | K22: =IF(J22="","Falta Nota",IF(J22<1.95,"B",IF(J22<2.95,"R",IF(J22<3.95,"A",IF(J22<=5,"E","nota>5,0"))))) -> B | L22: 0 | M22: 0 | N22: 0 | O22: 0 | P22: 0 | Q22: 0 | R22: =AVERAGE(L22:Q22) -> 0 | S22: =IF(R22="","Falta Nota",IF(R22<1.95,"B",IF(R22<2.95,"R",IF(R22<3.95,"A",IF(R22<=5,"E","nota>5,0"))))) -> B | T22: 0 | U22: 0 | V22: 0 | W22: 0 | X22: 0 | Y22: 0 | Z22: =AVERAGE(T22:Y22) -> 0 | AA22: =IF(Z22="","Falta Nota",IF(Z22<1.95,"B",IF(Z22<2.95,"R",IF(Z22<3.95,"A",IF(Z22<=5,"E","nota>5,0"))))) -> B
A23: 13 | D23: 0 | E23: 0 | F23: 0 | G23: 0 | H23: 0 | I23: 0 | J23: =AVERAGE(D23:I23) -> 0 | K23: =IF(J23="","Falta Nota",IF(J23<1.95,"B",IF(J23<2.95,"R",IF(J23<3.95,"A",IF(J23<=5,"E","nota>5,0"))))) -> B | L23: 0 | M23: 0 | N23: 0 | O23: 0 | P23: 0 | Q23: 0 | R23: =AVERAGE(L23:Q23) -> 0 | S23: =IF(R23="","Falta Nota",IF(R23<1.95,"B",IF(R23<2.95,"R",IF(R23<3.95,"A",IF(R23<=5,"E","nota>5,0"))))) -> B | T23: 0 | U23: 0 | V23: 0 | W23: 0 | X23: 0 | Y23: 0 | Z23: =AVERAGE(T23:Y23) -> 0 | AA23: =IF(Z23="","Falta Nota",IF(Z23<1.95,"B",IF(Z23<2.95,"R",IF(Z23<3.95,"A",IF(Z23<=5,"E","nota>5,0"))))) -> B
A24: 14 | D24: 0 | E24: 0 | F24: 0 | G24: 0 | H24: 0 | I24: 0 | J24: =AVERAGE(D24:I24) -> 0 | K24: =IF(J24="","Falta Nota",IF(J24<1.95,"B",IF(J24<2.95,"R",IF(J24<3.95,"A",IF(J24<=5,"E","nota>5,0"))))) -> B | L24: 0 | M24: 0 | N24: 0 | O24: 0 | P24: 0 | Q24: 0 | R24: =AVERAGE(L24:Q24) -> 0 | S24: =IF(R24="","Falta Nota",IF(R24<1.95,"B",IF(R24<2.95,"R",IF(R24<3.95,"A",IF(R24<=5,"E","nota>5,0"))))) -> B | T24: 0 | U24: 0 | V24: 0 | W24: 0 | X24: 0 | Y24: 0 | Z24: =AVERAGE(T24:Y24) -> 0 | AA24: =IF(Z24="","Falta Nota",IF(Z24<1.95,"B",IF(Z24<2.95,"R",IF(Z24<3.95,"A",IF(Z24<=5,"E","nota>5,0"))))) -> B
A25: 15 | D25: 0 | E25: 0 | F25: 0 | G25: 0 | H25: 0 | I25: 0 | J25: =AVERAGE(D25:I25) -> 0 | K25: =IF(J25="","Falta Nota",IF(J25<1.95,"B",IF(J25<2.95,"R",IF(J25<3.95,"A",IF(J25<=5,"E","nota>5,0"))))) -> B | L25: 0 | M25: 0 | N25: 0 | O25: 0 | P25: 0 | Q25: 0 | R25: =AVERAGE(L25:Q25) -> 0 | S25: =IF(R25="","Falta Nota",IF(R25<1.95,"B",IF(R25<2.95,"R",IF(R25<3.95,"A",IF(R25<=5,"E","nota>5,0"))))) -> B | T25: 0 | U25: 0 | V25: 0 | W25: 0 | X25: 0 | Y25: 0 | Z25: =AVERAGE(T25:Y25) -> 0 | AA25: =IF(Z25="","Falta Nota",IF(Z25<1.95,"B",IF(Z25<2.95,"R",IF(Z25<3.95,"A",IF(Z25<=5,"E","nota>5,0"))))) -> B
A26: 16 | D26: 0 | E26: 0 | F26: 0 | G26: 0 | H26: 0 | I26: 0 | J26: =AVERAGE(D26:I26) -> 0 | K26: =IF(J26="","Falta Nota",IF(J26<1.95,"B",IF(J26<2.95,"R",IF(J26<3.95,"A",IF(J26<=5,"E","nota>5,0"))))) -> B | L26: 0 | M26: 0 | N26: 0 | O26: 0 | P26: 0 | Q26: 0 | R26: =AVERAGE(L26:Q26) -> 0 | S26: =IF(R26="","Falta Nota",IF(R26<1.95,"B",IF(R26<2.95,"R",IF(R26<3.95,"A",IF(R26<=5,"E","nota>5,0"))))) -> B | T26: 0 | U26: 0 | V26: 0 | W26: 0 | X26: 0 | Y26: 0 | Z26: =AVERAGE(T26:Y26) -> 0 | AA26: =IF(Z26="","Falta Nota",IF(Z26<1.95,"B",IF(Z26<2.95,"R",IF(Z26<3.95,"A",IF(Z26<=5,"E","nota>5,0"))))) -> B
A27: 17 | D27: 0 | E27: 0 | F27: 0 | G27: 0 | H27: 0 | I27: 0 | J27: =AVERAGE(D27:I27) -> 0 | K27: =IF(J27="","Falta Nota",IF(J27<1.95,"B",IF(J27<2.95,"R",IF(J27<3.95,"A",IF(J27<=5,"E","nota>5,0"))))) -> B | L27: 0 | M27: 0 | N27: 0 | O27: 0 | P27: 0 | Q27: 0 | R27: =AVERAGE(L27:Q27) -> 0 | S27: =IF(R27="","Falta Nota",IF(R27<1.95,"B",IF(R27<2.95,"R",IF(R27<3.95,"A",IF(R27<=5,"E","nota>5,0"))))) -> B | T27: 0 | U27: 0 | V27: 0 | W27: 0 | X27: 0 | Y27: 0 | Z27: =AVERAGE(T27:Y27) -> 0 | AA27: =IF(Z27="","Falta Nota",IF(Z27<1.95,"B",IF(Z27<2.95,"R",IF(Z27<3.95,"A",IF(Z27<=5,"E","nota>5,0"))))) -> B
A28: 18 | D28: 0 | E28: 0 | F28: 0 | G28: 0 | H28: 0 | I28: 0 | J28: =AVERAGE(D28:I28) -> 0 | K28: =IF(J28="","Falta Nota",IF(J28<1.95,"B",IF(J28<2.95,"R",IF(J28<3.95,"A",IF(J28<=5,"E","nota>5,0"))))) -> B | L28: 0 | M28: 0 | N28: 0 | O28: 0 | P28: 0 | Q28: 0 | R28: =AVERAGE(L28:Q28) -> 0 | S28: =IF(R28="","Falta Nota",IF(R28<1.95,"B",IF(R28<2.95,"R",IF(R28<3.95,"A",IF(R28<=5,"E","nota>5,0"))))) -> B | T28: 0 | U28: 0 | V28: 0 | W28: 0 | X28: 0 | Y28: 0 | Z28: =AVERAGE(T28:Y28) -> 0 | AA28: =IF(Z28="","Falta Nota",IF(Z28<1.95,"B",IF(Z28<2.95,"R",IF(Z28<3.95,"A",IF(Z28<=5,"E","nota>5,0"))))) -> B | AI28: Seleccione la categoría que describe el comportamiento obtenido | AQ28: Seleccione la categoría que describe el comportamiento obtenido | AY28: Seleccione la categoría que describe el comportamiento obtenido
A29: 19 | D29: 0 | E29: 0 | F29: 0 | G29: 0 | H29: 0 | I29: 0 | J29: =AVERAGE(D29:I29) -> 0 | K29: =IF(J29="","Falta Nota",IF(J29<1.95,"B",IF(J29<2.95,"R",IF(J29<3.95,"A",IF(J29<=5,"E","nota>5,0"))))) -> B | L29: 0 | M29: 0 | N29: 0 | O29: 0 | P29: 0 | Q29: 0 | R29: =AVERAGE(L29:Q29) -> 0 | S29: =IF(R29="","Falta Nota",IF(R29<1.95,"B",IF(R29<2.95,"R",IF(R29<3.95,"A",IF(R29<=5,"E","nota>5,0"))))) -> B | T29: 0 | U29: 0 | V29: 0 | W29: 0 | X29: 0 | Y29: 0 | Z29: =AVERAGE(T29:Y29) -> 0 | AA29: =IF(Z29="","Falta Nota",IF(Z29<1.95,"B",IF(Z29<2.95,"R",IF(Z29<3.95,"A",IF(Z29<=5,"E","nota>5,0"))))) -> B | AD29: Mi2 RAE1 | AI29: Categorización | AL29: Mi2 RAE2 | AQ29: Categorización | AT29: Mi2 RAE3 | AY29: Categorización
A30: 20 | D30: 0 | E30: 0 | F30: 0 | G30: 0 | H30: 0 | I30: 0 | J30: =AVERAGE(D30:I30) -> 0 | K30: =IF(J30="","Falta Nota",IF(J30<1.95,"B",IF(J30<2.95,"R",IF(J30<3.95,"A",IF(J30<=5,"E","nota>5,0"))))) -> B | L30: 0 | M30: 0 | N30: 0 | O30: 0 | P30: 0 | Q30: 0 | R30: =AVERAGE(L30:Q30) -> 0 | S30: =IF(R30="","Falta Nota",IF(R30<1.95,"B",IF(R30<2.95,"R",IF(R30<3.95,"A",IF(R30<=5,"E","nota>5,0"))))) -> B | T30: 0 | U30: 0 | V30: 0 | W30: 0 | X30: 0 | Y30: 0 | Z30: =AVERAGE(T30:Y30) -> 0 | AA30: =IF(Z30="","Falta Nota",IF(Z30<1.95,"B",IF(Z30<2.95,"R",IF(Z30<3.95,"A",IF(Z30<=5,"E","nota>5,0"))))) -> B | AD30: B | AE30: R | AF30: A | AG30: E | AI30: C1a : Distribución favorable: Excelencia predominante | AL30: B | AM30: R | AN30: A | AO30: E | AQ30: C1a : Distribución favorable: Excelencia predominante | AT30: B | AU30: R | AV30: A | AW30: E | AY30: C1a : Distribución favorable: Excelencia predominante
A31: 21 | D31: 0 | E31: 0 | F31: 0 | G31: 0 | H31: 0 | I31: 0 | J31: =AVERAGE(D31:I31) -> 0 | K31: =IF(J31="","Falta Nota",IF(J31<1.95,"B",IF(J31<2.95,"R",IF(J31<3.95,"A",IF(J31<=5,"E","nota>5,0"))))) -> B | L31: 0 | M31: 0 | N31: 0 | O31: 0 | P31: 0 | Q31: 0 | R31: =AVERAGE(L31:Q31) -> 0 | S31: =IF(R31="","Falta Nota",IF(R31<1.95,"B",IF(R31<2.95,"R",IF(R31<3.95,"A",IF(R31<=5,"E","nota>5,0"))))) -> B | T31: 0 | U31: 0 | V31: 0 | W31: 0 | X31: 0 | Y31: 0 | Z31: =AVERAGE(T31:Y31) -> 0 | AA31: =IF(Z31="","Falta Nota",IF(Z31<1.95,"B",IF(Z31<2.95,"R",IF(Z31<3.95,"A",IF(Z31<=5,"E","nota>5,0"))))) -> B | AD31: =COUNTIF($D42:$I42,AD30) -> 6 | AE31: =COUNTIF($D42:$I42,AE30) -> 0 | AF31: =COUNTIF($D42:$I42,AF30) -> 0 | AG31: =COUNTIF($D42:$I42,AG30) -> 0 | AL31: =COUNTIF($L42:$Q42,AL30) -> 6 | AM31: =COUNTIF($L42:$Q42,AM30) -> 0 | AN31: =COUNTIF($L42:$Q42,AN30) -> 0 | AO31: =COUNTIF($L42:$Q42,AO30) -> 0 | AT31: =COUNTIF($T42:$Y42,AT30) -> 6 | AU31: =COUNTIF($T42:$Y42,AU30) -> 0 | AV31: =COUNTIF($T42:$Y42,AV30) -> 0 | AW31: =COUNTIF($T42:$Y42,AW30) -> 0
A32: 22 | D32: 0 | E32: 0 | F32: 0 | G32: 0 | H32: 0 | I32: 0 | J32: =AVERAGE(D32:I32) -> 0 | K32: =IF(J32="","Falta Nota",IF(J32<1.95,"B",IF(J32<2.95,"R",IF(J32<3.95,"A",IF(J32<=5,"E","nota>5,0"))))) -> B | L32: 0 | M32: 0 | N32: 0 | O32: 0 | P32: 0 | Q32: 0 | R32: =AVERAGE(L32:Q32) -> 0 | S32: =IF(R32="","Falta Nota",IF(R32<1.95,"B",IF(R32<2.95,"R",IF(R32<3.95,"A",IF(R32<=5,"E","nota>5,0"))))) -> B | T32: 0 | U32: 0 | V32: 0 | W32: 0 | X32: 0 | Y32: 0 | Z32: =AVERAGE(T32:Y32) -> 0 | AA32: =IF(Z32="","Falta Nota",IF(Z32<1.95,"B",IF(Z32<2.95,"R",IF(Z32<3.95,"A",IF(Z32<=5,"E","nota>5,0"))))) -> B
A33: 23 | D33: 0 | E33: 0 | F33: 0 | G33: 0 | H33: 0 | I33: 0 | J33: =AVERAGE(D33:I33) -> 0 | K33: =IF(J33="","Falta Nota",IF(J33<1.95,"B",IF(J33<2.95,"R",IF(J33<3.95,"A",IF(J33<=5,"E","nota>5,0"))))) -> B | L33: 0 | M33: 0 | N33: 0 | O33: 0 | P33: 0 | Q33: 0 | R33: =AVERAGE(L33:Q33) -> 0 | S33: =IF(R33="","Falta Nota",IF(R33<1.95,"B",IF(R33<2.95,"R",IF(R33<3.95,"A",IF(R33<=5,"E","nota>5,0"))))) -> B | T33: 0 | U33: 0 | V33: 0 | W33: 0 | X33: 0 | Y33: 0 | Z33: =AVERAGE(T33:Y33) -> 0 | AA33: =IF(Z33="","Falta Nota",IF(Z33<1.95,"B",IF(Z33<2.95,"R",IF(Z33<3.95,"A",IF(Z33<=5,"E","nota>5,0"))))) -> B
A34: 24 | D34: 0 | E34: 0 | F34: 0 | G34: 0 | H34: 0 | I34: 0 | J34: =AVERAGE(D34:I34) -> 0 | K34: =IF(J34="","Falta Nota",IF(J34<1.95,"B",IF(J34<2.95,"R",IF(J34<3.95,"A",IF(J34<=5,"E","nota>5,0"))))) -> B | L34: 0 | M34: 0 | N34: 0 | O34: 0 | P34: 0 | Q34: 0 | R34: =AVERAGE(L34:Q34) -> 0 | S34: =IF(R34="","Falta Nota",IF(R34<1.95,"B",IF(R34<2.95,"R",IF(R34<3.95,"A",IF(R34<=5,"E","nota>5,0"))))) -> B | T34: 0 | U34: 0 | V34: 0 | W34: 0 | X34: 0 | Y34: 0 | Z34: =AVERAGE(T34:Y34) -> 0 | AA34: =IF(Z34="","Falta Nota",IF(Z34<1.95,"B",IF(Z34<2.95,"R",IF(Z34<3.95,"A",IF(Z34<=5,"E","nota>5,0"))))) -> B
A35: 25 | D35: 0 | E35: 0 | F35: 0 | G35: 0 | H35: 0 | I35: 0 | J35: =AVERAGE(D35:I35) -> 0 | K35: =IF(J35="","Falta Nota",IF(J35<1.95,"B",IF(J35<2.95,"R",IF(J35<3.95,"A",IF(J35<=5,"E","nota>5,0"))))) -> B | L35: 0 | M35: 0 | N35: 0 | O35: 0 | P35: 0 | Q35: 0 | R35: =AVERAGE(L35:Q35) -> 0 | S35: =IF(R35="","Falta Nota",IF(R35<1.95,"B",IF(R35<2.95,"R",IF(R35<3.95,"A",IF(R35<=5,"E","nota>5,0"))))) -> B | T35: 0 | U35: 0 | V35: 0 | W35: 0 | X35: 0 | Y35: 0 | Z35: =AVERAGE(T35:Y35) -> 0 | AA35: =IF(Z35="","Falta Nota",IF(Z35<1.95,"B",IF(Z35<2.95,"R",IF(Z35<3.95,"A",IF(Z35<=5,"E","nota>5,0"))))) -> B
A36: 26 | D36: 0 | E36: 0 | F36: 0 | G36: 0 | H36: 0 | I36: 0 | J36: =AVERAGE(D36:I36) -> 0 | K36: =IF(J36="","Falta Nota",IF(J36<1.95,"B",IF(J36<2.95,"R",IF(J36<3.95,"A",IF(J36<=5,"E","nota>5,0"))))) -> B | L36: 0 | M36: 0 | N36: 0 | O36: 0 | P36: 0 | Q36: 0 | R36: =AVERAGE(L36:Q36) -> 0 | S36: =IF(R36="","Falta Nota",IF(R36<1.95,"B",IF(R36<2.95,"R",IF(R36<3.95,"A",IF(R36<=5,"E","nota>5,0"))))) -> B | T36: 0 | U36: 0 | V36: 0 | W36: 0 | X36: 0 | Y36: 0 | Z36: =AVERAGE(T36:Y36) -> 0 | AA36: =IF(Z36="","Falta Nota",IF(Z36<1.95,"B",IF(Z36<2.95,"R",IF(Z36<3.95,"A",IF(Z36<=5,"E","nota>5,0"))))) -> B
A37: 27 | D37: 0 | E37: 0 | F37: 0 | G37: 0 | H37: 0 | I37: 0 | J37: =AVERAGE(D37:I37) -> 0 | K37: =IF(J37="","Falta Nota",IF(J37<1.95,"B",IF(J37<2.95,"R",IF(J37<3.95,"A",IF(J37<=5,"E","nota>5,0"))))) -> B | L37: 0 | M37: 0 | N37: 0 | O37: 0 | P37: 0 | Q37: 0 | R37: =AVERAGE(L37:Q37) -> 0 | S37: =IF(R37="","Falta Nota",IF(R37<1.95,"B",IF(R37<2.95,"R",IF(R37<3.95,"A",IF(R37<=5,"E","nota>5,0"))))) -> B | T37: 0 | U37: 0 | V37: 0 | W37: 0 | X37: 0 | Y37: 0 | Z37: =AVERAGE(T37:Y37) -> 0 | AA37: =IF(Z37="","Falta Nota",IF(Z37<1.95,"B",IF(Z37<2.95,"R",IF(Z37<3.95,"A",IF(Z37<=5,"E","nota>5,0"))))) -> B
A38: 28 | D38: 0 | E38: 0 | F38: 0 | G38: 0 | H38: 0 | I38: 0 | J38: =AVERAGE(D38:I38) -> 0 | K38: =IF(J38="","Falta Nota",IF(J38<1.95,"B",IF(J38<2.95,"R",IF(J38<3.95,"A",IF(J38<=5,"E","nota>5,0"))))) -> B | L38: 0 | M38: 0 | N38: 0 | O38: 0 | P38: 0 | Q38: 0 | R38: =AVERAGE(L38:Q38) -> 0 | S38: =IF(R38="","Falta Nota",IF(R38<1.95,"B",IF(R38<2.95,"R",IF(R38<3.95,"A",IF(R38<=5,"E","nota>5,0"))))) -> B | T38: 0 | U38: 0 | V38: 0 | W38: 0 | X38: 0 | Y38: 0 | Z38: =AVERAGE(T38:Y38) -> 0 | AA38: =IF(Z38="","Falta Nota",IF(Z38<1.95,"B",IF(Z38<2.95,"R",IF(Z38<3.95,"A",IF(Z38<=5,"E","nota>5,0"))))) -> B
A39: 29 | D39: 0 | E39: 0 | F39: 0 | G39: 0 | H39: 0 | I39: 0 | J39: =AVERAGE(D39:I39) -> 0 | K39: =IF(J39="","Falta Nota",IF(J39<1.95,"B",IF(J39<2.95,"R",IF(J39<3.95,"A",IF(J39<=5,"E","nota>5,0"))))) -> B | L39: 0 | M39: 0 | N39: 0 | O39: 0 | P39: 0 | Q39: 0 | R39: =AVERAGE(L39:Q39) -> 0 | S39: =IF(R39="","Falta Nota",IF(R39<1.95,"B",IF(R39<2.95,"R",IF(R39<3.95,"A",IF(R39<=5,"E","nota>5,0"))))) -> B | T39: 0 | U39: 0 | V39: 0 | W39: 0 | X39: 0 | Y39: 0 | Z39: =AVERAGE(T39:Y39) -> 0 | AA39: =IF(Z39="","Falta Nota",IF(Z39<1.95,"B",IF(Z39<2.95,"R",IF(Z39<3.95,"A",IF(Z39<=5,"E","nota>5,0"))))) -> B
A40: 30 | D40: 0 | E40: 0 | F40: 0 | G40: 0 | H40: 0 | I40: 0 | J40: =AVERAGE(D40:I40) -> 0 | K40: =IF(J40="","Falta Nota",IF(J40<1.95,"B",IF(J40<2.95,"R",IF(J40<3.95,"A",IF(J40<=5,"E","nota>5,0"))))) -> B | L40: 0 | M40: 0 | N40: 0 | O40: 0 | P40: 0 | Q40: 0 | R40: =AVERAGE(L40:Q40) -> 0 | S40: =IF(R40="","Falta Nota",IF(R40<1.95,"B",IF(R40<2.95,"R",IF(R40<3.95,"A",IF(R40<=5,"E","nota>5,0"))))) -> B | T40: 0 | U40: 0 | V40: 0 | W40: 0 | X40: 0 | Y40: 0 | Z40: =AVERAGE(T40:Y40) -> 0 | AA40: =IF(Z40="","Falta Nota",IF(Z40<1.95,"B",IF(Z40<2.95,"R",IF(Z40<3.95,"A",IF(Z40<=5,"E","nota>5,0"))))) -> B
B41: Mi2 | D41: =AVERAGE(D11:D40) -> 0 | E41: =AVERAGE(E11:E40) -> 0 | F41: =AVERAGE(F11:F40) -> 0 | G41: =AVERAGE(G11:G40) -> 0 | H41: =AVERAGE(H11:H40) -> 0 | I41: =AVERAGE(I11:I40) -> 0 | L41: =AVERAGE(L11:L40) -> 0 | M41: =AVERAGE(M11:M40) -> 0 | N41: =AVERAGE(N11:N40) -> 0 | O41: =AVERAGE(O11:O40) -> 0 | P41: =AVERAGE(P11:P40) -> 0 | Q41: =AVERAGE(Q11:Q40) -> 0 | T41: =AVERAGE(T11:T40) -> 0 | U41: =AVERAGE(U11:U40) -> 0 | V41: =AVERAGE(V11:V40) -> 0 | W41: =AVERAGE(W11:W40) -> 0 | X41: =AVERAGE(X11:X40) -> 0 | Y41: =AVERAGE(Y11:Y40) -> 0
B42: Nivel M2 | D42: =IF(D41="","Falta Nota",IF(D41<1.95,"B",IF(D41<2.95,"R",IF(D41<3.95,"A",IF(D41<=5,"E","nota>5,0"))))) -> B | E42: =IF(E41="","Falta Nota",IF(E41<1.95,"B",IF(E41<2.95,"R",IF(E41<3.95,"A",IF(E41<=5,"E","nota>5,0"))))) -> B | F42: =IF(F41="","Falta Nota",IF(F41<1.95,"B",IF(F41<2.95,"R",IF(F41<3.95,"A",IF(F41<=5,"E","nota>5,0"))))) -> B | G42: =IF(G41="","Falta Nota",IF(G41<1.95,"B",IF(G41<2.95,"R",IF(G41<3.95,"A",IF(G41<=5,"E","nota>5,0"))))) -> B | H42: =IF(H41="","Falta Nota",IF(H41<1.95,"B",IF(H41<2.95,"R",IF(H41<3.95,"A",IF(H41<=5,"E","nota>5,0"))))) -> B | I42: =IF(I41="","Falta Nota",IF(I41<1.95,"B",IF(I41<2.95,"R",IF(I41<3.95,"A",IF(I41<=5,"E","nota>5,0"))))) -> B | L42: =IF(L41="","Falta Nota",IF(L41<1.95,"B",IF(L41<2.95,"R",IF(L41<3.95,"A",IF(L41<=5,"E","nota>5,0"))))) -> B | M42: =IF(M41="","Falta Nota",IF(M41<1.95,"B",IF(M41<2.95,"R",IF(M41<3.95,"A",IF(M41<=5,"E","nota>5,0"))))) -> B | N42: =IF(N41="","Falta Nota",IF(N41<1.95,"B",IF(N41<2.95,"R",IF(N41<3.95,"A",IF(N41<=5,"E","nota>5,0"))))) -> B | O42: =IF(O41="","Falta Nota",IF(O41<1.95,"B",IF(O41<2.95,"R",IF(O41<3.95,"A",IF(O41<=5,"E","nota>5,0"))))) -> B | P42: =IF(P41="","Falta Nota",IF(P41<1.95,"B",IF(P41<2.95,"R",IF(P41<3.95,"A",IF(P41<=5,"E","nota>5,0"))))) -> B | Q42: =IF(Q41="","Falta Nota",IF(Q41<1.95,"B",IF(Q41<2.95,"R",IF(Q41<3.95,"A",IF(Q41<=5,"E","nota>5,0"))))) -> B | T42: =IF(T41="","Falta Nota",IF(T41<1.95,"B",IF(T41<2.95,"R",IF(T41<3.95,"A",IF(T41<=5,"E","nota>5,0"))))) -> B | U42: =IF(U41="","Falta Nota",IF(U41<1.95,"B",IF(U41<2.95,"R",IF(U41<3.95,"A",IF(U41<=5,"E","nota>5,0"))))) -> B | V42: =IF(V41="","Falta Nota",IF(V41<1.95,"B",IF(V41<2.95,"R",IF(V41<3.95,"A",IF(V41<=5,"E","nota>5,0"))))) -> B | W42: =IF(W41="","Falta Nota",IF(W41<1.95,"B",IF(W41<2.95,"R",IF(W41<3.95,"A",IF(W41<=5,"E","nota>5,0"))))) -> B | X42: =IF(X41="","Falta Nota",IF(X41<1.95,"B",IF(X41<2.95,"R",IF(X41<3.95,"A",IF(X41<=5,"E","nota>5,0"))))) -> B | Y42: =IF(Y41="","Falta Nota",IF(Y41<1.95,"B",IF(Y41<2.95,"R",IF(Y41<3.95,"A",IF(Y41<=5,"E","nota>5,0"))))) -> B

Sheet Asignatura 7 G7
B2: SISTEMA DE ASEGURAMIENTO DE RESULTADOS DE APRENDIZAJE - SARA INDICADORES RESULTADO DE APRENDIZAJE DE ASIGNATURA
AC4: ANÁLISIS DE INDICADORES Mi1 Y Mi2
B6: Profesor: | C6: ='Asignatura 1 G1'!B7 -> Nombre completo del profesor | H6: Cedula: | I6: ='Asignatura 1 G1'!H7 -> No. de identificación | L6: Asignatura: | M6: Nombre de la asignatura (Q10) | R6: Grupo: | S6: No. de grupo (Q10) | Y6: Periodo: | Z6: ='Asignatura 1 G1'!Y7 -> 202X-A/B | AI6: Guía de selección de categorías
AI7: Seleccione la categoría que describe el comportamiento obtenido | AQ7: Seleccione la categoría que describe el comportamiento obtenido | AY7: Seleccione la categoría que describe el comportamiento obtenido | BA7: Categorización
B8: Estudiante | C8: Programa | D8: RAE1 | L8: RAE2 | T8: RAE 3 | AD8: Mi1 RAE1 | AI8: Categorización | AL8: Mi 1 RAE2 | AQ8: Categorización | AT8: Mi1 RAE3 | AY8: Categorización | BA8: C1a : Distribución favorable: Excelencia predominante
D9: AF 1 | G9: AF2 | I9: AF3 | J9: Mi1 | K9: Nivel Mi1 | L9: AF4 | O9: AF5 | Q9: AF6 | R9: Mi1 | S9: Nivel Mi1 | T9: AF6 | W9: AF7 | Y9: AF8 | Z9: Mi1 | AA9: Nivel Mi1 | AD9: B | AE9: R | AF9: A | AG9: E | AI9: C1a : Distribución favorable: Excelencia predominante | AL9: B | AM9: R | AN9: A | AO9: E | AQ9: C1a : Distribución favorable: Excelencia predominante | AT9: B | AU9: R | AV9: A | AW9: E | AY9: C1a : Distribución favorable: Excelencia predominante | BA9: C1b : Distribución favorable: Logro aceptable predominante
D10: AE1 | E10: AE2 | F10: AE3 | G10: AE4 | H10: AE5 | I10: AE6 | L10: AE7 | M10: AE8 | N10: AE9 | O10: AE10 | P10: AE11 | Q10: AE12 | T10: AE13 | U10: AE14 | V10: AE15 | W10: AE16 | X10: AE17 | Y10: AE18 | AD10: =COUNTIF($K:$K,AD9) -> 30 | AE10: =COUNTIF($K:$K,AE9) -> 0 | AF10: =COUNTIF($K:$K,AF9) -> 0 | AG10: =COUNTIF($K:$K,AG9) -> 0 | AL10: =COUNTIF($S:$S,AL9) -> 30 | AM10: =COUNTIF($S:$S,AM9) -> 0 | AN10: =COUNTIF($S:$S,AN9) -> 0 | AO10: =COUNTIF($S:$S,AO9) -> 0 | AT10: =COUNTIF($AA:$AA,AT9) -> 30 | AU10: =COUNTIF($AA:$AA,AU9) -> 0 | AV10: =COUNTIF($AA:$AA,AV9) -> 0 | AW10: =COUNTIF($AA:$AA,AW9) -> 0 | BA10: C1c : Distribución favorable: Tendencia ascendente al logro B-E
A11: 1 | D11: 0 | E11: 0 | F11: 0 | G11: 0 | H11: 0 | I11: 0 | J11: =AVERAGE(D11:I11) -> 0 | K11: =IF(J11="","Falta Nota",IF(J11<1.95,"B",IF(J11<2.95,"R",IF(J11<3.95,"A",IF(J11<=5,"E","nota>5,0"))))) -> B | L11: 0 | M11: 0 | N11: 0 | O11: 0 | P11: 0 | Q11: 0 | R11: =AVERAGE(L11:Q11) -> 0 | S11: =IF(R11="","Falta Nota",IF(R11<1.95,"B",IF(R11<2.95,"R",IF(R11<3.95,"A",IF(R11<=5,"E","nota>5,0"))))) -> B | T11: 0 | U11: 0 | V11: 0 | W11: 0 | X11: 0 | Y11: 0 | Z11: =AVERAGE(T11:Y11) -> 0 | AA11: =IF(Z11="","Falta Nota",IF(Z11<1.95,"B",IF(Z11<2.95,"R",IF(Z11<3.95,"A",IF(Z11<=5,"E","nota>5,0"))))) -> B | BA11: C2a: Distribución por fortalecer: Alerta crítica predominante B
A12: 2 | D12: 0 | E12: 0 | F12: 0 | G12: 0 | H12: 0 | I12: 0 | J12: =AVERAGE(D12:I12) -> 0 | K12: =IF(J12="","Falta Nota",IF(J12<1.95,"B",IF(J12<2.95,"R",IF(J12<3.95,"A",IF(J12<=5,"E","nota>5,0"))))) -> B | L12: 0 | M12: 0 | N12: 0 | O12: 0 | P12: 0 | Q12: 0 | R12: =AVERAGE(L12:Q12) -> 0 | S12: =IF(R12="","Falta Nota",IF(R12<1.95,"B",IF(R12<2.95,"R",IF(R12<3.95,"A",IF(R12<=5,"E","nota>5,0"))))) -> B | T12: 0 | U12: 0 | V12: 0 | W12: 0 | X12: 0 | Y12: 0 | Z12: =AVERAGE(T12:Y12) -> 0 | AA12: =IF(Z12="","Falta Nota",IF(Z12<1.95,"B",IF(Z12<2.95,"R",IF(Z12<3.95,"A",IF(Z12<=5,"E","nota>5,0"))))) -> B | BA12: C2b: Distribución por fortalecer: Alerta moderada predominante R
A13: 3 | D13: 0 | E13: 0 | F13: 0 | G13: 0 | H13: 0 | I13: 0 | J13: =AVERAGE(D13:I13) -> 0 | K13: =IF(J13="","Falta Nota",IF(J13<1.95,"B",IF(J13<2.95,"R",IF(J13<3.95,"A",IF(J13<=5,"E","nota>5,0"))))) -> B | L13: 0 | M13: 0 | N13: 0 | O13: 0 | P13: 0 | Q13: 0 | R13: =AVERAGE(L13:Q13) -> 0 | S13: =IF(R13="","Falta Nota",IF(R13<1.95,"B",IF(R13<2.95,"R",IF(R13<3.95,"A",IF(R13<=5,"E","nota>5,0"))))) -> B | T13: 0 | U13: 0 | V13: 0 | W13: 0 | X13: 0 | Y13: 0 | Z13: =AVERAGE(T13:Y13) -> 0 | AA13: =IF(Z13="","Falta Nota",IF(Z13<1.95,"B",IF(Z13<2.95,"R",IF(Z13<3.95,"A",IF(Z13<=5,"E","nota>5,0"))))) -> B | BA13: C2c: Distribución por fortalecer: Tendencia descendente E-B
A14: 4 | D14: 0 | E14: 0 | F14: 0 | G14: 0 | H14: 0 | I14: 0 | J14: =AVERAGE(D14:I14) -> 0 | K14: =IF(J14="","Falta Nota",IF(J14<1.95,"B",IF(J14<2.95,"R",IF(J14<3.95,"A",IF(J14<=5,"E","nota>5,0"))))) -> B | L14: 0 | M14: 0 | N14: 0 | O14: 0 | P14: 0 | Q14: 0 | R14: =AVERAGE(L14:Q14) -> 0 | S14: =IF(R14="","Falta Nota",IF(R14<1.95,"B",IF(R14<2.95,"R",IF(R14<3.95,"A",IF(R14<=5,"E","nota>5,0"))))) -> B | T14: 0 | U14: 0 | V14: 0 | W14: 0 | X14: 0 | Y14: 0 | Z14: =AVERAGE(T14:Y14) -> 0 | AA14: =IF(Z14="","Falta Nota",IF(Z14<1.95,"B",IF(Z14<2.95,"R",IF(Z14<3.95,"A",IF(Z14<=5,"E","nota>5,0"))))) -> B | BA14: C3a: Distribución neutral: Distribución dispersa (heterogénea)
A15: 5 | D15: 0 | E15: 0 | F15: 0 | G15: 0 | H15: 0 | I15: 0 | J15: =AVERAGE(D15:I15) -> 0 | K15: =IF(J15="","Falta Nota",IF(J15<1.95,"B",IF(J15<2.95,"R",IF(J15<3.95,"A",IF(J15<=5,"E","nota>5,0"))))) -> B | L15: 0 | M15: 0 | N15: 0 | O15: 0 | P15: 0 | Q15: 0 | R15: =AVERAGE(L15:Q15) -> 0 | S15: =IF(R15="","Falta Nota",IF(R15<1.95,"B",IF(R15<2.95,"R",IF(R15<3.95,"A",IF(R15<=5,"E","nota>5,0"))))) -> B | T15: 0 | U15: 0 | V15: 0 | W15: 0 | X15: 0 | Y15: 0 | Z15: =AVERAGE(T15:Y15) -> 0 | AA15: =IF(Z15="","Falta Nota",IF(Z15<1.95,"B",IF(Z15<2.95,"R",IF(Z15<3.95,"A",IF(Z15<=5,"E","nota>5,0"))))) -> B | BA15: C3b: Distribución neutral: Umbral de logro (R/A predominante)
A16: 6 | D16: 0 | E16: 0 | F16: 0 | G16: 0 | H16: 0 | I16: 0 | J16: =AVERAGE(D16:I16) -> 0 | K16: =IF(J16="","Falta Nota",IF(J16<1.95,"B",IF(J16<2.95,"R",IF(J16<3.95,"A",IF(J16<=5,"E","nota>5,0"))))) -> B | L16: 0 | M16: 0 | N16: 0 | O16: 0 | P16: 0 | Q16: 0 | R16: =AVERAGE(L16:Q16) -> 0 | S16: =IF(R16="","Falta Nota",IF(R16<1.95,"B",IF(R16<2.95,"R",IF(R16<3.95,"A",IF(R16<=5,"E","nota>5,0"))))) -> B | T16: 0 | U16: 0 | V16: 0 | W16: 0 | X16: 0 | Y16: 0 | Z16: =AVERAGE(T16:Y16) -> 0 | AA16: =IF(Z16="","Falta Nota",IF(Z16<1.95,"B",IF(Z16<2.95,"R",IF(Z16<3.95,"A",IF(Z16<=5,"E","nota>5,0"))))) -> B | BA16: C3c: Distribución neutral: Logro con regazo significativo
A17: 7 | D17: 0 | E17: 0 | F17: 0 | G17: 0 | H17: 0 | I17: 0 | J17: =AVERAGE(D17:I17) -> 0 | K17: =IF(J17="","Falta Nota",IF(J17<1.95,"B",IF(J17<2.95,"R",IF(J17<3.95,"A",IF(J17<=5,"E","nota>5,0"))))) -> B | L17: 0 | M17: 0 | N17: 0 | O17: 0 | P17: 0 | Q17: 0 | R17: =AVERAGE(L17:Q17) -> 0 | S17: =IF(R17="","Falta Nota",IF(R17<1.95,"B",IF(R17<2.95,"R",IF(R17<3.95,"A",IF(R17<=5,"E","nota>5,0"))))) -> B | T17: 0 | U17: 0 | V17: 0 | W17: 0 | X17: 0 | Y17: 0 | Z17: =AVERAGE(T17:Y17) -> 0 | AA17: =IF(Z17="","Falta Nota",IF(Z17<1.95,"B",IF(Z17<2.95,"R",IF(Z17<3.95,"A",IF(Z17<=5,"E","nota>5,0"))))) -> B | BA17: C4a: Distribución polarizada: Polarización extrema (BE)
A18: 8 | D18: 0 | E18: 0 | F18: 0 | G18: 0 | H18: 0 | I18: 0 | J18: =AVERAGE(D18:I18) -> 0 | K18: =IF(J18="","Falta Nota",IF(J18<1.95,"B",IF(J18<2.95,"R",IF(J18<3.95,"A",IF(J18<=5,"E","nota>5,0"))))) -> B | L18: 0 | M18: 0 | N18: 0 | O18: 0 | P18: 0 | Q18: 0 | R18: =AVERAGE(L18:Q18) -> 0 | S18: =IF(R18="","Falta Nota",IF(R18<1.95,"B",IF(R18<2.95,"R",IF(R18<3.95,"A",IF(R18<=5,"E","nota>5,0"))))) -> B | T18: 0 | U18: 0 | V18: 0 | W18: 0 | X18: 0 | Y18: 0 | Z18: =AVERAGE(T18:Y18) -> 0 | AA18: =IF(Z18="","Falta Nota",IF(Z18<1.95,"B",IF(Z18<2.95,"R",IF(Z18<3.95,"A",IF(Z18<=5,"E","nota>5,0"))))) -> B | BA18: C4b: Distribución polarizada: Polarización media (RE)
A19: 9 | D19: 0 | E19: 0 | F19: 0 | G19: 0 | H19: 0 | I19: 0 | J19: =AVERAGE(D19:I19) -> 0 | K19: =IF(J19="","Falta Nota",IF(J19<1.95,"B",IF(J19<2.95,"R",IF(J19<3.95,"A",IF(J19<=5,"E","nota>5,0"))))) -> B | L19: 0 | M19: 0 | N19: 0 | O19: 0 | P19: 0 | Q19: 0 | R19: =AVERAGE(L19:Q19) -> 0 | S19: =IF(R19="","Falta Nota",IF(R19<1.95,"B",IF(R19<2.95,"R",IF(R19<3.95,"A",IF(R19<=5,"E","nota>5,0"))))) -> B | T19: 0 | U19: 0 | V19: 0 | W19: 0 | X19: 0 | Y19: 0 | Z19: =AVERAGE(T19:Y19) -> 0 | AA19: =IF(Z19="","Falta Nota",IF(Z19<1.95,"B",IF(Z19<2.95,"R",IF(Z19<3.95,"A",IF(Z19<=5,"E","nota>5,0"))))) -> B | BA19: C4c: Distribución polarizada: Polarización media (BR)
A20: 10 | D20: 0 | E20: 0 | F20: 0 | G20: 0 | H20: 0 | I20: 0 | J20: =AVERAGE(D20:I20) -> 0 | K20: =IF(J20="","Falta Nota",IF(J20<1.95,"B",IF(J20<2.95,"R",IF(J20<3.95,"A",IF(J20<=5,"E","nota>5,0"))))) -> B | L20: 0 | M20: 0 | N20: 0 | O20: 0 | P20: 0 | Q20: 0 | R20: =AVERAGE(L20:Q20) -> 0 | S20: =IF(R20="","Falta Nota",IF(R20<1.95,"B",IF(R20<2.95,"R",IF(R20<3.95,"A",IF(R20<=5,"E","nota>5,0"))))) -> B | T20: 0 | U20: 0 | V20: 0 | W20: 0 | X20: 0 | Y20: 0 | Z20: =AVERAGE(T20:Y20) -> 0 | AA20: =IF(Z20="","Falta Nota",IF(Z20<1.95,"B",IF(Z20<2.95,"R",IF(Z20<3.95,"A",IF(Z20<=5,"E","nota>5,0"))))) -> B
A21: 11 | D21: 0 | E21: 0 | F21: 0 | G21: 0 | H21: 0 | I21: 0 | J21: =AVERAGE(D21:I21) -> 0 | K21: =IF(J21="","Falta Nota",IF(J21<1.95,"B",IF(J21<2.95,"R",IF(J21<3.95,"A",IF(J21<=5,"E","nota>5,0"))))) -> B | L21: 0 | M21: 0 | N21: 0 | O21: 0 | P21: 0 | Q21: 0 | R21: =AVERAGE(L21:Q21) -> 0 | S21: =IF(R21="","Falta Nota",IF(R21<1.95,"B",IF(R21<2.95,"R",IF(R21<3.95,"A",IF(R21<=5,"E","nota>5,0"))))) -> B | T21: 0 | U21: 0 | V21: 0 | W21: 0 | X21: 0 | Y21: 0 | Z21: =AVERAGE(T21:Y21) -> 0 | AA21: =IF(Z21="","Falta Nota",IF(Z21<1.95,"B",IF(Z21<2.95,"R",IF(Z21<3.95,"A",IF(Z21<=5,"E","nota>5,0"))))) -> B
A22: 12 | D22: 0 | E22: 0 | F22: 0 | G22: 0 | H22: 0 | I22: 0 | J22: =AVERAGE(D22:I22) -> 0 | K22: =IF(J22="","Falta Nota",IF(J22<1.95,"B",IF(J22<2.95,"R",IF(J22<3.95,"A",IF(J22<=5,"E","nota>5,0"))))) -> B | L22: 0 | M22: 0 | N22: 0 | O22: 0 | P22: 0 | Q22: 0 | R22: =AVERAGE(L22:Q22) -> 0 | S22: =IF(R22="","Falta Nota",IF(R22<1.95,"B",IF(R22<2.95,"R",IF(R22<3.95,"A",IF(R22<=5,"E","nota>5,0"))))) -> B | T22: 0 | U22: 0 | V22: 0 | W22: 0 | X22: 0 | Y22: 0 | Z22: =AVERAGE(T22:Y22) -> 0 | AA22: =IF(Z22="","Falta Nota",IF(Z22<1.95,"B",IF(Z22<2.95,"R",IF(Z22<3.95,"A",IF(Z22<=5,"E","nota>5,0"))))) -> B
A23: 13 | D23: 0 | E23: 0 | F23: 0 | G23: 0 | H23: 0 | I23: 0 | J23: =AVERAGE(D23:I23) -> 0 | K23: =IF(J23="","Falta Nota",IF(J23<1.95,"B",IF(J23<2.95,"R",IF(J23<3.95,"A",IF(J23<=5,"E","nota>5,0"))))) -> B | L23: 0 | M23: 0 | N23: 0 | O23: 0 | P23: 0 | Q23: 0 | R23: =AVERAGE(L23:Q23) -> 0 | S23: =IF(R23="","Falta Nota",IF(R23<1.95,"B",IF(R23<2.95,"R",IF(R23<3.95,"A",IF(R23<=5,"E","nota>5,0"))))) -> B | T23: 0 | U23: 0 | V23: 0 | W23: 0 | X23: 0 | Y23: 0 | Z23: =AVERAGE(T23:Y23) -> 0 | AA23: =IF(Z23="","Falta Nota",IF(Z23<1.95,"B",IF(Z23<2.95,"R",IF(Z23<3.95,"A",IF(Z23<=5,"E","nota>5,0"))))) -> B
A24: 14 | D24: 0 | E24: 0 | F24: 0 | G24: 0 | H24: 0 | I24: 0 | J24: =AVERAGE(D24:I24) -> 0 | K24: =IF(J24="","Falta Nota",IF(J24<1.95,"B",IF(J24<2.95,"R",IF(J24<3.95,"A",IF(J24<=5,"E","nota>5,0"))))) -> B | L24: 0 | M24: 0 | N24: 0 | O24: 0 | P24: 0 | Q24: 0 | R24: =AVERAGE(L24:Q24) -> 0 | S24: =IF(R24="","Falta Nota",IF(R24<1.95,"B",IF(R24<2.95,"R",IF(R24<3.95,"A",IF(R24<=5,"E","nota>5,0"))))) -> B | T24: 0 | U24: 0 | V24: 0 | W24: 0 | X24: 0 | Y24: 0 | Z24: =AVERAGE(T24:Y24) -> 0 | AA24: =IF(Z24="","Falta Nota",IF(Z24<1.95,"B",IF(Z24<2.95,"R",IF(Z24<3.95,"A",IF(Z24<=5,"E","nota>5,0"))))) -> B
A25: 15 | D25: 0 | E25: 0 | F25: 0 | G25: 0 | H25: 0 | I25: 0 | J25: =AVERAGE(D25:I25) -> 0 | K25: =IF(J25="","Falta Nota",IF(J25<1.95,"B",IF(J25<2.95,"R",IF(J25<3.95,"A",IF(J25<=5,"E","nota>5,0"))))) -> B | L25: 0 | M25: 0 | N25: 0 | O25: 0 | P25: 0 | Q25: 0 | R25: =AVERAGE(L25:Q25) -> 0 | S25: =IF(R25="","Falta Nota",IF(R25<1.95,"B",IF(R25<2.95,"R",IF(R25<3.95,"A",IF(R25<=5,"E","nota>5,0"))))) -> B | T25: 0 | U25: 0 | V25: 0 | W25: 0 | X25: 0 | Y25: 0 | Z25: =AVERAGE(T25:Y25) -> 0 | AA25: =IF(Z25="","Falta Nota",IF(Z25<1.95,"B",IF(Z25<2.95,"R",IF(Z25<3.95,"A",IF(Z25<=5,"E","nota>5,0"))))) -> B
A26: 16 | D26: 0 | E26: 0 | F26: 0 | G26: 0 | H26: 0 | I26: 0 | J26: =AVERAGE(D26:I26) -> 0 | K26: =IF(J26="","Falta Nota",IF(J26<1.95,"B",IF(J26<2.95,"R",IF(J26<3.95,"A",IF(J26<=5,"E","nota>5,0"))))) -> B | L26: 0 | M26: 0 | N26: 0 | O26: 0 | P26: 0 | Q26: 0 | R26: =AVERAGE(L26:Q26) -> 0 | S26: =IF(R26="","Falta Nota",IF(R26<1.95,"B",IF(R26<2.95,"R",IF(R26<3.95,"A",IF(R26<=5,"E","nota>5,0"))))) -> B | T26: 0 | U26: 0 | V26: 0 | W26: 0 | X26: 0 | Y26: 0 | Z26: =AVERAGE(T26:Y26) -> 0 | AA26: =IF(Z26="","Falta Nota",IF(Z26<1.95,"B",IF(Z26<2.95,"R",IF(Z26<3.95,"A",IF(Z26<=5,"E","nota>5,0"))))) -> B
A27: 17 | D27: 0 | E27: 0 | F27: 0 | G27: 0 | H27: 0 | I27: 0 | J27: =AVERAGE(D27:I27) -> 0 | K27: =IF(J27="","Falta Nota",IF(J27<1.95,"B",IF(J27<2.95,"R",IF(J27<3.95,"A",IF(J27<=5,"E","nota>5,0"))))) -> B | L27: 0 | M27: 0 | N27: 0 | O27: 0 | P27: 0 | Q27: 0 | R27: =AVERAGE(L27:Q27) -> 0 | S27: =IF(R27="","Falta Nota",IF(R27<1.95,"B",IF(R27<2.95,"R",IF(R27<3.95,"A",IF(R27<=5,"E","nota>5,0"))))) -> B | T27: 0 | U27: 0 | V27: 0 | W27: 0 | X27: 0 | Y27: 0 | Z27: =AVERAGE(T27:Y27) -> 0 | AA27: =IF(Z27="","Falta Nota",IF(Z27<1.95,"B",IF(Z27<2.95,"R",IF(Z27<3.95,"A",IF(Z27<=5,"E","nota>5,0"))))) -> B
A28: 18 | D28: 0 | E28: 0 | F28: 0 | G28: 0 | H28: 0 | I28: 0 | J28: =AVERAGE(D28:I28) -> 0 | K28: =IF(J28="","Falta Nota",IF(J28<1.95,"B",IF(J28<2.95,"R",IF(J28<3.95,"A",IF(J28<=5,"E","nota>5,0"))))) -> B | L28: 0 | M28: 0 | N28: 0 | O28: 0 | P28: 0 | Q28: 0 | R28: =AVERAGE(L28:Q28) -> 0 | S28: =IF(R28="","Falta Nota",IF(R28<1.95,"B",IF(R28<2.95,"R",IF(R28<3.95,"A",IF(R28<=5,"E","nota>5,0"))))) -> B | T28: 0 | U28: 0 | V28: 0 | W28: 0 | X28: 0 | Y28: 0 | Z28: =AVERAGE(T28:Y28) -> 0 | AA28: =IF(Z28="","Falta Nota",IF(Z28<1.95,"B",IF(Z28<2.95,"R",IF(Z28<3.95,"A",IF(Z28<=5,"E","nota>5,0"))))) -> B | AI28: Seleccione la categoría que describe el comportamiento obtenido | AQ28: Seleccione la categoría que describe el comportamiento obtenido | AY28: Seleccione la categoría que describe el comportamiento obtenido
A29: 19 | D29: 0 | E29: 0 | F29: 0 | G29: 0 | H29: 0 | I29: 0 | J29: =AVERAGE(D29:I29) -> 0 | K29: =IF(J29="","Falta Nota",IF(J29<1.95,"B",IF(J29<2.95,"R",IF(J29<3.95,"A",IF(J29<=5,"E","nota>5,0"))))) -> B | L29: 0 | M29: 0 | N29: 0 | O29: 0 | P29: 0 | Q29: 0 | R29: =AVERAGE(L29:Q29) -> 0 | S29: =IF(R29="","Falta Nota",IF(R29<1.95,"B",IF(R29<2.95,"R",IF(R29<3.95,"A",IF(R29<=5,"E","nota>5,0"))))) -> B | T29: 0 | U29: 0 | V29: 0 | W29: 0 | X29: 0 | Y29: 0 | Z29: =AVERAGE(T29:Y29) -> 0 | AA29: =IF(Z29="","Falta Nota",IF(Z29<1.95,"B",IF(Z29<2.95,"R",IF(Z29<3.95,"A",IF(Z29<=5,"E","nota>5,0"))))) -> B | AD29: Mi2 RAE1 | AI29: Categorización | AL29: Mi2 RAE2 | AQ29: Categorización | AT29: Mi2 RAE2 | AY29: Categorización
A30: 20 | D30: 0 | E30: 0 | F30: 0 | G30: 0 | H30: 0 | I30: 0 | J30: =AVERAGE(D30:I30) -> 0 | K30: =IF(J30="","Falta Nota",IF(J30<1.95,"B",IF(J30<2.95,"R",IF(J30<3.95,"A",IF(J30<=5,"E","nota>5,0"))))) -> B | L30: 0 | M30: 0 | N30: 0 | O30: 0 | P30: 0 | Q30: 0 | R30: =AVERAGE(L30:Q30) -> 0 | S30: =IF(R30="","Falta Nota",IF(R30<1.95,"B",IF(R30<2.95,"R",IF(R30<3.95,"A",IF(R30<=5,"E","nota>5,0"))))) -> B | T30: 0 | U30: 0 | V30: 0 | W30: 0 | X30: 0 | Y30: 0 | Z30: =AVERAGE(T30:Y30) -> 0 | AA30: =IF(Z30="","Falta Nota",IF(Z30<1.95,"B",IF(Z30<2.95,"R",IF(Z30<3.95,"A",IF(Z30<=5,"E","nota>5,0"))))) -> B | AD30: B | AE30: R | AF30: A | AG30: E | AI30: C1a : Distribución favorable: Excelencia predominante | AL30: B | AM30: R | AN30: A | AO30: E | AQ30: C1a : Distribución favorable: Excelencia predominante | AT30: B | AU30: R | AV30: A | AW30: E | AY30: C1a : Distribución favorable: Excelencia predominante
A31: 21 | D31: 0 | E31: 0 | F31: 0 | G31: 0 | H31: 0 | I31: 0 | J31: =AVERAGE(D31:I31) -> 0 | K31: =IF(J31="","Falta Nota",IF(J31<1.95,"B",IF(J31<2.95,"R",IF(J31<3.95,"A",IF(J31<=5,"E","nota>5,0"))))) -> B | L31: 0 | M31: 0 | N31: 0 | O31: 0 | P31: 0 | Q31: 0 | R31: =AVERAGE(L31:Q31) -> 0 | S31: =IF(R31="","Falta Nota",IF(R31<1.95,"B",IF(R31<2.95,"R",IF(R31<3.95,"A",IF(R31<=5,"E","nota>5,0"))))) -> B | T31: 0 | U31: 0 | V31: 0 | W31: 0 | X31: 0 | Y31: 0 | Z31: =AVERAGE(T31:Y31) -> 0 | AA31: =IF(Z31="","Falta Nota",IF(Z31<1.95,"B",IF(Z31<2.95,"R",IF(Z31<3.95,"A",IF(Z31<=5,"E","nota>5,0"))))) -> B | AD31: =COUNTIF($D42:$I42,AD30) -> 6 | AE31: =COUNTIF($D42:$I42,AE30) -> 0 | AF31: =COUNTIF($D42:$I42,AF30) -> 0 | AG31: =COUNTIF($D42:$I42,AG30) -> 0 | AL31: =COUNTIF($L42:$Q42,AL30) -> 6 | AM31: =COUNTIF($L42:$Q42,AN30) -> 0 | AN31: =COUNTIF($L42:$Q42,AN30) -> 0 | AO31: =COUNTIF($L42:$Q42,AO30) -> 0 | AT31: =COUNTIF($L42:$Q42,AT30) -> 6 | AU31: =COUNTIF($L42:$Q42,AU30) -> 0 | AV31: =COUNTIF($L42:$Q42,AV30) -> 0 | AW31: =COUNTIF($L42:$Q42,AW30) -> 0
A32: 22 | D32: 0 | E32: 0 | F32: 0 | G32: 0 | H32: 0 | I32: 0 | J32: =AVERAGE(D32:I32) -> 0 | K32: =IF(J32="","Falta Nota",IF(J32<1.95,"B",IF(J32<2.95,"R",IF(J32<3.95,"A",IF(J32<=5,"E","nota>5,0"))))) -> B | L32: 0 | M32: 0 | N32: 0 | O32: 0 | P32: 0 | Q32: 0 | R32: =AVERAGE(L32:Q32) -> 0 | S32: =IF(R32="","Falta Nota",IF(R32<1.95,"B",IF(R32<2.95,"R",IF(R32<3.95,"A",IF(R32<=5,"E","nota>5,0"))))) -> B | T32: 0 | U32: 0 | V32: 0 | W32: 0 | X32: 0 | Y32: 0 | Z32: =AVERAGE(T32:Y32) -> 0 | AA32: =IF(Z32="","Falta Nota",IF(Z32<1.95,"B",IF(Z32<2.95,"R",IF(Z32<3.95,"A",IF(Z32<=5,"E","nota>5,0"))))) -> B
A33: 23 | D33: 0 | E33: 0 | F33: 0 | G33: 0 | H33: 0 | I33: 0 | J33: =AVERAGE(D33:I33) -> 0 | K33: =IF(J33="","Falta Nota",IF(J33<1.95,"B",IF(J33<2.95,"R",IF(J33<3.95,"A",IF(J33<=5,"E","nota>5,0"))))) -> B | L33: 0 | M33: 0 | N33: 0 | O33: 0 | P33: 0 | Q33: 0 | R33: =AVERAGE(L33:Q33) -> 0 | S33: =IF(R33="","Falta Nota",IF(R33<1.95,"B",IF(R33<2.95,"R",IF(R33<3.95,"A",IF(R33<=5,"E","nota>5,0"))))) -> B | T33: 0 | U33: 0 | V33: 0 | W33: 0 | X33: 0 | Y33: 0 | Z33: =AVERAGE(T33:Y33) -> 0 | AA33: =IF(Z33="","Falta Nota",IF(Z33<1.95,"B",IF(Z33<2.95,"R",IF(Z33<3.95,"A",IF(Z33<=5,"E","nota>5,0"))))) -> B
A34: 24 | D34: 0 | E34: 0 | F34: 0 | G34: 0 | H34: 0 | I34: 0 | J34: =AVERAGE(D34:I34) -> 0 | K34: =IF(J34="","Falta Nota",IF(J34<1.95,"B",IF(J34<2.95,"R",IF(J34<3.95,"A",IF(J34<=5,"E","nota>5,0"))))) -> B | L34: 0 | M34: 0 | N34: 0 | O34: 0 | P34: 0 | Q34: 0 | R34: =AVERAGE(L34:Q34) -> 0 | S34: =IF(R34="","Falta Nota",IF(R34<1.95,"B",IF(R34<2.95,"R",IF(R34<3.95,"A",IF(R34<=5,"E","nota>5,0"))))) -> B | T34: 0 | U34: 0 | V34: 0 | W34: 0 | X34: 0 | Y34: 0 | Z34: =AVERAGE(T34:Y34) -> 0 | AA34: =IF(Z34="","Falta Nota",IF(Z34<1.95,"B",IF(Z34<2.95,"R",IF(Z34<3.95,"A",IF(Z34<=5,"E","nota>5,0"))))) -> B
A35: 25 | D35: 0 | E35: 0 | F35: 0 | G35: 0 | H35: 0 | I35: 0 | J35: =AVERAGE(D35:I35) -> 0 | K35: =IF(J35="","Falta Nota",IF(J35<1.95,"B",IF(J35<2.95,"R",IF(J35<3.95,"A",IF(J35<=5,"E","nota>5,0"))))) -> B | L35: 0 | M35: 0 | N35: 0 | O35: 0 | P35: 0 | Q35: 0 | R35: =AVERAGE(L35:Q35) -> 0 | S35: =IF(R35="","Falta Nota",IF(R35<1.95,"B",IF(R35<2.95,"R",IF(R35<3.95,"A",IF(R35<=5,"E","nota>5,0"))))) -> B | T35: 0 | U35: 0 | V35: 0 | W35: 0 | X35: 0 | Y35: 0 | Z35: =AVERAGE(T35:Y35) -> 0 | AA35: =IF(Z35="","Falta Nota",IF(Z35<1.95,"B",IF(Z35<2.95,"R",IF(Z35<3.95,"A",IF(Z35<=5,"E","nota>5,0"))))) -> B
A36: 26 | D36: 0 | E36: 0 | F36: 0 | G36: 0 | H36: 0 | I36: 0 | J36: =AVERAGE(D36:I36) -> 0 | K36: =IF(J36="","Falta Nota",IF(J36<1.95,"B",IF(J36<2.95,"R",IF(J36<3.95,"A",IF(J36<=5,"E","nota>5,0"))))) -> B | L36: 0 | M36: 0 | N36: 0 | O36: 0 | P36: 0 | Q36: 0 | R36: =AVERAGE(L36:Q36) -> 0 | S36: =IF(R36="","Falta Nota",IF(R36<1.95,"B",IF(R36<2.95,"R",IF(R36<3.95,"A",IF(R36<=5,"E","nota>5,0"))))) -> B | T36: 0 | U36: 0 | V36: 0 | W36: 0 | X36: 0 | Y36: 0 | Z36: =AVERAGE(T36:Y36) -> 0 | AA36: =IF(Z36="","Falta Nota",IF(Z36<1.95,"B",IF(Z36<2.95,"R",IF(Z36<3.95,"A",IF(Z36<=5,"E","nota>5,0"))))) -> B
A37: 27 | D37: 0 | E37: 0 | F37: 0 | G37: 0 | H37: 0 | I37: 0 | J37: =AVERAGE(D37:I37) -> 0 | K37: =IF(J37="","Falta Nota",IF(J37<1.95,"B",IF(J37<2.95,"R",IF(J37<3.95,"A",IF(J37<=5,"E","nota>5,0"))))) -> B | L37: 0 | M37: 0 | N37: 0 | O37: 0 | P37: 0 | Q37: 0 | R37: =AVERAGE(L37:Q37) -> 0 | S37: =IF(R37="","Falta Nota",IF(R37<1.95,"B",IF(R37<2.95,"R",IF(R37<3.95,"A",IF(R37<=5,"E","nota>5,0"))))) -> B | T37: 0 | U37: 0 | V37: 0 | W37: 0 | X37: 0 | Y37: 0 | Z37: =AVERAGE(T37:Y37) -> 0 | AA37: =IF(Z37="","Falta Nota",IF(Z37<1.95,"B",IF(Z37<2.95,"R",IF(Z37<3.95,"A",IF(Z37<=5,"E","nota>5,0"))))) -> B
A38: 28 | D38: 0 | E38: 0 | F38: 0 | G38: 0 | H38: 0 | I38: 0 | J38: =AVERAGE(D38:I38) -> 0 | K38: =IF(J38="","Falta Nota",IF(J38<1.95,"B",IF(J38<2.95,"R",IF(J38<3.95,"A",IF(J38<=5,"E","nota>5,0"))))) -> B | L38: 0 | M38: 0 | N38: 0 | O38: 0 | P38: 0 | Q38: 0 | R38: =AVERAGE(L38:Q38) -> 0 | S38: =IF(R38="","Falta Nota",IF(R38<1.95,"B",IF(R38<2.95,"R",IF(R38<3.95,"A",IF(R38<=5,"E","nota>5,0"))))) -> B | T38: 0 | U38: 0 | V38: 0 | W38: 0 | X38: 0 | Y38: 0 | Z38: =AVERAGE(T38:Y38) -> 0 | AA38: =IF(Z38="","Falta Nota",IF(Z38<1.95,"B",IF(Z38<2.95,"R",IF(Z38<3.95,"A",IF(Z38<=5,"E","nota>5,0"))))) -> B
A39: 29 | D39: 0 | E39: 0 | F39: 0 | G39: 0 | H39: 0 | I39: 0 | J39: =AVERAGE(D39:I39) -> 0 | K39: =IF(J39="","Falta Nota",IF(J39<1.95,"B",IF(J39<2.95,"R",IF(J39<3.95,"A",IF(J39<=5,"E","nota>5,0"))))) -> B | L39: 0 | M39: 0 | N39: 0 | O39: 0 | P39: 0 | Q39: 0 | R39: =AVERAGE(L39:Q39) -> 0 | S39: =IF(R39="","Falta Nota",IF(R39<1.95,"B",IF(R39<2.95,"R",IF(R39<3.95,"A",IF(R39<=5,"E","nota>5,0"))))) -> B | T39: 0 | U39: 0 | V39: 0 | W39: 0 | X39: 0 | Y39: 0 | Z39: =AVERAGE(T39:Y39) -> 0 | AA39: =IF(Z39="","Falta Nota",IF(Z39<1.95,"B",IF(Z39<2.95,"R",IF(Z39<3.95,"A",IF(Z39<=5,"E","nota>5,0"))))) -> B
A40: 30 | D40: 0 | E40: 0 | F40: 0 | G40: 0 | H40: 0 | I40: 0 | J40: =AVERAGE(D40:I40) -> 0 | K40: =IF(J40="","Falta Nota",IF(J40<1.95,"B",IF(J40<2.95,"R",IF(J40<3.95,"A",IF(J40<=5,"E","nota>5,0"))))) -> B | L40: 0 | M40: 0 | N40: 0 | O40: 0 | P40: 0 | Q40: 0 | R40: =AVERAGE(L40:Q40) -> 0 | S40: =IF(R40="","Falta Nota",IF(R40<1.95,"B",IF(R40<2.95,"R",IF(R40<3.95,"A",IF(R40<=5,"E","nota>5,0"))))) -> B | T40: 0 | U40: 0 | V40: 0 | W40: 0 | X40: 0 | Y40: 0 | Z40: =AVERAGE(T40:Y40) -> 0 | AA40: =IF(Z40="","Falta Nota",IF(Z40<1.95,"B",IF(Z40<2.95,"R",IF(Z40<3.95,"A",IF(Z40<=5,"E","nota>5,0"))))) -> B
B41: Mi2 | D41: =AVERAGE(D11:D40) -> 0 | E41: =AVERAGE(E11:E40) -> 0 | F41: =AVERAGE(F11:F40) -> 0 | G41: =AVERAGE(G11:G40) -> 0 | H41: =AVERAGE(H11:H40) -> 0 | I41: =AVERAGE(I11:I40) -> 0 | L41: =AVERAGE(L11:L40) -> 0 | M41: =AVERAGE(M11:M40) -> 0 | N41: =AVERAGE(N11:N40) -> 0 | O41: =AVERAGE(O11:O40) -> 0 | P41: =AVERAGE(P11:P40) -> 0 | Q41: =AVERAGE(Q11:Q40) -> 0 | T41: =AVERAGE(T11:T40) -> 0 | U41: =AVERAGE(U11:U40) -> 0 | V41: =AVERAGE(V11:V40) -> 0 | W41: =AVERAGE(W11:W40) -> 0 | X41: =AVERAGE(X11:X40) -> 0 | Y41: =AVERAGE(Y11:Y40) -> 0
B42: Nivel M2 | D42: =IF(D41="","Falta Nota",IF(D41<1.95,"B",IF(D41<2.95,"R",IF(D41<3.95,"A",IF(D41<=5,"E","nota>5,0"))))) -> B | E42: =IF(E41="","Falta Nota",IF(E41<1.95,"B",IF(E41<2.95,"R",IF(E41<3.95,"A",IF(E41<=5,"E","nota>5,0"))))) -> B | F42: =IF(F41="","Falta Nota",IF(F41<1.95,"B",IF(F41<2.95,"R",IF(F41<3.95,"A",IF(F41<=5,"E","nota>5,0"))))) -> B | G42: =IF(G41="","Falta Nota",IF(G41<1.95,"B",IF(G41<2.95,"R",IF(G41<3.95,"A",IF(G41<=5,"E","nota>5,0"))))) -> B | H42: =IF(H41="","Falta Nota",IF(H41<1.95,"B",IF(H41<2.95,"R",IF(H41<3.95,"A",IF(H41<=5,"E","nota>5,0"))))) -> B | I42: =IF(I41="","Falta Nota",IF(I41<1.95,"B",IF(I41<2.95,"R",IF(I41<3.95,"A",IF(I41<=5,"E","nota>5,0"))))) -> B | L42: =IF(L41="","Falta Nota",IF(L41<1.95,"B",IF(L41<2.95,"R",IF(L41<3.95,"A",IF(L41<=5,"E","nota>5,0"))))) -> B | M42: =IF(M41="","Falta Nota",IF(M41<1.95,"B",IF(M41<2.95,"R",IF(M41<3.95,"A",IF(M41<=5,"E","nota>5,0"))))) -> B | N42: =IF(N41="","Falta Nota",IF(N41<1.95,"B",IF(N41<2.95,"R",IF(N41<3.95,"A",IF(N41<=5,"E","nota>5,0"))))) -> B | O42: =IF(O41="","Falta Nota",IF(O41<1.95,"B",IF(O41<2.95,"R",IF(O41<3.95,"A",IF(O41<=5,"E","nota>5,0"))))) -> B | P42: =IF(P41="","Falta Nota",IF(P41<1.95,"B",IF(P41<2.95,"R",IF(P41<3.95,"A",IF(P41<=5,"E","nota>5,0"))))) -> B | Q42: =IF(Q41="","Falta Nota",IF(Q41<1.95,"B",IF(Q41<2.95,"R",IF(Q41<3.95,"A",IF(Q41<=5,"E","nota>5,0"))))) -> B | T42: =IF(T41="","Falta Nota",IF(T41<1.95,"B",IF(T41<2.95,"R",IF(T41<3.95,"A",IF(T41<=5,"E","nota>5,0"))))) -> B | U42: =IF(U41="","Falta Nota",IF(U41<1.95,"B",IF(U41<2.95,"R",IF(U41<3.95,"A",IF(U41<=5,"E","nota>5,0"))))) -> B | V42: =IF(V41="","Falta Nota",IF(V41<1.95,"B",IF(V41<2.95,"R",IF(V41<3.95,"A",IF(V41<=5,"E","nota>5,0"))))) -> B | W42: =IF(W41="","Falta Nota",IF(W41<1.95,"B",IF(W41<2.95,"R",IF(W41<3.95,"A",IF(W41<=5,"E","nota>5,0"))))) -> B | X42: =IF(X41="","Falta Nota",IF(X41<1.95,"B",IF(X41<2.95,"R",IF(X41<3.95,"A",IF(X41<=5,"E","nota>5,0"))))) -> B | Y42: =IF(Y41="","Falta Nota",IF(Y41<1.95,"B",IF(Y41<2.95,"R",IF(Y41<3.95,"A",IF(Y41<=5,"E","nota>5,0"))))) -> B

Sheet Asignatura 8 G8
B2: SISTEMA DE ASEGURAMIENTO DE RESULTADOS DE APRENDIZAJE - SARA INDICADORES RESULTADO DE APRENDIZAJE DE ASIGNATURA
AC4: ANÁLISIS DE INDICADORES Mi1 Y Mi2
B6: Profesor: | C6: ='Asignatura 1 G1'!B7 -> Nombre completo del profesor | H6: Cedula: | I6: ='Asignatura 1 G1'!H7 -> No. de identificación | L6: Asignatura: | M6: Nombre de la asignatura (Q10) | R6: Grupo: | S6: No. de grupo (Q10) | Y6: Periodo: | Z6: ='Asignatura 1 G1'!Y7 -> 202X-A/B | AI6: Guía de selección de categorías
AI7: Seleccione la categoría que describe el comportamiento obtenido | AQ7: Seleccione la categoría que describe el comportamiento obtenido | AY7: Seleccione la categoría que describe el comportamiento obtenido | BA7: Categorización
B8: Estudiante | C8: Programa | D8: RAE1 | L8: RAE2 | T8: RAE 3 | AD8: Mi1 RAE1 | AI8: Categorización | AL8: Mi 1 RAE2 | AQ8: Categorización | AT8: Mi1 RAE3 | AY8: Categorización | BA8: C1a : Distribución favorable: Excelencia predominante
D9: AF 1 | G9: AF2 | I9: AF3 | J9: Mi1 | K9: Nivel Mi1 | L9: AF4 | O9: AF5 | Q9: AF6 | R9: Mi1 | S9: Nivel Mi1 | T9: AF6 | W9: AF7 | Y9: AF8 | Z9: Mi1 | AA9: Nivel Mi1 | AD9: B | AE9: R | AF9: A | AG9: E | AI9: C1a : Distribución favorable: Excelencia predominante | AL9: B | AM9: R | AN9: A | AO9: E | AQ9: C1a : Distribución favorable: Excelencia predominante | AT9: B | AU9: R | AV9: A | AW9: E | AY9: C1a : Distribución favorable: Excelencia predominante | BA9: C1b : Distribución favorable: Logro aceptable predominante
D10: AE1 | E10: AE2 | F10: AE3 | G10: AE4 | H10: AE5 | I10: AE6 | L10: AE7 | M10: AE8 | N10: AE9 | O10: AE10 | P10: AE11 | Q10: AE12 | T10: AE13 | U10: AE14 | V10: AE15 | W10: AE16 | X10: AE17 | Y10: AE18 | AD10: =COUNTIF($K:$K,AD9) -> 30 | AE10: =COUNTIF($K:$K,AE9) -> 0 | AF10: =COUNTIF($K:$K,AF9) -> 0 | AG10: =COUNTIF($K:$K,AG9) -> 0 | AL10: =COUNTIF($S:$S,AL9) -> 30 | AM10: =COUNTIF($S:$S,AM9) -> 0 | AN10: =COUNTIF($S:$S,AN9) -> 0 | AO10: =COUNTIF($S:$S,AO9) -> 0 | AT10: =COUNTIF($AA:$AA,AT9) -> 30 | AU10: =COUNTIF($AA:$AA,AU9) -> 0 | AV10: =COUNTIF($AA:$AA,AV9) -> 0 | AW10: =COUNTIF($AA:$AA,AW9) -> 0 | BA10: C1c : Distribución favorable: Tendencia ascendente al logro B-E
A11: 1 | D11: 0 | E11: 0 | F11: 0 | G11: 0 | H11: 0 | I11: 0 | J11: =AVERAGE(D11:I11) -> 0 | K11: =IF(J11="","Falta Nota",IF(J11<1.95,"B",IF(J11<2.95,"R",IF(J11<3.95,"A",IF(J11<=5,"E","nota>5,0"))))) -> B | L11: 0 | M11: 0 | N11: 0 | O11: 0 | P11: 0 | Q11: 0 | R11: =AVERAGE(L11:Q11) -> 0 | S11: =IF(R11="","Falta Nota",IF(R11<1.95,"B",IF(R11<2.95,"R",IF(R11<3.95,"A",IF(R11<=5,"E","nota>5,0"))))) -> B | T11: 0 | U11: 0 | V11: 0 | W11: 0 | X11: 0 | Y11: 0 | Z11: =AVERAGE(T11:Y11) -> 0 | AA11: =IF(Z11="","Falta Nota",IF(Z11<1.95,"B",IF(Z11<2.95,"R",IF(Z11<3.95,"A",IF(Z11<=5,"E","nota>5,0"))))) -> B | BA11: C2a: Distribución por fortalecer: Alerta crítica predominante B
A12: 2 | D12: 0 | E12: 0 | F12: 0 | G12: 0 | H12: 0 | I12: 0 | J12: =AVERAGE(D12:I12) -> 0 | K12: =IF(J12="","Falta Nota",IF(J12<1.95,"B",IF(J12<2.95,"R",IF(J12<3.95,"A",IF(J12<=5,"E","nota>5,0"))))) -> B | L12: 0 | M12: 0 | N12: 0 | O12: 0 | P12: 0 | Q12: 0 | R12: =AVERAGE(L12:Q12) -> 0 | S12: =IF(R12="","Falta Nota",IF(R12<1.95,"B",IF(R12<2.95,"R",IF(R12<3.95,"A",IF(R12<=5,"E","nota>5,0"))))) -> B | T12: 0 | U12: 0 | V12: 0 | W12: 0 | X12: 0 | Y12: 0 | Z12: =AVERAGE(T12:Y12) -> 0 | AA12: =IF(Z12="","Falta Nota",IF(Z12<1.95,"B",IF(Z12<2.95,"R",IF(Z12<3.95,"A",IF(Z12<=5,"E","nota>5,0"))))) -> B | BA12: C2b: Distribución por fortalecer: Alerta moderada predominante R
A13: 3 | D13: 0 | E13: 0 | F13: 0 | G13: 0 | H13: 0 | I13: 0 | J13: =AVERAGE(D13:I13) -> 0 | K13: =IF(J13="","Falta Nota",IF(J13<1.95,"B",IF(J13<2.95,"R",IF(J13<3.95,"A",IF(J13<=5,"E","nota>5,0"))))) -> B | L13: 0 | M13: 0 | N13: 0 | O13: 0 | P13: 0 | Q13: 0 | R13: =AVERAGE(L13:Q13) -> 0 | S13: =IF(R13="","Falta Nota",IF(R13<1.95,"B",IF(R13<2.95,"R",IF(R13<3.95,"A",IF(R13<=5,"E","nota>5,0"))))) -> B | T13: 0 | U13: 0 | V13: 0 | W13: 0 | X13: 0 | Y13: 0 | Z13: =AVERAGE(T13:Y13) -> 0 | AA13: =IF(Z13="","Falta Nota",IF(Z13<1.95,"B",IF(Z13<2.95,"R",IF(Z13<3.95,"A",IF(Z13<=5,"E","nota>5,0"))))) -> B | BA13: C2c: Distribución por fortalecer: Tendencia descendente E-B
A14: 4 | D14: 0 | E14: 0 | F14: 0 | G14: 0 | H14: 0 | I14: 0 | J14: =AVERAGE(D14:I14) -> 0 | K14: =IF(J14="","Falta Nota",IF(J14<1.95,"B",IF(J14<2.95,"R",IF(J14<3.95,"A",IF(J14<=5,"E","nota>5,0"))))) -> B | L14: 0 | M14: 0 | N14: 0 | O14: 0 | P14: 0 | Q14: 0 | R14: =AVERAGE(L14:Q14) -> 0 | S14: =IF(R14="","Falta Nota",IF(R14<1.95,"B",IF(R14<2.95,"R",IF(R14<3.95,"A",IF(R14<=5,"E","nota>5,0"))))) -> B | T14: 0 | U14: 0 | V14: 0 | W14: 0 | X14: 0 | Y14: 0 | Z14: =AVERAGE(T14:Y14) -> 0 | AA14: =IF(Z14="","Falta Nota",IF(Z14<1.95,"B",IF(Z14<2.95,"R",IF(Z14<3.95,"A",IF(Z14<=5,"E","nota>5,0"))))) -> B | BA14: C3a: Distribución neutral: Distribución dispersa (heterogénea)
A15: 5 | D15: 0 | E15: 0 | F15: 0 | G15: 0 | H15: 0 | I15: 0 | J15: =AVERAGE(D15:I15) -> 0 | K15: =IF(J15="","Falta Nota",IF(J15<1.95,"B",IF(J15<2.95,"R",IF(J15<3.95,"A",IF(J15<=5,"E","nota>5,0"))))) -> B | L15: 0 | M15: 0 | N15: 0 | O15: 0 | P15: 0 | Q15: 0 | R15: =AVERAGE(L15:Q15) -> 0 | S15: =IF(R15="","Falta Nota",IF(R15<1.95,"B",IF(R15<2.95,"R",IF(R15<3.95,"A",IF(R15<=5,"E","nota>5,0"))))) -> B | T15: 0 | U15: 0 | V15: 0 | W15: 0 | X15: 0 | Y15: 0 | Z15: =AVERAGE(T15:Y15) -> 0 | AA15: =IF(Z15="","Falta Nota",IF(Z15<1.95,"B",IF(Z15<2.95,"R",IF(Z15<3.95,"A",IF(Z15<=5,"E","nota>5,0"))))) -> B | BA15: C3b: Distribución neutral: Umbral de logro (R/A predominante)
A16: 6 | D16: 0 | E16: 0 | F16: 0 | G16: 0 | H16: 0 | I16: 0 | J16: =AVERAGE(D16:I16) -> 0 | K16: =IF(J16="","Falta Nota",IF(J16<1.95,"B",IF(J16<2.95,"R",IF(J16<3.95,"A",IF(J16<=5,"E","nota>5,0"))))) -> B | L16: 0 | M16: 0 | N16: 0 | O16: 0 | P16: 0 | Q16: 0 | R16: =AVERAGE(L16:Q16) -> 0 | S16: =IF(R16="","Falta Nota",IF(R16<1.95,"B",IF(R16<2.95,"R",IF(R16<3.95,"A",IF(R16<=5,"E","nota>5,0"))))) -> B | T16: 0 | U16: 0 | V16: 0 | W16: 0 | X16: 0 | Y16: 0 | Z16: =AVERAGE(T16:Y16) -> 0 | AA16: =IF(Z16="","Falta Nota",IF(Z16<1.95,"B",IF(Z16<2.95,"R",IF(Z16<3.95,"A",IF(Z16<=5,"E","nota>5,0"))))) -> B | BA16: C3c: Distribución neutral: Logro con regazo significativo
A17: 7 | D17: 0 | E17: 0 | F17: 0 | G17: 0 | H17: 0 | I17: 0 | J17: =AVERAGE(D17:I17) -> 0 | K17: =IF(J17="","Falta Nota",IF(J17<1.95,"B",IF(J17<2.95,"R",IF(J17<3.95,"A",IF(J17<=5,"E","nota>5,0"))))) -> B | L17: 0 | M17: 0 | N17: 0 | O17: 0 | P17: 0 | Q17: 0 | R17: =AVERAGE(L17:Q17) -> 0 | S17: =IF(R17="","Falta Nota",IF(R17<1.95,"B",IF(R17<2.95,"R",IF(R17<3.95,"A",IF(R17<=5,"E","nota>5,0"))))) -> B | T17: 0 | U17: 0 | V17: 0 | W17: 0 | X17: 0 | Y17: 0 | Z17: =AVERAGE(T17:Y17) -> 0 | AA17: =IF(Z17="","Falta Nota",IF(Z17<1.95,"B",IF(Z17<2.95,"R",IF(Z17<3.95,"A",IF(Z17<=5,"E","nota>5,0"))))) -> B | BA17: C4a: Distribución polarizada: Polarización extrema (BE)
A18: 8 | D18: 0 | E18: 0 | F18: 0 | G18: 0 | H18: 0 | I18: 0 | J18: =AVERAGE(D18:I18) -> 0 | K18: =IF(J18="","Falta Nota",IF(J18<1.95,"B",IF(J18<2.95,"R",IF(J18<3.95,"A",IF(J18<=5,"E","nota>5,0"))))) -> B | L18: 0 | M18: 0 | N18: 0 | O18: 0 | P18: 0 | Q18: 0 | R18: =AVERAGE(L18:Q18) -> 0 | S18: =IF(R18="","Falta Nota",IF(R18<1.95,"B",IF(R18<2.95,"R",IF(R18<3.95,"A",IF(R18<=5,"E","nota>5,0"))))) -> B | T18: 0 | U18: 0 | V18: 0 | W18: 0 | X18: 0 | Y18: 0 | Z18: =AVERAGE(T18:Y18) -> 0 | AA18: =IF(Z18="","Falta Nota",IF(Z18<1.95,"B",IF(Z18<2.95,"R",IF(Z18<3.95,"A",IF(Z18<=5,"E","nota>5,0"))))) -> B | BA18: C4b: Distribución polarizada: Polarización media (RE)
A19: 9 | D19: 0 | E19: 0 | F19: 0 | G19: 0 | H19: 0 | I19: 0 | J19: =AVERAGE(D19:I19) -> 0 | K19: =IF(J19="","Falta Nota",IF(J19<1.95,"B",IF(J19<2.95,"R",IF(J19<3.95,"A",IF(J19<=5,"E","nota>5,0"))))) -> B | L19: 0 | M19: 0 | N19: 0 | O19: 0 | P19: 0 | Q19: 0 | R19: =AVERAGE(L19:Q19) -> 0 | S19: =IF(R19="","Falta Nota",IF(R19<1.95,"B",IF(R19<2.95,"R",IF(R19<3.95,"A",IF(R19<=5,"E","nota>5,0"))))) -> B | T19: 0 | U19: 0 | V19: 0 | W19: 0 | X19: 0 | Y19: 0 | Z19: =AVERAGE(T19:Y19) -> 0 | AA19: =IF(Z19="","Falta Nota",IF(Z19<1.95,"B",IF(Z19<2.95,"R",IF(Z19<3.95,"A",IF(Z19<=5,"E","nota>5,0"))))) -> B | BA19: C4c: Distribución polarizada: Polarización media (BR)
A20: 10 | D20: 0 | E20: 0 | F20: 0 | G20: 0 | H20: 0 | I20: 0 | J20: =AVERAGE(D20:I20) -> 0 | K20: =IF(J20="","Falta Nota",IF(J20<1.95,"B",IF(J20<2.95,"R",IF(J20<3.95,"A",IF(J20<=5,"E","nota>5,0"))))) -> B | L20: 0 | M20: 0 | N20: 0 | O20: 0 | P20: 0 | Q20: 0 | R20: =AVERAGE(L20:Q20) -> 0 | S20: =IF(R20="","Falta Nota",IF(R20<1.95,"B",IF(R20<2.95,"R",IF(R20<3.95,"A",IF(R20<=5,"E","nota>5,0"))))) -> B | T20: 0 | U20: 0 | V20: 0 | W20: 0 | X20: 0 | Y20: 0 | Z20: =AVERAGE(T20:Y20) -> 0 | AA20: =IF(Z20="","Falta Nota",IF(Z20<1.95,"B",IF(Z20<2.95,"R",IF(Z20<3.95,"A",IF(Z20<=5,"E","nota>5,0"))))) -> B
A21: 11 | D21: 0 | E21: 0 | F21: 0 | G21: 0 | H21: 0 | I21: 0 | J21: =AVERAGE(D21:I21) -> 0 | K21: =IF(J21="","Falta Nota",IF(J21<1.95,"B",IF(J21<2.95,"R",IF(J21<3.95,"A",IF(J21<=5,"E","nota>5,0"))))) -> B | L21: 0 | M21: 0 | N21: 0 | O21: 0 | P21: 0 | Q21: 0 | R21: =AVERAGE(L21:Q21) -> 0 | S21: =IF(R21="","Falta Nota",IF(R21<1.95,"B",IF(R21<2.95,"R",IF(R21<3.95,"A",IF(R21<=5,"E","nota>5,0"))))) -> B | T21: 0 | U21: 0 | V21: 0 | W21: 0 | X21: 0 | Y21: 0 | Z21: =AVERAGE(T21:Y21) -> 0 | AA21: =IF(Z21="","Falta Nota",IF(Z21<1.95,"B",IF(Z21<2.95,"R",IF(Z21<3.95,"A",IF(Z21<=5,"E","nota>5,0"))))) -> B
A22: 12 | D22: 0 | E22: 0 | F22: 0 | G22: 0 | H22: 0 | I22: 0 | J22: =AVERAGE(D22:I22) -> 0 | K22: =IF(J22="","Falta Nota",IF(J22<1.95,"B",IF(J22<2.95,"R",IF(J22<3.95,"A",IF(J22<=5,"E","nota>5,0"))))) -> B | L22: 0 | M22: 0 | N22: 0 | O22: 0 | P22: 0 | Q22: 0 | R22: =AVERAGE(L22:Q22) -> 0 | S22: =IF(R22="","Falta Nota",IF(R22<1.95,"B",IF(R22<2.95,"R",IF(R22<3.95,"A",IF(R22<=5,"E","nota>5,0"))))) -> B | T22: 0 | U22: 0 | V22: 0 | W22: 0 | X22: 0 | Y22: 0 | Z22: =AVERAGE(T22:Y22) -> 0 | AA22: =IF(Z22="","Falta Nota",IF(Z22<1.95,"B",IF(Z22<2.95,"R",IF(Z22<3.95,"A",IF(Z22<=5,"E","nota>5,0"))))) -> B
A23: 13 | D23: 0 | E23: 0 | F23: 0 | G23: 0 | H23: 0 | I23: 0 | J23: =AVERAGE(D23:I23) -> 0 | K23: =IF(J23="","Falta Nota",IF(J23<1.95,"B",IF(J23<2.95,"R",IF(J23<3.95,"A",IF(J23<=5,"E","nota>5,0"))))) -> B | L23: 0 | M23: 0 | N23: 0 | O23: 0 | P23: 0 | Q23: 0 | R23: =AVERAGE(L23:Q23) -> 0 | S23: =IF(R23="","Falta Nota",IF(R23<1.95,"B",IF(R23<2.95,"R",IF(R23<3.95,"A",IF(R23<=5,"E","nota>5,0"))))) -> B | T23: 0 | U23: 0 | V23: 0 | W23: 0 | X23: 0 | Y23: 0 | Z23: =AVERAGE(T23:Y23) -> 0 | AA23: =IF(Z23="","Falta Nota",IF(Z23<1.95,"B",IF(Z23<2.95,"R",IF(Z23<3.95,"A",IF(Z23<=5,"E","nota>5,0"))))) -> B
A24: 14 | D24: 0 | E24: 0 | F24: 0 | G24: 0 | H24: 0 | I24: 0 | J24: =AVERAGE(D24:I24) -> 0 | K24: =IF(J24="","Falta Nota",IF(J24<1.95,"B",IF(J24<2.95,"R",IF(J24<3.95,"A",IF(J24<=5,"E","nota>5,0"))))) -> B | L24: 0 | M24: 0 | N24: 0 | O24: 0 | P24: 0 | Q24: 0 | R24: =AVERAGE(L24:Q24) -> 0 | S24: =IF(R24="","Falta Nota",IF(R24<1.95,"B",IF(R24<2.95,"R",IF(R24<3.95,"A",IF(R24<=5,"E","nota>5,0"))))) -> B | T24: 0 | U24: 0 | V24: 0 | W24: 0 | X24: 0 | Y24: 0 | Z24: =AVERAGE(T24:Y24) -> 0 | AA24: =IF(Z24="","Falta Nota",IF(Z24<1.95,"B",IF(Z24<2.95,"R",IF(Z24<3.95,"A",IF(Z24<=5,"E","nota>5,0"))))) -> B
A25: 15 | D25: 0 | E25: 0 | F25: 0 | G25: 0 | H25: 0 | I25: 0 | J25: =AVERAGE(D25:I25) -> 0 | K25: =IF(J25="","Falta Nota",IF(J25<1.95,"B",IF(J25<2.95,"R",IF(J25<3.95,"A",IF(J25<=5,"E","nota>5,0"))))) -> B | L25: 0 | M25: 0 | N25: 0 | O25: 0 | P25: 0 | Q25: 0 | R25: =AVERAGE(L25:Q25) -> 0 | S25: =IF(R25="","Falta Nota",IF(R25<1.95,"B",IF(R25<2.95,"R",IF(R25<3.95,"A",IF(R25<=5,"E","nota>5,0"))))) -> B | T25: 0 | U25: 0 | V25: 0 | W25: 0 | X25: 0 | Y25: 0 | Z25: =AVERAGE(T25:Y25) -> 0 | AA25: =IF(Z25="","Falta Nota",IF(Z25<1.95,"B",IF(Z25<2.95,"R",IF(Z25<3.95,"A",IF(Z25<=5,"E","nota>5,0"))))) -> B
A26: 16 | D26: 0 | E26: 0 | F26: 0 | G26: 0 | H26: 0 | I26: 0 | J26: =AVERAGE(D26:I26) -> 0 | K26: =IF(J26="","Falta Nota",IF(J26<1.95,"B",IF(J26<2.95,"R",IF(J26<3.95,"A",IF(J26<=5,"E","nota>5,0"))))) -> B | L26: 0 | M26: 0 | N26: 0 | O26: 0 | P26: 0 | Q26: 0 | R26: =AVERAGE(L26:Q26) -> 0 | S26: =IF(R26="","Falta Nota",IF(R26<1.95,"B",IF(R26<2.95,"R",IF(R26<3.95,"A",IF(R26<=5,"E","nota>5,0"))))) -> B | T26: 0 | U26: 0 | V26: 0 | W26: 0 | X26: 0 | Y26: 0 | Z26: =AVERAGE(T26:Y26) -> 0 | AA26: =IF(Z26="","Falta Nota",IF(Z26<1.95,"B",IF(Z26<2.95,"R",IF(Z26<3.95,"A",IF(Z26<=5,"E","nota>5,0"))))) -> B
A27: 17 | D27: 0 | E27: 0 | F27: 0 | G27: 0 | H27: 0 | I27: 0 | J27: =AVERAGE(D27:I27) -> 0 | K27: =IF(J27="","Falta Nota",IF(J27<1.95,"B",IF(J27<2.95,"R",IF(J27<3.95,"A",IF(J27<=5,"E","nota>5,0"))))) -> B | L27: 0 | M27: 0 | N27: 0 | O27: 0 | P27: 0 | Q27: 0 | R27: =AVERAGE(L27:Q27) -> 0 | S27: =IF(R27="","Falta Nota",IF(R27<1.95,"B",IF(R27<2.95,"R",IF(R27<3.95,"A",IF(R27<=5,"E","nota>5,0"))))) -> B | T27: 0 | U27: 0 | V27: 0 | W27: 0 | X27: 0 | Y27: 0 | Z27: =AVERAGE(T27:Y27) -> 0 | AA27: =IF(Z27="","Falta Nota",IF(Z27<1.95,"B",IF(Z27<2.95,"R",IF(Z27<3.95,"A",IF(Z27<=5,"E","nota>5,0"))))) -> B
A28: 18 | D28: 0 | E28: 0 | F28: 0 | G28: 0 | H28: 0 | I28: 0 | J28: =AVERAGE(D28:I28) -> 0 | K28: =IF(J28="","Falta Nota",IF(J28<1.95,"B",IF(J28<2.95,"R",IF(J28<3.95,"A",IF(J28<=5,"E","nota>5,0"))))) -> B | L28: 0 | M28: 0 | N28: 0 | O28: 0 | P28: 0 | Q28: 0 | R28: =AVERAGE(L28:Q28) -> 0 | S28: =IF(R28="","Falta Nota",IF(R28<1.95,"B",IF(R28<2.95,"R",IF(R28<3.95,"A",IF(R28<=5,"E","nota>5,0"))))) -> B | T28: 0 | U28: 0 | V28: 0 | W28: 0 | X28: 0 | Y28: 0 | Z28: =AVERAGE(T28:Y28) -> 0 | AA28: =IF(Z28="","Falta Nota",IF(Z28<1.95,"B",IF(Z28<2.95,"R",IF(Z28<3.95,"A",IF(Z28<=5,"E","nota>5,0"))))) -> B | AI28: Seleccione la categoría que describe el comportamiento obtenido | AQ28: Seleccione la categoría que describe el comportamiento obtenido | AY28: Seleccione la categoría que describe el comportamiento obtenido
A29: 19 | D29: 0 | E29: 0 | F29: 0 | G29: 0 | H29: 0 | I29: 0 | J29: =AVERAGE(D29:I29) -> 0 | K29: =IF(J29="","Falta Nota",IF(J29<1.95,"B",IF(J29<2.95,"R",IF(J29<3.95,"A",IF(J29<=5,"E","nota>5,0"))))) -> B | L29: 0 | M29: 0 | N29: 0 | O29: 0 | P29: 0 | Q29: 0 | R29: =AVERAGE(L29:Q29) -> 0 | S29: =IF(R29="","Falta Nota",IF(R29<1.95,"B",IF(R29<2.95,"R",IF(R29<3.95,"A",IF(R29<=5,"E","nota>5,0"))))) -> B | T29: 0 | U29: 0 | V29: 0 | W29: 0 | X29: 0 | Y29: 0 | Z29: =AVERAGE(T29:Y29) -> 0 | AA29: =IF(Z29="","Falta Nota",IF(Z29<1.95,"B",IF(Z29<2.95,"R",IF(Z29<3.95,"A",IF(Z29<=5,"E","nota>5,0"))))) -> B | AD29: Mi2 RAE1 | AI29: Categorización | AL29: Mi2 RAE2 | AQ29: Categorización | AT29: Mi2 RAE3 | AY29: Categorización
A30: 20 | D30: 0 | E30: 0 | F30: 0 | G30: 0 | H30: 0 | I30: 0 | J30: =AVERAGE(D30:I30) -> 0 | K30: =IF(J30="","Falta Nota",IF(J30<1.95,"B",IF(J30<2.95,"R",IF(J30<3.95,"A",IF(J30<=5,"E","nota>5,0"))))) -> B | L30: 0 | M30: 0 | N30: 0 | O30: 0 | P30: 0 | Q30: 0 | R30: =AVERAGE(L30:Q30) -> 0 | S30: =IF(R30="","Falta Nota",IF(R30<1.95,"B",IF(R30<2.95,"R",IF(R30<3.95,"A",IF(R30<=5,"E","nota>5,0"))))) -> B | T30: 0 | U30: 0 | V30: 0 | W30: 0 | X30: 0 | Y30: 0 | Z30: =AVERAGE(T30:Y30) -> 0 | AA30: =IF(Z30="","Falta Nota",IF(Z30<1.95,"B",IF(Z30<2.95,"R",IF(Z30<3.95,"A",IF(Z30<=5,"E","nota>5,0"))))) -> B | AD30: B | AE30: R | AF30: A | AG30: E | AI30: C1a : Distribución favorable: Excelencia predominante | AL30: B | AM30: R | AN30: A | AO30: E | AQ30: C1a : Distribución favorable: Excelencia predominante | AT30: B | AU30: R | AV30: A | AW30: E | AY30: C1a : Distribución favorable: Excelencia predominante
A31: 21 | D31: 0 | E31: 0 | F31: 0 | G31: 0 | H31: 0 | I31: 0 | J31: =AVERAGE(D31:I31) -> 0 | K31: =IF(J31="","Falta Nota",IF(J31<1.95,"B",IF(J31<2.95,"R",IF(J31<3.95,"A",IF(J31<=5,"E","nota>5,0"))))) -> B | L31: 0 | M31: 0 | N31: 0 | O31: 0 | P31: 0 | Q31: 0 | R31: =AVERAGE(L31:Q31) -> 0 | S31: =IF(R31="","Falta Nota",IF(R31<1.95,"B",IF(R31<2.95,"R",IF(R31<3.95,"A",IF(R31<=5,"E","nota>5,0"))))) -> B | T31: 0 | U31: 0 | V31: 0 | W31: 0 | X31: 0 | Y31: 0 | Z31: =AVERAGE(T31:Y31) -> 0 | AA31: =IF(Z31="","Falta Nota",IF(Z31<1.95,"B",IF(Z31<2.95,"R",IF(Z31<3.95,"A",IF(Z31<=5,"E","nota>5,0"))))) -> B | AD31: =COUNTIF($D42:$I42,AD30) -> 6 | AE31: =COUNTIF($D42:$I42,AE30) -> 0 | AF31: =COUNTIF($D42:$I42,AF30) -> 0 | AG31: =COUNTIF($D42:$I42,AG30) -> 0 | AL31: =COUNTIF($L42:$Q42,AL30) -> 6 | AM31: =COUNTIF($L42:$Q42,AM30) -> 0 | AN31: =COUNTIF($L42:$Q42,AN30) -> 0 | AO31: =COUNTIF($L42:$Q42,AO30) -> 0 | AT31: =COUNTIF($T42:$Y42,AT30) -> 6 | AU31: =COUNTIF($T42:$Y42,AU30) -> 0 | AV31: =COUNTIF($T42:$Y42,AV30) -> 0 | AW31: =COUNTIF($T42:$Y42,AW30) -> 0
A32: 22 | D32: 0 | E32: 0 | F32: 0 | G32: 0 | H32: 0 | I32: 0 | J32: =AVERAGE(D32:I32) -> 0 | K32: =IF(J32="","Falta Nota",IF(J32<1.95,"B",IF(J32<2.95,"R",IF(J32<3.95,"A",IF(J32<=5,"E","nota>5,0"))))) -> B | L32: 0 | M32: 0 | N32: 0 | O32: 0 | P32: 0 | Q32: 0 | R32: =AVERAGE(L32:Q32) -> 0 | S32: =IF(R32="","Falta Nota",IF(R32<1.95,"B",IF(R32<2.95,"R",IF(R32<3.95,"A",IF(R32<=5,"E","nota>5,0"))))) -> B | T32: 0 | U32: 0 | V32: 0 | W32: 0 | X32: 0 | Y32: 0 | Z32: =AVERAGE(T32:Y32) -> 0 | AA32: =IF(Z32="","Falta Nota",IF(Z32<1.95,"B",IF(Z32<2.95,"R",IF(Z32<3.95,"A",IF(Z32<=5,"E","nota>5,0"))))) -> B
A33: 23 | D33: 0 | E33: 0 | F33: 0 | G33: 0 | H33: 0 | I33: 0 | J33: =AVERAGE(D33:I33) -> 0 | K33: =IF(J33="","Falta Nota",IF(J33<1.95,"B",IF(J33<2.95,"R",IF(J33<3.95,"A",IF(J33<=5,"E","nota>5,0"))))) -> B | L33: 0 | M33: 0 | N33: 0 | O33: 0 | P33: 0 | Q33: 0 | R33: =AVERAGE(L33:Q33) -> 0 | S33: =IF(R33="","Falta Nota",IF(R33<1.95,"B",IF(R33<2.95,"R",IF(R33<3.95,"A",IF(R33<=5,"E","nota>5,0"))))) -> B | T33: 0 | U33: 0 | V33: 0 | W33: 0 | X33: 0 | Y33: 0 | Z33: =AVERAGE(T33:Y33) -> 0 | AA33: =IF(Z33="","Falta Nota",IF(Z33<1.95,"B",IF(Z33<2.95,"R",IF(Z33<3.95,"A",IF(Z33<=5,"E","nota>5,0"))))) -> B
A34: 24 | D34: 0 | E34: 0 | F34: 0 | G34: 0 | H34: 0 | I34: 0 | J34: =AVERAGE(D34:I34) -> 0 | K34: =IF(J34="","Falta Nota",IF(J34<1.95,"B",IF(J34<2.95,"R",IF(J34<3.95,"A",IF(J34<=5,"E","nota>5,0"))))) -> B | L34: 0 | M34: 0 | N34: 0 | O34: 0 | P34: 0 | Q34: 0 | R34: =AVERAGE(L34:Q34) -> 0 | S34: =IF(R34="","Falta Nota",IF(R34<1.95,"B",IF(R34<2.95,"R",IF(R34<3.95,"A",IF(R34<=5,"E","nota>5,0"))))) -> B | T34: 0 | U34: 0 | V34: 0 | W34: 0 | X34: 0 | Y34: 0 | Z34: =AVERAGE(T34:Y34) -> 0 | AA34: =IF(Z34="","Falta Nota",IF(Z34<1.95,"B",IF(Z34<2.95,"R",IF(Z34<3.95,"A",IF(Z34<=5,"E","nota>5,0"))))) -> B
A35: 25 | D35: 0 | E35: 0 | F35: 0 | G35: 0 | H35: 0 | I35: 0 | J35: =AVERAGE(D35:I35) -> 0 | K35: =IF(J35="","Falta Nota",IF(J35<1.95,"B",IF(J35<2.95,"R",IF(J35<3.95,"A",IF(J35<=5,"E","nota>5,0"))))) -> B | L35: 0 | M35: 0 | N35: 0 | O35: 0 | P35: 0 | Q35: 0 | R35: =AVERAGE(L35:Q35) -> 0 | S35: =IF(R35="","Falta Nota",IF(R35<1.95,"B",IF(R35<2.95,"R",IF(R35<3.95,"A",IF(R35<=5,"E","nota>5,0"))))) -> B | T35: 0 | U35: 0 | V35: 0 | W35: 0 | X35: 0 | Y35: 0 | Z35: =AVERAGE(T35:Y35) -> 0 | AA35: =IF(Z35="","Falta Nota",IF(Z35<1.95,"B",IF(Z35<2.95,"R",IF(Z35<3.95,"A",IF(Z35<=5,"E","nota>5,0"))))) -> B
A36: 26 | D36: 0 | E36: 0 | F36: 0 | G36: 0 | H36: 0 | I36: 0 | J36: =AVERAGE(D36:I36) -> 0 | K36: =IF(J36="","Falta Nota",IF(J36<1.95,"B",IF(J36<2.95,"R",IF(J36<3.95,"A",IF(J36<=5,"E","nota>5,0"))))) -> B | L36: 0 | M36: 0 | N36: 0 | O36: 0 | P36: 0 | Q36: 0 | R36: =AVERAGE(L36:Q36) -> 0 | S36: =IF(R36="","Falta Nota",IF(R36<1.95,"B",IF(R36<2.95,"R",IF(R36<3.95,"A",IF(R36<=5,"E","nota>5,0"))))) -> B | T36: 0 | U36: 0 | V36: 0 | W36: 0 | X36: 0 | Y36: 0 | Z36: =AVERAGE(T36:Y36) -> 0 | AA36: =IF(Z36="","Falta Nota",IF(Z36<1.95,"B",IF(Z36<2.95,"R",IF(Z36<3.95,"A",IF(Z36<=5,"E","nota>5,0"))))) -> B
A37: 27 | D37: 0 | E37: 0 | F37: 0 | G37: 0 | H37: 0 | I37: 0 | J37: =AVERAGE(D37:I37) -> 0 | K37: =IF(J37="","Falta Nota",IF(J37<1.95,"B",IF(J37<2.95,"R",IF(J37<3.95,"A",IF(J37<=5,"E","nota>5,0"))))) -> B | L37: 0 | M37: 0 | N37: 0 | O37: 0 | P37: 0 | Q37: 0 | R37: =AVERAGE(L37:Q37) -> 0 | S37: =IF(R37="","Falta Nota",IF(R37<1.95,"B",IF(R37<2.95,"R",IF(R37<3.95,"A",IF(R37<=5,"E","nota>5,0"))))) -> B | T37: 0 | U37: 0 | V37: 0 | W37: 0 | X37: 0 | Y37: 0 | Z37: =AVERAGE(T37:Y37) -> 0 | AA37: =IF(Z37="","Falta Nota",IF(Z37<1.95,"B",IF(Z37<2.95,"R",IF(Z37<3.95,"A",IF(Z37<=5,"E","nota>5,0"))))) -> B
A38: 28 | D38: 0 | E38: 0 | F38: 0 | G38: 0 | H38: 0 | I38: 0 | J38: =AVERAGE(D38:I38) -> 0 | K38: =IF(J38="","Falta Nota",IF(J38<1.95,"B",IF(J38<2.95,"R",IF(J38<3.95,"A",IF(J38<=5,"E","nota>5,0"))))) -> B | L38: 0 | M38: 0 | N38: 0 | O38: 0 | P38: 0 | Q38: 0 | R38: =AVERAGE(L38:Q38) -> 0 | S38: =IF(R38="","Falta Nota",IF(R38<1.95,"B",IF(R38<2.95,"R",IF(R38<3.95,"A",IF(R38<=5,"E","nota>5,0"))))) -> B | T38: 0 | U38: 0 | V38: 0 | W38: 0 | X38: 0 | Y38: 0 | Z38: =AVERAGE(T38:Y38) -> 0 | AA38: =IF(Z38="","Falta Nota",IF(Z38<1.95,"B",IF(Z38<2.95,"R",IF(Z38<3.95,"A",IF(Z38<=5,"E","nota>5,0"))))) -> B
A39: 29 | D39: 0 | E39: 0 | F39: 0 | G39: 0 | H39: 0 | I39: 0 | J39: =AVERAGE(D39:I39) -> 0 | K39: =IF(J39="","Falta Nota",IF(J39<1.95,"B",IF(J39<2.95,"R",IF(J39<3.95,"A",IF(J39<=5,"E","nota>5,0"))))) -> B | L39: 0 | M39: 0 | N39: 0 | O39: 0 | P39: 0 | Q39: 0 | R39: =AVERAGE(L39:Q39) -> 0 | S39: =IF(R39="","Falta Nota",IF(R39<1.95,"B",IF(R39<2.95,"R",IF(R39<3.95,"A",IF(R39<=5,"E","nota>5,0"))))) -> B | T39: 0 | U39: 0 | V39: 0 | W39: 0 | X39: 0 | Y39: 0 | Z39: =AVERAGE(T39:Y39) -> 0 | AA39: =IF(Z39="","Falta Nota",IF(Z39<1.95,"B",IF(Z39<2.95,"R",IF(Z39<3.95,"A",IF(Z39<=5,"E","nota>5,0"))))) -> B
A40: 30 | D40: 0 | E40: 0 | F40: 0 | G40: 0 | H40: 0 | I40: 0 | J40: =AVERAGE(D40:I40) -> 0 | K40: =IF(J40="","Falta Nota",IF(J40<1.95,"B",IF(J40<2.95,"R",IF(J40<3.95,"A",IF(J40<=5,"E","nota>5,0"))))) -> B | L40: 0 | M40: 0 | N40: 0 | O40: 0 | P40: 0 | Q40: 0 | R40: =AVERAGE(L40:Q40) -> 0 | S40: =IF(R40="","Falta Nota",IF(R40<1.95,"B",IF(R40<2.95,"R",IF(R40<3.95,"A",IF(R40<=5,"E","nota>5,0"))))) -> B | T40: 0 | U40: 0 | V40: 0 | W40: 0 | X40: 0 | Y40: 0 | Z40: =AVERAGE(T40:Y40) -> 0 | AA40: =IF(Z40="","Falta Nota",IF(Z40<1.95,"B",IF(Z40<2.95,"R",IF(Z40<3.95,"A",IF(Z40<=5,"E","nota>5,0"))))) -> B
B41: Mi2 | D41: =AVERAGE(D11:D40) -> 0 | E41: =AVERAGE(E11:E40) -> 0 | F41: =AVERAGE(F11:F40) -> 0 | G41: =AVERAGE(G11:G40) -> 0 | H41: =AVERAGE(H11:H40) -> 0 | I41: =AVERAGE(I11:I40) -> 0 | L41: =AVERAGE(L11:L40) -> 0 | M41: =AVERAGE(M11:M40) -> 0 | N41: =AVERAGE(N11:N40) -> 0 | O41: =AVERAGE(O11:O40) -> 0 | P41: =AVERAGE(P11:P40) -> 0 | Q41: =AVERAGE(Q11:Q40) -> 0 | T41: =AVERAGE(T11:T40) -> 0 | U41: =AVERAGE(U11:U40) -> 0 | V41: =AVERAGE(V11:V40) -> 0 | W41: =AVERAGE(W11:W40) -> 0 | X41: =AVERAGE(X11:X40) -> 0 | Y41: =AVERAGE(Y11:Y40) -> 0
B42: Nivel M2 | D42: =IF(D41="","Falta Nota",IF(D41<1.95,"B",IF(D41<2.95,"R",IF(D41<3.95,"A",IF(D41<=5,"E","nota>5,0"))))) -> B | E42: =IF(E41="","Falta Nota",IF(E41<1.95,"B",IF(E41<2.95,"R",IF(E41<3.95,"A",IF(E41<=5,"E","nota>5,0"))))) -> B | F42: =IF(F41="","Falta Nota",IF(F41<1.95,"B",IF(F41<2.95,"R",IF(F41<3.95,"A",IF(F41<=5,"E","nota>5,0"))))) -> B | G42: =IF(G41="","Falta Nota",IF(G41<1.95,"B",IF(G41<2.95,"R",IF(G41<3.95,"A",IF(G41<=5,"E","nota>5,0"))))) -> B | H42: =IF(H41="","Falta Nota",IF(H41<1.95,"B",IF(H41<2.95,"R",IF(H41<3.95,"A",IF(H41<=5,"E","nota>5,0"))))) -> B | I42: =IF(I41="","Falta Nota",IF(I41<1.95,"B",IF(I41<2.95,"R",IF(I41<3.95,"A",IF(I41<=5,"E","nota>5,0"))))) -> B | L42: =IF(L41="","Falta Nota",IF(L41<1.95,"B",IF(L41<2.95,"R",IF(L41<3.95,"A",IF(L41<=5,"E","nota>5,0"))))) -> B | M42: =IF(M41="","Falta Nota",IF(M41<1.95,"B",IF(M41<2.95,"R",IF(M41<3.95,"A",IF(M41<=5,"E","nota>5,0"))))) -> B | N42: =IF(N41="","Falta Nota",IF(N41<1.95,"B",IF(N41<2.95,"R",IF(N41<3.95,"A",IF(N41<=5,"E","nota>5,0"))))) -> B | O42: =IF(O41="","Falta Nota",IF(O41<1.95,"B",IF(O41<2.95,"R",IF(O41<3.95,"A",IF(O41<=5,"E","nota>5,0"))))) -> B | P42: =IF(P41="","Falta Nota",IF(P41<1.95,"B",IF(P41<2.95,"R",IF(P41<3.95,"A",IF(P41<=5,"E","nota>5,0"))))) -> B | Q42: =IF(Q41="","Falta Nota",IF(Q41<1.95,"B",IF(Q41<2.95,"R",IF(Q41<3.95,"A",IF(Q41<=5,"E","nota>5,0"))))) -> B | T42: =IF(T41="","Falta Nota",IF(T41<1.95,"B",IF(T41<2.95,"R",IF(T41<3.95,"A",IF(T41<=5,"E","nota>5,0"))))) -> B | U42: =IF(U41="","Falta Nota",IF(U41<1.95,"B",IF(U41<2.95,"R",IF(U41<3.95,"A",IF(U41<=5,"E","nota>5,0"))))) -> B | V42: =IF(V41="","Falta Nota",IF(V41<1.95,"B",IF(V41<2.95,"R",IF(V41<3.95,"A",IF(V41<=5,"E","nota>5,0"))))) -> B | W42: =IF(W41="","Falta Nota",IF(W41<1.95,"B",IF(W41<2.95,"R",IF(W41<3.95,"A",IF(W41<=5,"E","nota>5,0"))))) -> B | X42: =IF(X41="","Falta Nota",IF(X41<1.95,"B",IF(X41<2.95,"R",IF(X41<3.95,"A",IF(X41<=5,"E","nota>5,0"))))) -> B | Y42: =IF(Y41="","Falta Nota",IF(Y41<1.95,"B",IF(Y41<2.95,"R",IF(Y41<3.95,"A",IF(Y41<=5,"E","nota>5,0"))))) -> B

Sheet Indicador Mi1
B2: SISTEMA DE ASEGURAMIENTO DE RESULTADOS DE APRENDIZAJE - SARA ANÁLISIS INDICADOR Mi1
B6: Profesor: | C6: ='Asignatura 1 G1'!B7 -> Nombre completo del profesor | M6: Periodo | N6: ='Asignatura 1 G1'!Y7 -> 202X-A/B
B8: Asignatura | C8: Grupo | D8: Mi1 RAE1 | H8: Mi1 RAE2 | L8: Mi1 RAE3
D9: Bajo | E9: Regular | F9: Aceptable | G9: Excelente | H9: Bajo | I9: Regular | J9: Aceptable | K9: Excelente | L9: Bajo | M9: Regular | N9: Aceptable | O9: Excelente | P9: Diligenciar en momento 2
A10: 1 | B10: ='Asignatura 1 G1'!L7 -> Nombre de la asignatura (Q10) | C10: ='Asignatura 1 G1'!R7 -> No. de grupo (Q10) | D10: ='Asignatura 1 G1'!AC11 -> 30 | E10: ='Asignatura 1 G1'!AD11 -> 0 | F10: ='Asignatura 1 G1'!AE11 -> 0 | G10: ='Asignatura 1 G1'!AF11 -> 0 | H10: ='Asignatura 1 G1'!AK11 -> 30 | I10: ='Asignatura 1 G1'!AL11 -> 0 | J10: ='Asignatura 1 G1'!AM11 -> 0 | K10: ='Asignatura 1 G1'!AN11 -> 0 | L10: ='Asignatura 1 G1'!AS11 -> 30 | M10: ='Asignatura 1 G1'!AT11 -> 0 | N10: ='Asignatura 1 G1'!AU11 -> 0 | O10: ='Asignatura 1 G1'!AV11 -> 0 | P10: Numero Total de RAEs evaluados (No.F) | Q10: 1
A11: 2 | B11: ='Asignatura 2 G2'!M6 -> Nombre de la asignatura (Q10) | C11: ='Asignatura 2 G2'!S6 -> No. de grupo (Q10) | D11: ='Asignatura 2 G2'!AD10 -> 30 | E11: ='Asignatura 2 G2'!AE10 -> 0 | F11: ='Asignatura 2 G2'!AF10 -> 0 | G11: ='Asignatura 2 G2'!AG10 -> 0 | H11: ='Asignatura 2 G2'!AM10 -> 30 | I11: ='Asignatura 2 G2'!AN10 -> 0 | J11: ='Asignatura 2 G2'!AO10 -> 0 | K11: ='Asignatura 2 G2'!AP10 -> 0 | L11: ='Asignatura 2 G2'!AV10 -> 30 | M11: ='Asignatura 2 G2'!AW10 -> 0 | N11: ='Asignatura 2 G2'!AX10 -> 0 | O11: ='Asignatura 2 G2'!AY10 -> 0 | P11: Numero Total de RAEs en categoria Favorable C1 (T) | Q11: 1
A12: 3 | B12: ='Asignatura 3 G3'!M6 -> Nombre de la asignatura (Q10) | C12: ='Asignatura 3 G3'!S6 -> No. de grupo (Q10) | D12: ='Asignatura 3 G3'!AD10 -> 30 | E12: ='Asignatura 3 G3'!AE10 -> 0 | F12: ='Asignatura 3 G3'!AF10 -> 0 | G12: ='Asignatura 3 G3'!AG10 -> 0 | H12: ='Asignatura 3 G3'!AL10 -> 30 | I12: ='Asignatura 3 G3'!AM10 -> 0 | J12: ='Asignatura 3 G3'!AN10 -> 0 | K12: ='Asignatura 3 G3'!AO10 -> 0 | L12: ='Asignatura 3 G3'!AT10 -> 30 | M12: ='Asignatura 3 G3'!AU10 -> 0 | N12: ='Asignatura 3 G3'!AV10 -> 0 | O12: ='Asignatura 3 G3'!AW10 -> 0 | P12: No.F/T | Q12: =Q11/Q10 -> 1
A13: 4 | B13: ='Asignatura 4 G4'!M6 -> Nombre de la asignatura (Q10) | C13: ='Asignatura 4 G4'!S6 -> No. de grupo (Q10) | D13: ='Asignatura 4 G4'!AD10 -> 30 | E13: ='Asignatura 4 G4'!AE10 -> 0 | F13: ='Asignatura 4 G4'!AF10 -> 0 | G13: ='Asignatura 4 G4'!AG10 -> 0 | H13: ='Asignatura 4 G4'!AL10 -> 30 | I13: ='Asignatura 4 G4'!AM10 -> 0 | J13: ='Asignatura 4 G4'!AN10 -> 0 | K13: ='Asignatura 4 G4'!AO10 -> 0 | L13: ='Asignatura 4 G4'!AT10 -> 30 | M13: ='Asignatura 4 G4'!AU10 -> 0 | N13: ='Asignatura 4 G4'!AV10 -> 0 | O13: ='Asignatura 4 G4'!AW10 -> 0
A14: 5 | B14: ='Asignatura 5 G5'!M6 -> Nombre de la asignatura (Q10) | C14: ='Asignatura 5 G5'!S6 -> No. de grupo (Q10) | D14: ='Asignatura 5 G5'!AD10 -> 30 | E14: ='Asignatura 5 G5'!AE10 -> 0 | F14: ='Asignatura 5 G5'!AF10 -> 0 | G14: ='Asignatura 5 G5'!AG10 -> 0 | H14: ='Asignatura 5 G5'!AL10 -> 30 | I14: ='Asignatura 5 G5'!AM10 -> 0 | J14: ='Asignatura 5 G5'!AN10 -> 0 | K14: ='Asignatura 5 G5'!AO10 -> 0 | L14: ='Asignatura 5 G5'!AT10 -> 30 | M14: ='Asignatura 5 G5'!AU10 -> 0 | N14: ='Asignatura 5 G5'!AV10 -> 0 | O14: ='Asignatura 5 G5'!AW10 -> 0
